BEGIN:VCALENDAR
VERSION:2.0
PRODID:-//GO Latin Dance - ECPv6.15.18//NONSGML v1.0//EN
CALSCALE:GREGORIAN
METHOD:PUBLISH
X-ORIGINAL-URL:https://golatindance.com
X-WR-CALDESC:Events for GO Latin Dance
REFRESH-INTERVAL;VALUE=DURATION:PT1H
X-Robots-Tag:noindex
X-PUBLISHED-TTL:PT1H
BEGIN:VTIMEZONE
TZID:America/New_York
BEGIN:DAYLIGHT
TZOFFSETFROM:-0500
TZOFFSETTO:-0400
TZNAME:EDT
DTSTART:20270314T070000
END:DAYLIGHT
BEGIN:STANDARD
TZOFFSETFROM:-0400
TZOFFSETTO:-0500
TZNAME:EST
DTSTART:20271107T060000
END:STANDARD
BEGIN:DAYLIGHT
TZOFFSETFROM:-0500
TZOFFSETTO:-0400
TZNAME:EDT
DTSTART:20280312T070000
END:DAYLIGHT
BEGIN:STANDARD
TZOFFSETFROM:-0400
TZOFFSETTO:-0500
TZNAME:EST
DTSTART:20281105T060000
END:STANDARD
BEGIN:DAYLIGHT
TZOFFSETFROM:-0500
TZOFFSETTO:-0400
TZNAME:EDT
DTSTART:20290311T070000
END:DAYLIGHT
BEGIN:STANDARD
TZOFFSETFROM:-0400
TZOFFSETTO:-0500
TZNAME:EST
DTSTART:20291104T060000
END:STANDARD
BEGIN:DAYLIGHT
TZOFFSETFROM:-0500
TZOFFSETTO:-0400
TZNAME:EDT
DTSTART:20300310T070000
END:DAYLIGHT
BEGIN:STANDARD
TZOFFSETFROM:-0400
TZOFFSETTO:-0500
TZNAME:EST
DTSTART:20301103T060000
END:STANDARD
END:VTIMEZONE
BEGIN:VEVENT
DTSTART;TZID=America/New_York:20281226T190000
DTEND;TZID=America/New_York:20281226T230000
DTSTAMP:20260421T002636
CREATED:20241001T165053Z
LAST-MODIFIED:20241001T170011Z
UID:10306941-1861470000-1861484400@golatindance.com
SUMMARY:Salsa Bachata Night at Rendezvous
DESCRIPTION:Salsa Bachata Night at Rendezvous. See flyer for details.
URL:https://golatindance.com/event/salsa-bachata-night-at-rendezvous/2028-12-26/
LOCATION:Rais Rendezvous\, 44042 Pipeline Plaza\, Ashburn\, VA\, United States
CATEGORIES:Washington DC-Baltimore
ATTACH;FMTTYPE=image/jpeg:https://golatindance.com/wp-content/uploads/2024/10/461693778_10161572746629030_6205992527391762863_n.jpg
END:VEVENT
BEGIN:VEVENT
DTSTART;TZID=America/New_York:20290102T190000
DTEND;TZID=America/New_York:20290102T230000
DTSTAMP:20260421T002636
CREATED:20241001T165053Z
LAST-MODIFIED:20241001T170011Z
UID:10306942-1862074800-1862089200@golatindance.com
SUMMARY:Salsa Bachata Night at Rendezvous
DESCRIPTION:Salsa Bachata Night at Rendezvous. See flyer for details.
URL:https://golatindance.com/event/salsa-bachata-night-at-rendezvous/2029-01-02/
LOCATION:Rais Rendezvous\, 44042 Pipeline Plaza\, Ashburn\, VA\, United States
CATEGORIES:Washington DC-Baltimore
ATTACH;FMTTYPE=image/jpeg:https://golatindance.com/wp-content/uploads/2024/10/461693778_10161572746629030_6205992527391762863_n.jpg
END:VEVENT
BEGIN:VEVENT
DTSTART;TZID=America/New_York:20290109T190000
DTEND;TZID=America/New_York:20290109T230000
DTSTAMP:20260421T002636
CREATED:20241001T165053Z
LAST-MODIFIED:20241001T170011Z
UID:10306943-1862679600-1862694000@golatindance.com
SUMMARY:Salsa Bachata Night at Rendezvous
DESCRIPTION:Salsa Bachata Night at Rendezvous. See flyer for details.
URL:https://golatindance.com/event/salsa-bachata-night-at-rendezvous/2029-01-09/
LOCATION:Rais Rendezvous\, 44042 Pipeline Plaza\, Ashburn\, VA\, United States
CATEGORIES:Washington DC-Baltimore
ATTACH;FMTTYPE=image/jpeg:https://golatindance.com/wp-content/uploads/2024/10/461693778_10161572746629030_6205992527391762863_n.jpg
END:VEVENT
BEGIN:VEVENT
DTSTART;TZID=America/New_York:20290116T190000
DTEND;TZID=America/New_York:20290116T230000
DTSTAMP:20260421T002636
CREATED:20241001T165053Z
LAST-MODIFIED:20241001T170011Z
UID:10306944-1863284400-1863298800@golatindance.com
SUMMARY:Salsa Bachata Night at Rendezvous
DESCRIPTION:Salsa Bachata Night at Rendezvous. See flyer for details.
URL:https://golatindance.com/event/salsa-bachata-night-at-rendezvous/2029-01-16/
LOCATION:Rais Rendezvous\, 44042 Pipeline Plaza\, Ashburn\, VA\, United States
CATEGORIES:Washington DC-Baltimore
ATTACH;FMTTYPE=image/jpeg:https://golatindance.com/wp-content/uploads/2024/10/461693778_10161572746629030_6205992527391762863_n.jpg
END:VEVENT
BEGIN:VEVENT
DTSTART;TZID=America/New_York:20290123T190000
DTEND;TZID=America/New_York:20290123T230000
DTSTAMP:20260421T002636
CREATED:20241001T165053Z
LAST-MODIFIED:20241001T170011Z
UID:10306945-1863889200-1863903600@golatindance.com
SUMMARY:Salsa Bachata Night at Rendezvous
DESCRIPTION:Salsa Bachata Night at Rendezvous. See flyer for details.
URL:https://golatindance.com/event/salsa-bachata-night-at-rendezvous/2029-01-23/
LOCATION:Rais Rendezvous\, 44042 Pipeline Plaza\, Ashburn\, VA\, United States
CATEGORIES:Washington DC-Baltimore
ATTACH;FMTTYPE=image/jpeg:https://golatindance.com/wp-content/uploads/2024/10/461693778_10161572746629030_6205992527391762863_n.jpg
END:VEVENT
BEGIN:VEVENT
DTSTART;TZID=America/New_York:20290130T190000
DTEND;TZID=America/New_York:20290130T230000
DTSTAMP:20260421T002636
CREATED:20241001T165053Z
LAST-MODIFIED:20241001T170011Z
UID:10306946-1864494000-1864508400@golatindance.com
SUMMARY:Salsa Bachata Night at Rendezvous
DESCRIPTION:Salsa Bachata Night at Rendezvous. See flyer for details.
URL:https://golatindance.com/event/salsa-bachata-night-at-rendezvous/2029-01-30/
LOCATION:Rais Rendezvous\, 44042 Pipeline Plaza\, Ashburn\, VA\, United States
CATEGORIES:Washington DC-Baltimore
ATTACH;FMTTYPE=image/jpeg:https://golatindance.com/wp-content/uploads/2024/10/461693778_10161572746629030_6205992527391762863_n.jpg
END:VEVENT
BEGIN:VEVENT
DTSTART;TZID=America/New_York:20290206T190000
DTEND;TZID=America/New_York:20290206T230000
DTSTAMP:20260421T002636
CREATED:20241001T165053Z
LAST-MODIFIED:20241001T170011Z
UID:10306947-1865098800-1865113200@golatindance.com
SUMMARY:Salsa Bachata Night at Rendezvous
DESCRIPTION:Salsa Bachata Night at Rendezvous. See flyer for details.
URL:https://golatindance.com/event/salsa-bachata-night-at-rendezvous/2029-02-06/
LOCATION:Rais Rendezvous\, 44042 Pipeline Plaza\, Ashburn\, VA\, United States
CATEGORIES:Washington DC-Baltimore
ATTACH;FMTTYPE=image/jpeg:https://golatindance.com/wp-content/uploads/2024/10/461693778_10161572746629030_6205992527391762863_n.jpg
END:VEVENT
BEGIN:VEVENT
DTSTART;TZID=America/New_York:20290213T190000
DTEND;TZID=America/New_York:20290213T230000
DTSTAMP:20260421T002636
CREATED:20241001T165053Z
LAST-MODIFIED:20241001T170011Z
UID:10306948-1865703600-1865718000@golatindance.com
SUMMARY:Salsa Bachata Night at Rendezvous
DESCRIPTION:Salsa Bachata Night at Rendezvous. See flyer for details.
URL:https://golatindance.com/event/salsa-bachata-night-at-rendezvous/2029-02-13/
LOCATION:Rais Rendezvous\, 44042 Pipeline Plaza\, Ashburn\, VA\, United States
CATEGORIES:Washington DC-Baltimore
ATTACH;FMTTYPE=image/jpeg:https://golatindance.com/wp-content/uploads/2024/10/461693778_10161572746629030_6205992527391762863_n.jpg
END:VEVENT
BEGIN:VEVENT
DTSTART;TZID=America/New_York:20290220T190000
DTEND;TZID=America/New_York:20290220T230000
DTSTAMP:20260421T002636
CREATED:20241001T165053Z
LAST-MODIFIED:20241001T170011Z
UID:10306949-1866308400-1866322800@golatindance.com
SUMMARY:Salsa Bachata Night at Rendezvous
DESCRIPTION:Salsa Bachata Night at Rendezvous. See flyer for details.
URL:https://golatindance.com/event/salsa-bachata-night-at-rendezvous/2029-02-20/
LOCATION:Rais Rendezvous\, 44042 Pipeline Plaza\, Ashburn\, VA\, United States
CATEGORIES:Washington DC-Baltimore
ATTACH;FMTTYPE=image/jpeg:https://golatindance.com/wp-content/uploads/2024/10/461693778_10161572746629030_6205992527391762863_n.jpg
END:VEVENT
BEGIN:VEVENT
DTSTART;TZID=America/New_York:20290227T190000
DTEND;TZID=America/New_York:20290227T230000
DTSTAMP:20260421T002636
CREATED:20241001T165053Z
LAST-MODIFIED:20241001T170011Z
UID:10306950-1866913200-1866927600@golatindance.com
SUMMARY:Salsa Bachata Night at Rendezvous
DESCRIPTION:Salsa Bachata Night at Rendezvous. See flyer for details.
URL:https://golatindance.com/event/salsa-bachata-night-at-rendezvous/2029-02-27/
LOCATION:Rais Rendezvous\, 44042 Pipeline Plaza\, Ashburn\, VA\, United States
CATEGORIES:Washington DC-Baltimore
ATTACH;FMTTYPE=image/jpeg:https://golatindance.com/wp-content/uploads/2024/10/461693778_10161572746629030_6205992527391762863_n.jpg
END:VEVENT
BEGIN:VEVENT
DTSTART;TZID=America/New_York:20290306T190000
DTEND;TZID=America/New_York:20290306T230000
DTSTAMP:20260421T002636
CREATED:20241001T165053Z
LAST-MODIFIED:20241001T170011Z
UID:10306951-1867518000-1867532400@golatindance.com
SUMMARY:Salsa Bachata Night at Rendezvous
DESCRIPTION:Salsa Bachata Night at Rendezvous. See flyer for details.
URL:https://golatindance.com/event/salsa-bachata-night-at-rendezvous/2029-03-06/
LOCATION:Rais Rendezvous\, 44042 Pipeline Plaza\, Ashburn\, VA\, United States
CATEGORIES:Washington DC-Baltimore
ATTACH;FMTTYPE=image/jpeg:https://golatindance.com/wp-content/uploads/2024/10/461693778_10161572746629030_6205992527391762863_n.jpg
END:VEVENT
BEGIN:VEVENT
DTSTART;TZID=America/New_York:20290313T190000
DTEND;TZID=America/New_York:20290313T230000
DTSTAMP:20260421T002636
CREATED:20241001T165053Z
LAST-MODIFIED:20241001T170011Z
UID:10306952-1868122800-1868137200@golatindance.com
SUMMARY:Salsa Bachata Night at Rendezvous
DESCRIPTION:Salsa Bachata Night at Rendezvous. See flyer for details.
URL:https://golatindance.com/event/salsa-bachata-night-at-rendezvous/2029-03-13/
LOCATION:Rais Rendezvous\, 44042 Pipeline Plaza\, Ashburn\, VA\, United States
CATEGORIES:Washington DC-Baltimore
ATTACH;FMTTYPE=image/jpeg:https://golatindance.com/wp-content/uploads/2024/10/461693778_10161572746629030_6205992527391762863_n.jpg
END:VEVENT
BEGIN:VEVENT
DTSTART;TZID=America/New_York:20290320T190000
DTEND;TZID=America/New_York:20290320T230000
DTSTAMP:20260421T002636
CREATED:20241001T165053Z
LAST-MODIFIED:20241001T170011Z
UID:10306953-1868727600-1868742000@golatindance.com
SUMMARY:Salsa Bachata Night at Rendezvous
DESCRIPTION:Salsa Bachata Night at Rendezvous. See flyer for details.
URL:https://golatindance.com/event/salsa-bachata-night-at-rendezvous/2029-03-20/
LOCATION:Rais Rendezvous\, 44042 Pipeline Plaza\, Ashburn\, VA\, United States
CATEGORIES:Washington DC-Baltimore
ATTACH;FMTTYPE=image/jpeg:https://golatindance.com/wp-content/uploads/2024/10/461693778_10161572746629030_6205992527391762863_n.jpg
END:VEVENT
BEGIN:VEVENT
DTSTART;TZID=America/New_York:20290327T190000
DTEND;TZID=America/New_York:20290327T230000
DTSTAMP:20260421T002636
CREATED:20241001T165053Z
LAST-MODIFIED:20241001T170011Z
UID:10306954-1869332400-1869346800@golatindance.com
SUMMARY:Salsa Bachata Night at Rendezvous
DESCRIPTION:Salsa Bachata Night at Rendezvous. See flyer for details.
URL:https://golatindance.com/event/salsa-bachata-night-at-rendezvous/2029-03-27/
LOCATION:Rais Rendezvous\, 44042 Pipeline Plaza\, Ashburn\, VA\, United States
CATEGORIES:Washington DC-Baltimore
ATTACH;FMTTYPE=image/jpeg:https://golatindance.com/wp-content/uploads/2024/10/461693778_10161572746629030_6205992527391762863_n.jpg
END:VEVENT
BEGIN:VEVENT
DTSTART;TZID=America/New_York:20290403T190000
DTEND;TZID=America/New_York:20290403T230000
DTSTAMP:20260421T002636
CREATED:20241001T165053Z
LAST-MODIFIED:20241001T170011Z
UID:10306955-1869937200-1869951600@golatindance.com
SUMMARY:Salsa Bachata Night at Rendezvous
DESCRIPTION:Salsa Bachata Night at Rendezvous. See flyer for details.
URL:https://golatindance.com/event/salsa-bachata-night-at-rendezvous/2029-04-03/
LOCATION:Rais Rendezvous\, 44042 Pipeline Plaza\, Ashburn\, VA\, United States
CATEGORIES:Washington DC-Baltimore
ATTACH;FMTTYPE=image/jpeg:https://golatindance.com/wp-content/uploads/2024/10/461693778_10161572746629030_6205992527391762863_n.jpg
END:VEVENT
BEGIN:VEVENT
DTSTART;TZID=America/New_York:20290410T190000
DTEND;TZID=America/New_York:20290410T230000
DTSTAMP:20260421T002636
CREATED:20241001T165053Z
LAST-MODIFIED:20241001T170011Z
UID:10306956-1870542000-1870556400@golatindance.com
SUMMARY:Salsa Bachata Night at Rendezvous
DESCRIPTION:Salsa Bachata Night at Rendezvous. See flyer for details.
URL:https://golatindance.com/event/salsa-bachata-night-at-rendezvous/2029-04-10/
LOCATION:Rais Rendezvous\, 44042 Pipeline Plaza\, Ashburn\, VA\, United States
CATEGORIES:Washington DC-Baltimore
ATTACH;FMTTYPE=image/jpeg:https://golatindance.com/wp-content/uploads/2024/10/461693778_10161572746629030_6205992527391762863_n.jpg
END:VEVENT
BEGIN:VEVENT
DTSTART;TZID=America/New_York:20290417T190000
DTEND;TZID=America/New_York:20290417T230000
DTSTAMP:20260421T002636
CREATED:20241001T165053Z
LAST-MODIFIED:20241001T170011Z
UID:10306957-1871146800-1871161200@golatindance.com
SUMMARY:Salsa Bachata Night at Rendezvous
DESCRIPTION:Salsa Bachata Night at Rendezvous. See flyer for details.
URL:https://golatindance.com/event/salsa-bachata-night-at-rendezvous/2029-04-17/
LOCATION:Rais Rendezvous\, 44042 Pipeline Plaza\, Ashburn\, VA\, United States
CATEGORIES:Washington DC-Baltimore
ATTACH;FMTTYPE=image/jpeg:https://golatindance.com/wp-content/uploads/2024/10/461693778_10161572746629030_6205992527391762863_n.jpg
END:VEVENT
BEGIN:VEVENT
DTSTART;TZID=America/New_York:20290424T190000
DTEND;TZID=America/New_York:20290424T230000
DTSTAMP:20260421T002636
CREATED:20241001T165053Z
LAST-MODIFIED:20241001T170011Z
UID:10306958-1871751600-1871766000@golatindance.com
SUMMARY:Salsa Bachata Night at Rendezvous
DESCRIPTION:Salsa Bachata Night at Rendezvous. See flyer for details.
URL:https://golatindance.com/event/salsa-bachata-night-at-rendezvous/2029-04-24/
LOCATION:Rais Rendezvous\, 44042 Pipeline Plaza\, Ashburn\, VA\, United States
CATEGORIES:Washington DC-Baltimore
ATTACH;FMTTYPE=image/jpeg:https://golatindance.com/wp-content/uploads/2024/10/461693778_10161572746629030_6205992527391762863_n.jpg
END:VEVENT
BEGIN:VEVENT
DTSTART;TZID=America/New_York:20290501T190000
DTEND;TZID=America/New_York:20290501T230000
DTSTAMP:20260421T002636
CREATED:20241001T165053Z
LAST-MODIFIED:20241001T170011Z
UID:10306959-1872356400-1872370800@golatindance.com
SUMMARY:Salsa Bachata Night at Rendezvous
DESCRIPTION:Salsa Bachata Night at Rendezvous. See flyer for details.
URL:https://golatindance.com/event/salsa-bachata-night-at-rendezvous/2029-05-01/
LOCATION:Rais Rendezvous\, 44042 Pipeline Plaza\, Ashburn\, VA\, United States
CATEGORIES:Washington DC-Baltimore
ATTACH;FMTTYPE=image/jpeg:https://golatindance.com/wp-content/uploads/2024/10/461693778_10161572746629030_6205992527391762863_n.jpg
END:VEVENT
BEGIN:VEVENT
DTSTART;TZID=America/New_York:20290508T190000
DTEND;TZID=America/New_York:20290508T230000
DTSTAMP:20260421T002636
CREATED:20241001T165053Z
LAST-MODIFIED:20241001T170011Z
UID:10306960-1872961200-1872975600@golatindance.com
SUMMARY:Salsa Bachata Night at Rendezvous
DESCRIPTION:Salsa Bachata Night at Rendezvous. See flyer for details.
URL:https://golatindance.com/event/salsa-bachata-night-at-rendezvous/2029-05-08/
LOCATION:Rais Rendezvous\, 44042 Pipeline Plaza\, Ashburn\, VA\, United States
CATEGORIES:Washington DC-Baltimore
ATTACH;FMTTYPE=image/jpeg:https://golatindance.com/wp-content/uploads/2024/10/461693778_10161572746629030_6205992527391762863_n.jpg
END:VEVENT
BEGIN:VEVENT
DTSTART;TZID=America/New_York:20290515T190000
DTEND;TZID=America/New_York:20290515T230000
DTSTAMP:20260421T002636
CREATED:20241001T165053Z
LAST-MODIFIED:20241001T170011Z
UID:10306961-1873566000-1873580400@golatindance.com
SUMMARY:Salsa Bachata Night at Rendezvous
DESCRIPTION:Salsa Bachata Night at Rendezvous. See flyer for details.
URL:https://golatindance.com/event/salsa-bachata-night-at-rendezvous/2029-05-15/
LOCATION:Rais Rendezvous\, 44042 Pipeline Plaza\, Ashburn\, VA\, United States
CATEGORIES:Washington DC-Baltimore
ATTACH;FMTTYPE=image/jpeg:https://golatindance.com/wp-content/uploads/2024/10/461693778_10161572746629030_6205992527391762863_n.jpg
END:VEVENT
BEGIN:VEVENT
DTSTART;TZID=America/New_York:20290522T190000
DTEND;TZID=America/New_York:20290522T230000
DTSTAMP:20260421T002636
CREATED:20241001T165053Z
LAST-MODIFIED:20241001T170011Z
UID:10306962-1874170800-1874185200@golatindance.com
SUMMARY:Salsa Bachata Night at Rendezvous
DESCRIPTION:Salsa Bachata Night at Rendezvous. See flyer for details.
URL:https://golatindance.com/event/salsa-bachata-night-at-rendezvous/2029-05-22/
LOCATION:Rais Rendezvous\, 44042 Pipeline Plaza\, Ashburn\, VA\, United States
CATEGORIES:Washington DC-Baltimore
ATTACH;FMTTYPE=image/jpeg:https://golatindance.com/wp-content/uploads/2024/10/461693778_10161572746629030_6205992527391762863_n.jpg
END:VEVENT
BEGIN:VEVENT
DTSTART;TZID=America/New_York:20290529T190000
DTEND;TZID=America/New_York:20290529T230000
DTSTAMP:20260421T002636
CREATED:20241001T165053Z
LAST-MODIFIED:20241001T170011Z
UID:10306963-1874775600-1874790000@golatindance.com
SUMMARY:Salsa Bachata Night at Rendezvous
DESCRIPTION:Salsa Bachata Night at Rendezvous. See flyer for details.
URL:https://golatindance.com/event/salsa-bachata-night-at-rendezvous/2029-05-29/
LOCATION:Rais Rendezvous\, 44042 Pipeline Plaza\, Ashburn\, VA\, United States
CATEGORIES:Washington DC-Baltimore
ATTACH;FMTTYPE=image/jpeg:https://golatindance.com/wp-content/uploads/2024/10/461693778_10161572746629030_6205992527391762863_n.jpg
END:VEVENT
BEGIN:VEVENT
DTSTART;TZID=America/New_York:20290605T190000
DTEND;TZID=America/New_York:20290605T230000
DTSTAMP:20260421T002636
CREATED:20241001T165053Z
LAST-MODIFIED:20241001T170011Z
UID:10306964-1875380400-1875394800@golatindance.com
SUMMARY:Salsa Bachata Night at Rendezvous
DESCRIPTION:Salsa Bachata Night at Rendezvous. See flyer for details.
URL:https://golatindance.com/event/salsa-bachata-night-at-rendezvous/2029-06-05/
LOCATION:Rais Rendezvous\, 44042 Pipeline Plaza\, Ashburn\, VA\, United States
CATEGORIES:Washington DC-Baltimore
ATTACH;FMTTYPE=image/jpeg:https://golatindance.com/wp-content/uploads/2024/10/461693778_10161572746629030_6205992527391762863_n.jpg
END:VEVENT
BEGIN:VEVENT
DTSTART;TZID=America/New_York:20290612T190000
DTEND;TZID=America/New_York:20290612T230000
DTSTAMP:20260421T002636
CREATED:20241001T165053Z
LAST-MODIFIED:20241001T170011Z
UID:10306965-1875985200-1875999600@golatindance.com
SUMMARY:Salsa Bachata Night at Rendezvous
DESCRIPTION:Salsa Bachata Night at Rendezvous. See flyer for details.
URL:https://golatindance.com/event/salsa-bachata-night-at-rendezvous/2029-06-12/
LOCATION:Rais Rendezvous\, 44042 Pipeline Plaza\, Ashburn\, VA\, United States
CATEGORIES:Washington DC-Baltimore
ATTACH;FMTTYPE=image/jpeg:https://golatindance.com/wp-content/uploads/2024/10/461693778_10161572746629030_6205992527391762863_n.jpg
END:VEVENT
BEGIN:VEVENT
DTSTART;TZID=America/New_York:20290619T190000
DTEND;TZID=America/New_York:20290619T230000
DTSTAMP:20260421T002636
CREATED:20241001T165053Z
LAST-MODIFIED:20241001T170011Z
UID:10306966-1876590000-1876604400@golatindance.com
SUMMARY:Salsa Bachata Night at Rendezvous
DESCRIPTION:Salsa Bachata Night at Rendezvous. See flyer for details.
URL:https://golatindance.com/event/salsa-bachata-night-at-rendezvous/2029-06-19/
LOCATION:Rais Rendezvous\, 44042 Pipeline Plaza\, Ashburn\, VA\, United States
CATEGORIES:Washington DC-Baltimore
ATTACH;FMTTYPE=image/jpeg:https://golatindance.com/wp-content/uploads/2024/10/461693778_10161572746629030_6205992527391762863_n.jpg
END:VEVENT
BEGIN:VEVENT
DTSTART;TZID=America/New_York:20290626T190000
DTEND;TZID=America/New_York:20290626T230000
DTSTAMP:20260421T002636
CREATED:20241001T165053Z
LAST-MODIFIED:20241001T170011Z
UID:10306967-1877194800-1877209200@golatindance.com
SUMMARY:Salsa Bachata Night at Rendezvous
DESCRIPTION:Salsa Bachata Night at Rendezvous. See flyer for details.
URL:https://golatindance.com/event/salsa-bachata-night-at-rendezvous/2029-06-26/
LOCATION:Rais Rendezvous\, 44042 Pipeline Plaza\, Ashburn\, VA\, United States
CATEGORIES:Washington DC-Baltimore
ATTACH;FMTTYPE=image/jpeg:https://golatindance.com/wp-content/uploads/2024/10/461693778_10161572746629030_6205992527391762863_n.jpg
END:VEVENT
BEGIN:VEVENT
DTSTART;TZID=America/New_York:20290703T190000
DTEND;TZID=America/New_York:20290703T230000
DTSTAMP:20260421T002636
CREATED:20241001T165053Z
LAST-MODIFIED:20241001T170011Z
UID:10306968-1877799600-1877814000@golatindance.com
SUMMARY:Salsa Bachata Night at Rendezvous
DESCRIPTION:Salsa Bachata Night at Rendezvous. See flyer for details.
URL:https://golatindance.com/event/salsa-bachata-night-at-rendezvous/2029-07-03/
LOCATION:Rais Rendezvous\, 44042 Pipeline Plaza\, Ashburn\, VA\, United States
CATEGORIES:Washington DC-Baltimore
ATTACH;FMTTYPE=image/jpeg:https://golatindance.com/wp-content/uploads/2024/10/461693778_10161572746629030_6205992527391762863_n.jpg
END:VEVENT
BEGIN:VEVENT
DTSTART;TZID=America/New_York:20290710T190000
DTEND;TZID=America/New_York:20290710T230000
DTSTAMP:20260421T002636
CREATED:20241001T165053Z
LAST-MODIFIED:20241001T170011Z
UID:10306969-1878404400-1878418800@golatindance.com
SUMMARY:Salsa Bachata Night at Rendezvous
DESCRIPTION:Salsa Bachata Night at Rendezvous. See flyer for details.
URL:https://golatindance.com/event/salsa-bachata-night-at-rendezvous/2029-07-10/
LOCATION:Rais Rendezvous\, 44042 Pipeline Plaza\, Ashburn\, VA\, United States
CATEGORIES:Washington DC-Baltimore
ATTACH;FMTTYPE=image/jpeg:https://golatindance.com/wp-content/uploads/2024/10/461693778_10161572746629030_6205992527391762863_n.jpg
END:VEVENT
BEGIN:VEVENT
DTSTART;TZID=America/New_York:20290717T190000
DTEND;TZID=America/New_York:20290717T230000
DTSTAMP:20260421T002636
CREATED:20241001T165053Z
LAST-MODIFIED:20241001T170011Z
UID:10306970-1879009200-1879023600@golatindance.com
SUMMARY:Salsa Bachata Night at Rendezvous
DESCRIPTION:Salsa Bachata Night at Rendezvous. See flyer for details.
URL:https://golatindance.com/event/salsa-bachata-night-at-rendezvous/2029-07-17/
LOCATION:Rais Rendezvous\, 44042 Pipeline Plaza\, Ashburn\, VA\, United States
CATEGORIES:Washington DC-Baltimore
ATTACH;FMTTYPE=image/jpeg:https://golatindance.com/wp-content/uploads/2024/10/461693778_10161572746629030_6205992527391762863_n.jpg
END:VEVENT
END:VCALENDAR