BEGIN:VCALENDAR
VERSION:2.0
PRODID:-//GO Latin Dance - ECPv6.15.18//NONSGML v1.0//EN
CALSCALE:GREGORIAN
METHOD:PUBLISH
X-ORIGINAL-URL:https://golatindance.com
X-WR-CALDESC:Events for GO Latin Dance
REFRESH-INTERVAL;VALUE=DURATION:PT1H
X-Robots-Tag:noindex
X-PUBLISHED-TTL:PT1H
BEGIN:VTIMEZONE
TZID:America/New_York
BEGIN:DAYLIGHT
TZOFFSETFROM:-0500
TZOFFSETTO:-0400
TZNAME:EDT
DTSTART:20250309T070000
END:DAYLIGHT
BEGIN:STANDARD
TZOFFSETFROM:-0400
TZOFFSETTO:-0500
TZNAME:EST
DTSTART:20251102T060000
END:STANDARD
BEGIN:DAYLIGHT
TZOFFSETFROM:-0500
TZOFFSETTO:-0400
TZNAME:EDT
DTSTART:20260308T070000
END:DAYLIGHT
BEGIN:STANDARD
TZOFFSETFROM:-0400
TZOFFSETTO:-0500
TZNAME:EST
DTSTART:20261101T060000
END:STANDARD
BEGIN:DAYLIGHT
TZOFFSETFROM:-0500
TZOFFSETTO:-0400
TZNAME:EDT
DTSTART:20270314T070000
END:DAYLIGHT
BEGIN:STANDARD
TZOFFSETFROM:-0400
TZOFFSETTO:-0500
TZNAME:EST
DTSTART:20271107T060000
END:STANDARD
BEGIN:DAYLIGHT
TZOFFSETFROM:-0500
TZOFFSETTO:-0400
TZNAME:EDT
DTSTART:20280312T070000
END:DAYLIGHT
BEGIN:STANDARD
TZOFFSETFROM:-0400
TZOFFSETTO:-0500
TZNAME:EST
DTSTART:20281105T060000
END:STANDARD
END:VTIMEZONE
BEGIN:VEVENT
DTSTART;TZID=America/New_York:20261117T190000
DTEND;TZID=America/New_York:20261117T230000
DTSTAMP:20260420T082411
CREATED:20241001T165053Z
LAST-MODIFIED:20241001T170011Z
UID:10306831-1794942000-1794956400@golatindance.com
SUMMARY:Salsa Bachata Night at Rendezvous
DESCRIPTION:Salsa Bachata Night at Rendezvous. See flyer for details.
URL:https://golatindance.com/event/salsa-bachata-night-at-rendezvous/2026-11-17/
LOCATION:Rais Rendezvous\, 44042 Pipeline Plaza\, Ashburn\, VA\, United States
CATEGORIES:Washington DC-Baltimore
ATTACH;FMTTYPE=image/jpeg:https://golatindance.com/wp-content/uploads/2024/10/461693778_10161572746629030_6205992527391762863_n.jpg
END:VEVENT
BEGIN:VEVENT
DTSTART;TZID=America/New_York:20261124T190000
DTEND;TZID=America/New_York:20261124T230000
DTSTAMP:20260420T082411
CREATED:20241001T165053Z
LAST-MODIFIED:20241001T170011Z
UID:10306832-1795546800-1795561200@golatindance.com
SUMMARY:Salsa Bachata Night at Rendezvous
DESCRIPTION:Salsa Bachata Night at Rendezvous. See flyer for details.
URL:https://golatindance.com/event/salsa-bachata-night-at-rendezvous/2026-11-24/
LOCATION:Rais Rendezvous\, 44042 Pipeline Plaza\, Ashburn\, VA\, United States
CATEGORIES:Washington DC-Baltimore
ATTACH;FMTTYPE=image/jpeg:https://golatindance.com/wp-content/uploads/2024/10/461693778_10161572746629030_6205992527391762863_n.jpg
END:VEVENT
BEGIN:VEVENT
DTSTART;TZID=America/New_York:20261201T190000
DTEND;TZID=America/New_York:20261201T230000
DTSTAMP:20260420T082411
CREATED:20241001T165053Z
LAST-MODIFIED:20241001T170011Z
UID:10306833-1796151600-1796166000@golatindance.com
SUMMARY:Salsa Bachata Night at Rendezvous
DESCRIPTION:Salsa Bachata Night at Rendezvous. See flyer for details.
URL:https://golatindance.com/event/salsa-bachata-night-at-rendezvous/2026-12-01/
LOCATION:Rais Rendezvous\, 44042 Pipeline Plaza\, Ashburn\, VA\, United States
CATEGORIES:Washington DC-Baltimore
ATTACH;FMTTYPE=image/jpeg:https://golatindance.com/wp-content/uploads/2024/10/461693778_10161572746629030_6205992527391762863_n.jpg
END:VEVENT
BEGIN:VEVENT
DTSTART;TZID=America/New_York:20261208T190000
DTEND;TZID=America/New_York:20261208T230000
DTSTAMP:20260420T082411
CREATED:20241001T165053Z
LAST-MODIFIED:20241001T170011Z
UID:10306834-1796756400-1796770800@golatindance.com
SUMMARY:Salsa Bachata Night at Rendezvous
DESCRIPTION:Salsa Bachata Night at Rendezvous. See flyer for details.
URL:https://golatindance.com/event/salsa-bachata-night-at-rendezvous/2026-12-08/
LOCATION:Rais Rendezvous\, 44042 Pipeline Plaza\, Ashburn\, VA\, United States
CATEGORIES:Washington DC-Baltimore
ATTACH;FMTTYPE=image/jpeg:https://golatindance.com/wp-content/uploads/2024/10/461693778_10161572746629030_6205992527391762863_n.jpg
END:VEVENT
BEGIN:VEVENT
DTSTART;TZID=America/New_York:20261215T190000
DTEND;TZID=America/New_York:20261215T230000
DTSTAMP:20260420T082411
CREATED:20241001T165053Z
LAST-MODIFIED:20241001T170011Z
UID:10306835-1797361200-1797375600@golatindance.com
SUMMARY:Salsa Bachata Night at Rendezvous
DESCRIPTION:Salsa Bachata Night at Rendezvous. See flyer for details.
URL:https://golatindance.com/event/salsa-bachata-night-at-rendezvous/2026-12-15/
LOCATION:Rais Rendezvous\, 44042 Pipeline Plaza\, Ashburn\, VA\, United States
CATEGORIES:Washington DC-Baltimore
ATTACH;FMTTYPE=image/jpeg:https://golatindance.com/wp-content/uploads/2024/10/461693778_10161572746629030_6205992527391762863_n.jpg
END:VEVENT
BEGIN:VEVENT
DTSTART;TZID=America/New_York:20261222T190000
DTEND;TZID=America/New_York:20261222T230000
DTSTAMP:20260420T082411
CREATED:20241001T165053Z
LAST-MODIFIED:20241001T170011Z
UID:10306836-1797966000-1797980400@golatindance.com
SUMMARY:Salsa Bachata Night at Rendezvous
DESCRIPTION:Salsa Bachata Night at Rendezvous. See flyer for details.
URL:https://golatindance.com/event/salsa-bachata-night-at-rendezvous/2026-12-22/
LOCATION:Rais Rendezvous\, 44042 Pipeline Plaza\, Ashburn\, VA\, United States
CATEGORIES:Washington DC-Baltimore
ATTACH;FMTTYPE=image/jpeg:https://golatindance.com/wp-content/uploads/2024/10/461693778_10161572746629030_6205992527391762863_n.jpg
END:VEVENT
BEGIN:VEVENT
DTSTART;TZID=America/New_York:20261229T190000
DTEND;TZID=America/New_York:20261229T230000
DTSTAMP:20260420T082411
CREATED:20241001T165053Z
LAST-MODIFIED:20241001T170011Z
UID:10306837-1798570800-1798585200@golatindance.com
SUMMARY:Salsa Bachata Night at Rendezvous
DESCRIPTION:Salsa Bachata Night at Rendezvous. See flyer for details.
URL:https://golatindance.com/event/salsa-bachata-night-at-rendezvous/2026-12-29/
LOCATION:Rais Rendezvous\, 44042 Pipeline Plaza\, Ashburn\, VA\, United States
CATEGORIES:Washington DC-Baltimore
ATTACH;FMTTYPE=image/jpeg:https://golatindance.com/wp-content/uploads/2024/10/461693778_10161572746629030_6205992527391762863_n.jpg
END:VEVENT
BEGIN:VEVENT
DTSTART;TZID=America/New_York:20270105T190000
DTEND;TZID=America/New_York:20270105T230000
DTSTAMP:20260420T082411
CREATED:20241001T165053Z
LAST-MODIFIED:20241001T170011Z
UID:10306838-1799175600-1799190000@golatindance.com
SUMMARY:Salsa Bachata Night at Rendezvous
DESCRIPTION:Salsa Bachata Night at Rendezvous. See flyer for details.
URL:https://golatindance.com/event/salsa-bachata-night-at-rendezvous/2027-01-05/
LOCATION:Rais Rendezvous\, 44042 Pipeline Plaza\, Ashburn\, VA\, United States
CATEGORIES:Washington DC-Baltimore
ATTACH;FMTTYPE=image/jpeg:https://golatindance.com/wp-content/uploads/2024/10/461693778_10161572746629030_6205992527391762863_n.jpg
END:VEVENT
BEGIN:VEVENT
DTSTART;TZID=America/New_York:20270112T190000
DTEND;TZID=America/New_York:20270112T230000
DTSTAMP:20260420T082411
CREATED:20241001T165053Z
LAST-MODIFIED:20241001T170011Z
UID:10306839-1799780400-1799794800@golatindance.com
SUMMARY:Salsa Bachata Night at Rendezvous
DESCRIPTION:Salsa Bachata Night at Rendezvous. See flyer for details.
URL:https://golatindance.com/event/salsa-bachata-night-at-rendezvous/2027-01-12/
LOCATION:Rais Rendezvous\, 44042 Pipeline Plaza\, Ashburn\, VA\, United States
CATEGORIES:Washington DC-Baltimore
ATTACH;FMTTYPE=image/jpeg:https://golatindance.com/wp-content/uploads/2024/10/461693778_10161572746629030_6205992527391762863_n.jpg
END:VEVENT
BEGIN:VEVENT
DTSTART;TZID=America/New_York:20270119T190000
DTEND;TZID=America/New_York:20270119T230000
DTSTAMP:20260420T082411
CREATED:20241001T165053Z
LAST-MODIFIED:20241001T170011Z
UID:10306840-1800385200-1800399600@golatindance.com
SUMMARY:Salsa Bachata Night at Rendezvous
DESCRIPTION:Salsa Bachata Night at Rendezvous. See flyer for details.
URL:https://golatindance.com/event/salsa-bachata-night-at-rendezvous/2027-01-19/
LOCATION:Rais Rendezvous\, 44042 Pipeline Plaza\, Ashburn\, VA\, United States
CATEGORIES:Washington DC-Baltimore
ATTACH;FMTTYPE=image/jpeg:https://golatindance.com/wp-content/uploads/2024/10/461693778_10161572746629030_6205992527391762863_n.jpg
END:VEVENT
BEGIN:VEVENT
DTSTART;TZID=America/New_York:20270126T190000
DTEND;TZID=America/New_York:20270126T230000
DTSTAMP:20260420T082411
CREATED:20241001T165053Z
LAST-MODIFIED:20241001T170011Z
UID:10306841-1800990000-1801004400@golatindance.com
SUMMARY:Salsa Bachata Night at Rendezvous
DESCRIPTION:Salsa Bachata Night at Rendezvous. See flyer for details.
URL:https://golatindance.com/event/salsa-bachata-night-at-rendezvous/2027-01-26/
LOCATION:Rais Rendezvous\, 44042 Pipeline Plaza\, Ashburn\, VA\, United States
CATEGORIES:Washington DC-Baltimore
ATTACH;FMTTYPE=image/jpeg:https://golatindance.com/wp-content/uploads/2024/10/461693778_10161572746629030_6205992527391762863_n.jpg
END:VEVENT
BEGIN:VEVENT
DTSTART;TZID=America/New_York:20270202T190000
DTEND;TZID=America/New_York:20270202T230000
DTSTAMP:20260420T082411
CREATED:20241001T165053Z
LAST-MODIFIED:20241001T170011Z
UID:10306842-1801594800-1801609200@golatindance.com
SUMMARY:Salsa Bachata Night at Rendezvous
DESCRIPTION:Salsa Bachata Night at Rendezvous. See flyer for details.
URL:https://golatindance.com/event/salsa-bachata-night-at-rendezvous/2027-02-02/
LOCATION:Rais Rendezvous\, 44042 Pipeline Plaza\, Ashburn\, VA\, United States
CATEGORIES:Washington DC-Baltimore
ATTACH;FMTTYPE=image/jpeg:https://golatindance.com/wp-content/uploads/2024/10/461693778_10161572746629030_6205992527391762863_n.jpg
END:VEVENT
BEGIN:VEVENT
DTSTART;TZID=America/New_York:20270209T190000
DTEND;TZID=America/New_York:20270209T230000
DTSTAMP:20260420T082411
CREATED:20241001T165053Z
LAST-MODIFIED:20241001T170011Z
UID:10306843-1802199600-1802214000@golatindance.com
SUMMARY:Salsa Bachata Night at Rendezvous
DESCRIPTION:Salsa Bachata Night at Rendezvous. See flyer for details.
URL:https://golatindance.com/event/salsa-bachata-night-at-rendezvous/2027-02-09/
LOCATION:Rais Rendezvous\, 44042 Pipeline Plaza\, Ashburn\, VA\, United States
CATEGORIES:Washington DC-Baltimore
ATTACH;FMTTYPE=image/jpeg:https://golatindance.com/wp-content/uploads/2024/10/461693778_10161572746629030_6205992527391762863_n.jpg
END:VEVENT
BEGIN:VEVENT
DTSTART;TZID=America/New_York:20270216T190000
DTEND;TZID=America/New_York:20270216T230000
DTSTAMP:20260420T082411
CREATED:20241001T165053Z
LAST-MODIFIED:20241001T170011Z
UID:10306844-1802804400-1802818800@golatindance.com
SUMMARY:Salsa Bachata Night at Rendezvous
DESCRIPTION:Salsa Bachata Night at Rendezvous. See flyer for details.
URL:https://golatindance.com/event/salsa-bachata-night-at-rendezvous/2027-02-16/
LOCATION:Rais Rendezvous\, 44042 Pipeline Plaza\, Ashburn\, VA\, United States
CATEGORIES:Washington DC-Baltimore
ATTACH;FMTTYPE=image/jpeg:https://golatindance.com/wp-content/uploads/2024/10/461693778_10161572746629030_6205992527391762863_n.jpg
END:VEVENT
BEGIN:VEVENT
DTSTART;TZID=America/New_York:20270223T190000
DTEND;TZID=America/New_York:20270223T230000
DTSTAMP:20260420T082411
CREATED:20241001T165053Z
LAST-MODIFIED:20241001T170011Z
UID:10306845-1803409200-1803423600@golatindance.com
SUMMARY:Salsa Bachata Night at Rendezvous
DESCRIPTION:Salsa Bachata Night at Rendezvous. See flyer for details.
URL:https://golatindance.com/event/salsa-bachata-night-at-rendezvous/2027-02-23/
LOCATION:Rais Rendezvous\, 44042 Pipeline Plaza\, Ashburn\, VA\, United States
CATEGORIES:Washington DC-Baltimore
ATTACH;FMTTYPE=image/jpeg:https://golatindance.com/wp-content/uploads/2024/10/461693778_10161572746629030_6205992527391762863_n.jpg
END:VEVENT
BEGIN:VEVENT
DTSTART;TZID=America/New_York:20270302T190000
DTEND;TZID=America/New_York:20270302T230000
DTSTAMP:20260420T082411
CREATED:20241001T165053Z
LAST-MODIFIED:20241001T170011Z
UID:10306846-1804014000-1804028400@golatindance.com
SUMMARY:Salsa Bachata Night at Rendezvous
DESCRIPTION:Salsa Bachata Night at Rendezvous. See flyer for details.
URL:https://golatindance.com/event/salsa-bachata-night-at-rendezvous/2027-03-02/
LOCATION:Rais Rendezvous\, 44042 Pipeline Plaza\, Ashburn\, VA\, United States
CATEGORIES:Washington DC-Baltimore
ATTACH;FMTTYPE=image/jpeg:https://golatindance.com/wp-content/uploads/2024/10/461693778_10161572746629030_6205992527391762863_n.jpg
END:VEVENT
BEGIN:VEVENT
DTSTART;TZID=America/New_York:20270309T190000
DTEND;TZID=America/New_York:20270309T230000
DTSTAMP:20260420T082411
CREATED:20241001T165053Z
LAST-MODIFIED:20241001T170011Z
UID:10306847-1804618800-1804633200@golatindance.com
SUMMARY:Salsa Bachata Night at Rendezvous
DESCRIPTION:Salsa Bachata Night at Rendezvous. See flyer for details.
URL:https://golatindance.com/event/salsa-bachata-night-at-rendezvous/2027-03-09/
LOCATION:Rais Rendezvous\, 44042 Pipeline Plaza\, Ashburn\, VA\, United States
CATEGORIES:Washington DC-Baltimore
ATTACH;FMTTYPE=image/jpeg:https://golatindance.com/wp-content/uploads/2024/10/461693778_10161572746629030_6205992527391762863_n.jpg
END:VEVENT
BEGIN:VEVENT
DTSTART;TZID=America/New_York:20270316T190000
DTEND;TZID=America/New_York:20270316T230000
DTSTAMP:20260420T082411
CREATED:20241001T165053Z
LAST-MODIFIED:20241001T170011Z
UID:10306848-1805223600-1805238000@golatindance.com
SUMMARY:Salsa Bachata Night at Rendezvous
DESCRIPTION:Salsa Bachata Night at Rendezvous. See flyer for details.
URL:https://golatindance.com/event/salsa-bachata-night-at-rendezvous/2027-03-16/
LOCATION:Rais Rendezvous\, 44042 Pipeline Plaza\, Ashburn\, VA\, United States
CATEGORIES:Washington DC-Baltimore
ATTACH;FMTTYPE=image/jpeg:https://golatindance.com/wp-content/uploads/2024/10/461693778_10161572746629030_6205992527391762863_n.jpg
END:VEVENT
BEGIN:VEVENT
DTSTART;TZID=America/New_York:20270323T190000
DTEND;TZID=America/New_York:20270323T230000
DTSTAMP:20260420T082411
CREATED:20241001T165053Z
LAST-MODIFIED:20241001T170011Z
UID:10306849-1805828400-1805842800@golatindance.com
SUMMARY:Salsa Bachata Night at Rendezvous
DESCRIPTION:Salsa Bachata Night at Rendezvous. See flyer for details.
URL:https://golatindance.com/event/salsa-bachata-night-at-rendezvous/2027-03-23/
LOCATION:Rais Rendezvous\, 44042 Pipeline Plaza\, Ashburn\, VA\, United States
CATEGORIES:Washington DC-Baltimore
ATTACH;FMTTYPE=image/jpeg:https://golatindance.com/wp-content/uploads/2024/10/461693778_10161572746629030_6205992527391762863_n.jpg
END:VEVENT
BEGIN:VEVENT
DTSTART;TZID=America/New_York:20270330T190000
DTEND;TZID=America/New_York:20270330T230000
DTSTAMP:20260420T082411
CREATED:20241001T165053Z
LAST-MODIFIED:20241001T170011Z
UID:10306850-1806433200-1806447600@golatindance.com
SUMMARY:Salsa Bachata Night at Rendezvous
DESCRIPTION:Salsa Bachata Night at Rendezvous. See flyer for details.
URL:https://golatindance.com/event/salsa-bachata-night-at-rendezvous/2027-03-30/
LOCATION:Rais Rendezvous\, 44042 Pipeline Plaza\, Ashburn\, VA\, United States
CATEGORIES:Washington DC-Baltimore
ATTACH;FMTTYPE=image/jpeg:https://golatindance.com/wp-content/uploads/2024/10/461693778_10161572746629030_6205992527391762863_n.jpg
END:VEVENT
BEGIN:VEVENT
DTSTART;TZID=America/New_York:20270406T190000
DTEND;TZID=America/New_York:20270406T230000
DTSTAMP:20260420T082411
CREATED:20241001T165053Z
LAST-MODIFIED:20241001T170011Z
UID:10306851-1807038000-1807052400@golatindance.com
SUMMARY:Salsa Bachata Night at Rendezvous
DESCRIPTION:Salsa Bachata Night at Rendezvous. See flyer for details.
URL:https://golatindance.com/event/salsa-bachata-night-at-rendezvous/2027-04-06/
LOCATION:Rais Rendezvous\, 44042 Pipeline Plaza\, Ashburn\, VA\, United States
CATEGORIES:Washington DC-Baltimore
ATTACH;FMTTYPE=image/jpeg:https://golatindance.com/wp-content/uploads/2024/10/461693778_10161572746629030_6205992527391762863_n.jpg
END:VEVENT
BEGIN:VEVENT
DTSTART;TZID=America/New_York:20270413T190000
DTEND;TZID=America/New_York:20270413T230000
DTSTAMP:20260420T082411
CREATED:20241001T165053Z
LAST-MODIFIED:20241001T170011Z
UID:10306852-1807642800-1807657200@golatindance.com
SUMMARY:Salsa Bachata Night at Rendezvous
DESCRIPTION:Salsa Bachata Night at Rendezvous. See flyer for details.
URL:https://golatindance.com/event/salsa-bachata-night-at-rendezvous/2027-04-13/
LOCATION:Rais Rendezvous\, 44042 Pipeline Plaza\, Ashburn\, VA\, United States
CATEGORIES:Washington DC-Baltimore
ATTACH;FMTTYPE=image/jpeg:https://golatindance.com/wp-content/uploads/2024/10/461693778_10161572746629030_6205992527391762863_n.jpg
END:VEVENT
BEGIN:VEVENT
DTSTART;TZID=America/New_York:20270420T190000
DTEND;TZID=America/New_York:20270420T230000
DTSTAMP:20260420T082411
CREATED:20241001T165053Z
LAST-MODIFIED:20241001T170011Z
UID:10306853-1808247600-1808262000@golatindance.com
SUMMARY:Salsa Bachata Night at Rendezvous
DESCRIPTION:Salsa Bachata Night at Rendezvous. See flyer for details.
URL:https://golatindance.com/event/salsa-bachata-night-at-rendezvous/2027-04-20/
LOCATION:Rais Rendezvous\, 44042 Pipeline Plaza\, Ashburn\, VA\, United States
CATEGORIES:Washington DC-Baltimore
ATTACH;FMTTYPE=image/jpeg:https://golatindance.com/wp-content/uploads/2024/10/461693778_10161572746629030_6205992527391762863_n.jpg
END:VEVENT
BEGIN:VEVENT
DTSTART;TZID=America/New_York:20270427T190000
DTEND;TZID=America/New_York:20270427T230000
DTSTAMP:20260420T082411
CREATED:20241001T165053Z
LAST-MODIFIED:20241001T170011Z
UID:10306854-1808852400-1808866800@golatindance.com
SUMMARY:Salsa Bachata Night at Rendezvous
DESCRIPTION:Salsa Bachata Night at Rendezvous. See flyer for details.
URL:https://golatindance.com/event/salsa-bachata-night-at-rendezvous/2027-04-27/
LOCATION:Rais Rendezvous\, 44042 Pipeline Plaza\, Ashburn\, VA\, United States
CATEGORIES:Washington DC-Baltimore
ATTACH;FMTTYPE=image/jpeg:https://golatindance.com/wp-content/uploads/2024/10/461693778_10161572746629030_6205992527391762863_n.jpg
END:VEVENT
BEGIN:VEVENT
DTSTART;TZID=America/New_York:20270504T190000
DTEND;TZID=America/New_York:20270504T230000
DTSTAMP:20260420T082411
CREATED:20241001T165053Z
LAST-MODIFIED:20241001T170011Z
UID:10306855-1809457200-1809471600@golatindance.com
SUMMARY:Salsa Bachata Night at Rendezvous
DESCRIPTION:Salsa Bachata Night at Rendezvous. See flyer for details.
URL:https://golatindance.com/event/salsa-bachata-night-at-rendezvous/2027-05-04/
LOCATION:Rais Rendezvous\, 44042 Pipeline Plaza\, Ashburn\, VA\, United States
CATEGORIES:Washington DC-Baltimore
ATTACH;FMTTYPE=image/jpeg:https://golatindance.com/wp-content/uploads/2024/10/461693778_10161572746629030_6205992527391762863_n.jpg
END:VEVENT
BEGIN:VEVENT
DTSTART;TZID=America/New_York:20270511T190000
DTEND;TZID=America/New_York:20270511T230000
DTSTAMP:20260420T082411
CREATED:20241001T165053Z
LAST-MODIFIED:20241001T170011Z
UID:10306856-1810062000-1810076400@golatindance.com
SUMMARY:Salsa Bachata Night at Rendezvous
DESCRIPTION:Salsa Bachata Night at Rendezvous. See flyer for details.
URL:https://golatindance.com/event/salsa-bachata-night-at-rendezvous/2027-05-11/
LOCATION:Rais Rendezvous\, 44042 Pipeline Plaza\, Ashburn\, VA\, United States
CATEGORIES:Washington DC-Baltimore
ATTACH;FMTTYPE=image/jpeg:https://golatindance.com/wp-content/uploads/2024/10/461693778_10161572746629030_6205992527391762863_n.jpg
END:VEVENT
BEGIN:VEVENT
DTSTART;TZID=America/New_York:20270518T190000
DTEND;TZID=America/New_York:20270518T230000
DTSTAMP:20260420T082411
CREATED:20241001T165053Z
LAST-MODIFIED:20241001T170011Z
UID:10306857-1810666800-1810681200@golatindance.com
SUMMARY:Salsa Bachata Night at Rendezvous
DESCRIPTION:Salsa Bachata Night at Rendezvous. See flyer for details.
URL:https://golatindance.com/event/salsa-bachata-night-at-rendezvous/2027-05-18/
LOCATION:Rais Rendezvous\, 44042 Pipeline Plaza\, Ashburn\, VA\, United States
CATEGORIES:Washington DC-Baltimore
ATTACH;FMTTYPE=image/jpeg:https://golatindance.com/wp-content/uploads/2024/10/461693778_10161572746629030_6205992527391762863_n.jpg
END:VEVENT
BEGIN:VEVENT
DTSTART;TZID=America/New_York:20270525T190000
DTEND;TZID=America/New_York:20270525T230000
DTSTAMP:20260420T082411
CREATED:20241001T165053Z
LAST-MODIFIED:20241001T170011Z
UID:10306858-1811271600-1811286000@golatindance.com
SUMMARY:Salsa Bachata Night at Rendezvous
DESCRIPTION:Salsa Bachata Night at Rendezvous. See flyer for details.
URL:https://golatindance.com/event/salsa-bachata-night-at-rendezvous/2027-05-25/
LOCATION:Rais Rendezvous\, 44042 Pipeline Plaza\, Ashburn\, VA\, United States
CATEGORIES:Washington DC-Baltimore
ATTACH;FMTTYPE=image/jpeg:https://golatindance.com/wp-content/uploads/2024/10/461693778_10161572746629030_6205992527391762863_n.jpg
END:VEVENT
BEGIN:VEVENT
DTSTART;TZID=America/New_York:20270601T190000
DTEND;TZID=America/New_York:20270601T230000
DTSTAMP:20260420T082411
CREATED:20241001T165053Z
LAST-MODIFIED:20241001T170011Z
UID:10306859-1811876400-1811890800@golatindance.com
SUMMARY:Salsa Bachata Night at Rendezvous
DESCRIPTION:Salsa Bachata Night at Rendezvous. See flyer for details.
URL:https://golatindance.com/event/salsa-bachata-night-at-rendezvous/2027-06-01/
LOCATION:Rais Rendezvous\, 44042 Pipeline Plaza\, Ashburn\, VA\, United States
CATEGORIES:Washington DC-Baltimore
ATTACH;FMTTYPE=image/jpeg:https://golatindance.com/wp-content/uploads/2024/10/461693778_10161572746629030_6205992527391762863_n.jpg
END:VEVENT
BEGIN:VEVENT
DTSTART;TZID=America/New_York:20270608T190000
DTEND;TZID=America/New_York:20270608T230000
DTSTAMP:20260420T082411
CREATED:20241001T165053Z
LAST-MODIFIED:20241001T170011Z
UID:10306860-1812481200-1812495600@golatindance.com
SUMMARY:Salsa Bachata Night at Rendezvous
DESCRIPTION:Salsa Bachata Night at Rendezvous. See flyer for details.
URL:https://golatindance.com/event/salsa-bachata-night-at-rendezvous/2027-06-08/
LOCATION:Rais Rendezvous\, 44042 Pipeline Plaza\, Ashburn\, VA\, United States
CATEGORIES:Washington DC-Baltimore
ATTACH;FMTTYPE=image/jpeg:https://golatindance.com/wp-content/uploads/2024/10/461693778_10161572746629030_6205992527391762863_n.jpg
END:VEVENT
END:VCALENDAR