BEGIN:VCALENDAR
VERSION:2.0
PRODID:-//GO Latin Dance - ECPv6.15.18//NONSGML v1.0//EN
CALSCALE:GREGORIAN
METHOD:PUBLISH
X-WR-CALNAME:GO Latin Dance
X-ORIGINAL-URL:https://golatindance.com
X-WR-CALDESC:Events for GO Latin Dance
REFRESH-INTERVAL;VALUE=DURATION:PT1H
X-Robots-Tag:noindex
X-PUBLISHED-TTL:PT1H
BEGIN:VTIMEZONE
TZID:America/New_York
BEGIN:DAYLIGHT
TZOFFSETFROM:-0500
TZOFFSETTO:-0400
TZNAME:EDT
DTSTART:20230312T070000
END:DAYLIGHT
BEGIN:STANDARD
TZOFFSETFROM:-0400
TZOFFSETTO:-0500
TZNAME:EST
DTSTART:20231105T060000
END:STANDARD
BEGIN:DAYLIGHT
TZOFFSETFROM:-0500
TZOFFSETTO:-0400
TZNAME:EDT
DTSTART:20240310T070000
END:DAYLIGHT
BEGIN:STANDARD
TZOFFSETFROM:-0400
TZOFFSETTO:-0500
TZNAME:EST
DTSTART:20241103T060000
END:STANDARD
BEGIN:DAYLIGHT
TZOFFSETFROM:-0500
TZOFFSETTO:-0400
TZNAME:EDT
DTSTART:20250309T070000
END:DAYLIGHT
BEGIN:STANDARD
TZOFFSETFROM:-0400
TZOFFSETTO:-0500
TZNAME:EST
DTSTART:20251102T060000
END:STANDARD
END:VTIMEZONE
BEGIN:VEVENT
DTSTART;TZID=America/New_York:20240412T210000
DTEND;TZID=America/New_York:20240413T030000
DTSTAMP:20260420T144223
CREATED:20240301T154128Z
LAST-MODIFIED:20251121T164253Z
UID:10259099-1712955600-1712977200@golatindance.com
SUMMARY:Salsa Heat Friday Night Social
DESCRIPTION:No matter if your a beginner or advanced dancer Salsa Heat Friday Night Social is the place to be! Come join for a great night of dancing and socializing in a beautiful\, safe environment. Dance to the best in Salsa\, Bachata\, Cha Cha and more. \nWhen: Every Friday of the month (except for 4th Friday\, due to Saturday Social) \nTime: 9:15 -10:15 Bachata – Beg\, Int. & Adv. Social from 10:00-3am \nCover: $10 or use your keytag. Or take the any Friday Night Class and stay for FREE.. \nWhere: Salsa Heat Dance Studio\, 10685 E. Colonial Dr. Orlando FL \nCASH BAR AVAILABLE – BEER AND WINE \nFREE PARKING
URL:https://golatindance.com/event/salsa-heat-friday-night-social/2024-04-12/
LOCATION:SALSA HEAT DANCE STUDIO\, 10685 E. Colonial Dr\, Orlando\, FL\, 32817\, United States
CATEGORIES:Orlando
END:VEVENT
BEGIN:VEVENT
DTSTART;TZID=America/New_York:20240405T210000
DTEND;TZID=America/New_York:20240406T030000
DTSTAMP:20260420T144223
CREATED:20240301T154128Z
LAST-MODIFIED:20251121T164253Z
UID:10259098-1712350800-1712372400@golatindance.com
SUMMARY:Salsa Heat Friday Night Social
DESCRIPTION:No matter if your a beginner or advanced dancer Salsa Heat Friday Night Social is the place to be! Come join for a great night of dancing and socializing in a beautiful\, safe environment. Dance to the best in Salsa\, Bachata\, Cha Cha and more. \nWhen: Every Friday of the month (except for 4th Friday\, due to Saturday Social) \nTime: 9:15 -10:15 Bachata – Beg\, Int. & Adv. Social from 10:00-3am \nCover: $10 or use your keytag. Or take the any Friday Night Class and stay for FREE.. \nWhere: Salsa Heat Dance Studio\, 10685 E. Colonial Dr. Orlando FL \nCASH BAR AVAILABLE – BEER AND WINE \nFREE PARKING
URL:https://golatindance.com/event/salsa-heat-friday-night-social/2024-04-05/
LOCATION:SALSA HEAT DANCE STUDIO\, 10685 E. Colonial Dr\, Orlando\, FL\, 32817\, United States
CATEGORIES:Orlando
END:VEVENT
BEGIN:VEVENT
DTSTART;TZID=America/New_York:20240329T210000
DTEND;TZID=America/New_York:20240330T030000
DTSTAMP:20260420T144223
CREATED:20240301T154128Z
LAST-MODIFIED:20251121T164253Z
UID:10259097-1711746000-1711767600@golatindance.com
SUMMARY:Salsa Heat Friday Night Social
DESCRIPTION:No matter if your a beginner or advanced dancer Salsa Heat Friday Night Social is the place to be! Come join for a great night of dancing and socializing in a beautiful\, safe environment. Dance to the best in Salsa\, Bachata\, Cha Cha and more. \nWhen: Every Friday of the month (except for 4th Friday\, due to Saturday Social) \nTime: 9:15 -10:15 Bachata – Beg\, Int. & Adv. Social from 10:00-3am \nCover: $10 or use your keytag. Or take the any Friday Night Class and stay for FREE.. \nWhere: Salsa Heat Dance Studio\, 10685 E. Colonial Dr. Orlando FL \nCASH BAR AVAILABLE – BEER AND WINE \nFREE PARKING
URL:https://golatindance.com/event/salsa-heat-friday-night-social/2024-03-29/
LOCATION:SALSA HEAT DANCE STUDIO\, 10685 E. Colonial Dr\, Orlando\, FL\, 32817\, United States
CATEGORIES:Orlando
END:VEVENT
BEGIN:VEVENT
DTSTART;TZID=America/New_York:20240315T210000
DTEND;TZID=America/New_York:20240316T030000
DTSTAMP:20260420T144223
CREATED:20240301T154128Z
LAST-MODIFIED:20251121T164253Z
UID:10259096-1710536400-1710558000@golatindance.com
SUMMARY:Salsa Heat Friday Night Social
DESCRIPTION:No matter if your a beginner or advanced dancer Salsa Heat Friday Night Social is the place to be! Come join for a great night of dancing and socializing in a beautiful\, safe environment. Dance to the best in Salsa\, Bachata\, Cha Cha and more. \nWhen: Every Friday of the month (except for 4th Friday\, due to Saturday Social) \nTime: 9:15 -10:15 Bachata – Beg\, Int. & Adv. Social from 10:00-3am \nCover: $10 or use your keytag. Or take the any Friday Night Class and stay for FREE.. \nWhere: Salsa Heat Dance Studio\, 10685 E. Colonial Dr. Orlando FL \nCASH BAR AVAILABLE – BEER AND WINE \nFREE PARKING
URL:https://golatindance.com/event/salsa-heat-friday-night-social/2024-03-15/
LOCATION:SALSA HEAT DANCE STUDIO\, 10685 E. Colonial Dr\, Orlando\, FL\, 32817\, United States
CATEGORIES:Orlando
END:VEVENT
BEGIN:VEVENT
DTSTART;TZID=America/New_York:20240308T210000
DTEND;TZID=America/New_York:20240309T030000
DTSTAMP:20260420T144223
CREATED:20240301T154128Z
LAST-MODIFIED:20251121T164253Z
UID:10259095-1709931600-1709953200@golatindance.com
SUMMARY:Salsa Heat Friday Night Social
DESCRIPTION:No matter if your a beginner or advanced dancer Salsa Heat Friday Night Social is the place to be! Come join for a great night of dancing and socializing in a beautiful\, safe environment. Dance to the best in Salsa\, Bachata\, Cha Cha and more. \nWhen: Every Friday of the month (except for 4th Friday\, due to Saturday Social) \nTime: 9:15 -10:15 Bachata – Beg\, Int. & Adv. Social from 10:00-3am \nCover: $10 or use your keytag. Or take the any Friday Night Class and stay for FREE.. \nWhere: Salsa Heat Dance Studio\, 10685 E. Colonial Dr. Orlando FL \nCASH BAR AVAILABLE – BEER AND WINE \nFREE PARKING
URL:https://golatindance.com/event/salsa-heat-friday-night-social/2024-03-08/
LOCATION:SALSA HEAT DANCE STUDIO\, 10685 E. Colonial Dr\, Orlando\, FL\, 32817\, United States
CATEGORIES:Orlando
END:VEVENT
BEGIN:VEVENT
DTSTART;TZID=America/New_York:20240301T210000
DTEND;TZID=America/New_York:20240302T030000
DTSTAMP:20260420T144223
CREATED:20240301T154128Z
LAST-MODIFIED:20251121T164253Z
UID:10259094-1709326800-1709348400@golatindance.com
SUMMARY:Salsa Heat Friday Night Social
DESCRIPTION:No matter if your a beginner or advanced dancer Salsa Heat Friday Night Social is the place to be! Come join for a great night of dancing and socializing in a beautiful\, safe environment. Dance to the best in Salsa\, Bachata\, Cha Cha and more. \nWhen: Every Friday of the month (except for 4th Friday\, due to Saturday Social) \nTime: 9:15 -10:15 Bachata – Beg\, Int. & Adv. Social from 10:00-3am \nCover: $10 or use your keytag. Or take the any Friday Night Class and stay for FREE.. \nWhere: Salsa Heat Dance Studio\, 10685 E. Colonial Dr. Orlando FL \nCASH BAR AVAILABLE – BEER AND WINE \nFREE PARKING
URL:https://golatindance.com/event/salsa-heat-friday-night-social/2024-03-01/
LOCATION:SALSA HEAT DANCE STUDIO\, 10685 E. Colonial Dr\, Orlando\, FL\, 32817\, United States
CATEGORIES:Orlando
END:VEVENT
END:VCALENDAR