BEGIN:VCALENDAR
VERSION:2.0
PRODID:-//GO Latin Dance - ECPv6.15.18//NONSGML v1.0//EN
CALSCALE:GREGORIAN
METHOD:PUBLISH
X-ORIGINAL-URL:https://golatindance.com
X-WR-CALDESC:Events for GO Latin Dance
REFRESH-INTERVAL;VALUE=DURATION:PT1H
X-Robots-Tag:noindex
X-PUBLISHED-TTL:PT1H
BEGIN:VTIMEZONE
TZID:America/Denver
BEGIN:DAYLIGHT
TZOFFSETFROM:-0700
TZOFFSETTO:-0600
TZNAME:MDT
DTSTART:20270314T090000
END:DAYLIGHT
BEGIN:STANDARD
TZOFFSETFROM:-0600
TZOFFSETTO:-0700
TZNAME:MST
DTSTART:20271107T080000
END:STANDARD
BEGIN:DAYLIGHT
TZOFFSETFROM:-0700
TZOFFSETTO:-0600
TZNAME:MDT
DTSTART:20280312T090000
END:DAYLIGHT
BEGIN:STANDARD
TZOFFSETFROM:-0600
TZOFFSETTO:-0700
TZNAME:MST
DTSTART:20281105T080000
END:STANDARD
BEGIN:DAYLIGHT
TZOFFSETFROM:-0700
TZOFFSETTO:-0600
TZNAME:MDT
DTSTART:20290311T090000
END:DAYLIGHT
BEGIN:STANDARD
TZOFFSETFROM:-0600
TZOFFSETTO:-0700
TZNAME:MST
DTSTART:20291104T080000
END:STANDARD
END:VTIMEZONE
BEGIN:VEVENT
DTSTART;TZID=America/Denver:20280601T210000
DTEND;TZID=America/Denver:20280602T013000
DTSTAMP:20260422T171555
CREATED:20260102T170823Z
LAST-MODIFIED:20260116T154357Z
UID:10434449-1843506000-1843522200@golatindance.com
SUMMARY:Reychata Latin Spice
DESCRIPTION:If you have been looking to learn to dance Bachata\, Salsa\, or Merengue. This is the event for you to learn\, dance\, and socialize. \nBachata Class\n9pm – 10pm \nSocial Dancing\n10pm until 1:30pm
URL:https://golatindance.com/event/latin-spice/2028-06-01/
LOCATION:Spice Trade Brewing\, 8775 E Orchard Rd STE 811\, Greenwood Village\, CO\, 80111\, United States
CATEGORIES:Denver
END:VEVENT
BEGIN:VEVENT
DTSTART;TZID=America/Denver:20280608T210000
DTEND;TZID=America/Denver:20280609T013000
DTSTAMP:20260422T171555
CREATED:20260102T170823Z
LAST-MODIFIED:20260116T154357Z
UID:10434450-1844110800-1844127000@golatindance.com
SUMMARY:Reychata Latin Spice
DESCRIPTION:If you have been looking to learn to dance Bachata\, Salsa\, or Merengue. This is the event for you to learn\, dance\, and socialize. \nBachata Class\n9pm – 10pm \nSocial Dancing\n10pm until 1:30pm
URL:https://golatindance.com/event/latin-spice/2028-06-08/
LOCATION:Spice Trade Brewing\, 8775 E Orchard Rd STE 811\, Greenwood Village\, CO\, 80111\, United States
CATEGORIES:Denver
END:VEVENT
BEGIN:VEVENT
DTSTART;TZID=America/Denver:20280615T210000
DTEND;TZID=America/Denver:20280616T013000
DTSTAMP:20260422T171555
CREATED:20260102T170823Z
LAST-MODIFIED:20260116T154357Z
UID:10434451-1844715600-1844731800@golatindance.com
SUMMARY:Reychata Latin Spice
DESCRIPTION:If you have been looking to learn to dance Bachata\, Salsa\, or Merengue. This is the event for you to learn\, dance\, and socialize. \nBachata Class\n9pm – 10pm \nSocial Dancing\n10pm until 1:30pm
URL:https://golatindance.com/event/latin-spice/2028-06-15/
LOCATION:Spice Trade Brewing\, 8775 E Orchard Rd STE 811\, Greenwood Village\, CO\, 80111\, United States
CATEGORIES:Denver
END:VEVENT
BEGIN:VEVENT
DTSTART;TZID=America/Denver:20280622T210000
DTEND;TZID=America/Denver:20280623T013000
DTSTAMP:20260422T171555
CREATED:20260102T170823Z
LAST-MODIFIED:20260116T154357Z
UID:10434452-1845320400-1845336600@golatindance.com
SUMMARY:Reychata Latin Spice
DESCRIPTION:If you have been looking to learn to dance Bachata\, Salsa\, or Merengue. This is the event for you to learn\, dance\, and socialize. \nBachata Class\n9pm – 10pm \nSocial Dancing\n10pm until 1:30pm
URL:https://golatindance.com/event/latin-spice/2028-06-22/
LOCATION:Spice Trade Brewing\, 8775 E Orchard Rd STE 811\, Greenwood Village\, CO\, 80111\, United States
CATEGORIES:Denver
END:VEVENT
BEGIN:VEVENT
DTSTART;TZID=America/Denver:20280629T210000
DTEND;TZID=America/Denver:20280630T013000
DTSTAMP:20260422T171555
CREATED:20260102T170823Z
LAST-MODIFIED:20260116T154357Z
UID:10434453-1845925200-1845941400@golatindance.com
SUMMARY:Reychata Latin Spice
DESCRIPTION:If you have been looking to learn to dance Bachata\, Salsa\, or Merengue. This is the event for you to learn\, dance\, and socialize. \nBachata Class\n9pm – 10pm \nSocial Dancing\n10pm until 1:30pm
URL:https://golatindance.com/event/latin-spice/2028-06-29/
LOCATION:Spice Trade Brewing\, 8775 E Orchard Rd STE 811\, Greenwood Village\, CO\, 80111\, United States
CATEGORIES:Denver
END:VEVENT
BEGIN:VEVENT
DTSTART;TZID=America/Denver:20280706T210000
DTEND;TZID=America/Denver:20280707T013000
DTSTAMP:20260422T171555
CREATED:20260102T170823Z
LAST-MODIFIED:20260116T154357Z
UID:10434454-1846530000-1846546200@golatindance.com
SUMMARY:Reychata Latin Spice
DESCRIPTION:If you have been looking to learn to dance Bachata\, Salsa\, or Merengue. This is the event for you to learn\, dance\, and socialize. \nBachata Class\n9pm – 10pm \nSocial Dancing\n10pm until 1:30pm
URL:https://golatindance.com/event/latin-spice/2028-07-06/
LOCATION:Spice Trade Brewing\, 8775 E Orchard Rd STE 811\, Greenwood Village\, CO\, 80111\, United States
CATEGORIES:Denver
END:VEVENT
BEGIN:VEVENT
DTSTART;TZID=America/Denver:20280713T210000
DTEND;TZID=America/Denver:20280714T013000
DTSTAMP:20260422T171555
CREATED:20260102T170823Z
LAST-MODIFIED:20260116T154357Z
UID:10434455-1847134800-1847151000@golatindance.com
SUMMARY:Reychata Latin Spice
DESCRIPTION:If you have been looking to learn to dance Bachata\, Salsa\, or Merengue. This is the event for you to learn\, dance\, and socialize. \nBachata Class\n9pm – 10pm \nSocial Dancing\n10pm until 1:30pm
URL:https://golatindance.com/event/latin-spice/2028-07-13/
LOCATION:Spice Trade Brewing\, 8775 E Orchard Rd STE 811\, Greenwood Village\, CO\, 80111\, United States
CATEGORIES:Denver
END:VEVENT
BEGIN:VEVENT
DTSTART;TZID=America/Denver:20280720T210000
DTEND;TZID=America/Denver:20280721T013000
DTSTAMP:20260422T171555
CREATED:20260102T170823Z
LAST-MODIFIED:20260116T154357Z
UID:10434456-1847739600-1847755800@golatindance.com
SUMMARY:Reychata Latin Spice
DESCRIPTION:If you have been looking to learn to dance Bachata\, Salsa\, or Merengue. This is the event for you to learn\, dance\, and socialize. \nBachata Class\n9pm – 10pm \nSocial Dancing\n10pm until 1:30pm
URL:https://golatindance.com/event/latin-spice/2028-07-20/
LOCATION:Spice Trade Brewing\, 8775 E Orchard Rd STE 811\, Greenwood Village\, CO\, 80111\, United States
CATEGORIES:Denver
END:VEVENT
BEGIN:VEVENT
DTSTART;TZID=America/Denver:20280727T210000
DTEND;TZID=America/Denver:20280728T013000
DTSTAMP:20260422T171555
CREATED:20260102T170823Z
LAST-MODIFIED:20260116T154357Z
UID:10434457-1848344400-1848360600@golatindance.com
SUMMARY:Reychata Latin Spice
DESCRIPTION:If you have been looking to learn to dance Bachata\, Salsa\, or Merengue. This is the event for you to learn\, dance\, and socialize. \nBachata Class\n9pm – 10pm \nSocial Dancing\n10pm until 1:30pm
URL:https://golatindance.com/event/latin-spice/2028-07-27/
LOCATION:Spice Trade Brewing\, 8775 E Orchard Rd STE 811\, Greenwood Village\, CO\, 80111\, United States
CATEGORIES:Denver
END:VEVENT
BEGIN:VEVENT
DTSTART;TZID=America/Denver:20280803T210000
DTEND;TZID=America/Denver:20280804T013000
DTSTAMP:20260422T171555
CREATED:20260102T170823Z
LAST-MODIFIED:20260116T154357Z
UID:10434458-1848949200-1848965400@golatindance.com
SUMMARY:Reychata Latin Spice
DESCRIPTION:If you have been looking to learn to dance Bachata\, Salsa\, or Merengue. This is the event for you to learn\, dance\, and socialize. \nBachata Class\n9pm – 10pm \nSocial Dancing\n10pm until 1:30pm
URL:https://golatindance.com/event/latin-spice/2028-08-03/
LOCATION:Spice Trade Brewing\, 8775 E Orchard Rd STE 811\, Greenwood Village\, CO\, 80111\, United States
CATEGORIES:Denver
END:VEVENT
BEGIN:VEVENT
DTSTART;TZID=America/Denver:20280810T210000
DTEND;TZID=America/Denver:20280811T013000
DTSTAMP:20260422T171555
CREATED:20260102T170823Z
LAST-MODIFIED:20260116T154357Z
UID:10434459-1849554000-1849570200@golatindance.com
SUMMARY:Reychata Latin Spice
DESCRIPTION:If you have been looking to learn to dance Bachata\, Salsa\, or Merengue. This is the event for you to learn\, dance\, and socialize. \nBachata Class\n9pm – 10pm \nSocial Dancing\n10pm until 1:30pm
URL:https://golatindance.com/event/latin-spice/2028-08-10/
LOCATION:Spice Trade Brewing\, 8775 E Orchard Rd STE 811\, Greenwood Village\, CO\, 80111\, United States
CATEGORIES:Denver
END:VEVENT
BEGIN:VEVENT
DTSTART;TZID=America/Denver:20280817T210000
DTEND;TZID=America/Denver:20280818T013000
DTSTAMP:20260422T171555
CREATED:20260102T170823Z
LAST-MODIFIED:20260116T154357Z
UID:10434460-1850158800-1850175000@golatindance.com
SUMMARY:Reychata Latin Spice
DESCRIPTION:If you have been looking to learn to dance Bachata\, Salsa\, or Merengue. This is the event for you to learn\, dance\, and socialize. \nBachata Class\n9pm – 10pm \nSocial Dancing\n10pm until 1:30pm
URL:https://golatindance.com/event/latin-spice/2028-08-17/
LOCATION:Spice Trade Brewing\, 8775 E Orchard Rd STE 811\, Greenwood Village\, CO\, 80111\, United States
CATEGORIES:Denver
END:VEVENT
BEGIN:VEVENT
DTSTART;TZID=America/Denver:20280824T210000
DTEND;TZID=America/Denver:20280825T013000
DTSTAMP:20260422T171555
CREATED:20260102T170823Z
LAST-MODIFIED:20260116T154357Z
UID:10434461-1850763600-1850779800@golatindance.com
SUMMARY:Reychata Latin Spice
DESCRIPTION:If you have been looking to learn to dance Bachata\, Salsa\, or Merengue. This is the event for you to learn\, dance\, and socialize. \nBachata Class\n9pm – 10pm \nSocial Dancing\n10pm until 1:30pm
URL:https://golatindance.com/event/latin-spice/2028-08-24/
LOCATION:Spice Trade Brewing\, 8775 E Orchard Rd STE 811\, Greenwood Village\, CO\, 80111\, United States
CATEGORIES:Denver
END:VEVENT
BEGIN:VEVENT
DTSTART;TZID=America/Denver:20280831T210000
DTEND;TZID=America/Denver:20280901T013000
DTSTAMP:20260422T171555
CREATED:20260102T170823Z
LAST-MODIFIED:20260116T154357Z
UID:10434462-1851368400-1851384600@golatindance.com
SUMMARY:Reychata Latin Spice
DESCRIPTION:If you have been looking to learn to dance Bachata\, Salsa\, or Merengue. This is the event for you to learn\, dance\, and socialize. \nBachata Class\n9pm – 10pm \nSocial Dancing\n10pm until 1:30pm
URL:https://golatindance.com/event/latin-spice/2028-08-31/
LOCATION:Spice Trade Brewing\, 8775 E Orchard Rd STE 811\, Greenwood Village\, CO\, 80111\, United States
CATEGORIES:Denver
END:VEVENT
BEGIN:VEVENT
DTSTART;TZID=America/Denver:20280907T210000
DTEND;TZID=America/Denver:20280908T013000
DTSTAMP:20260422T171555
CREATED:20260102T170823Z
LAST-MODIFIED:20260116T154357Z
UID:10434463-1851973200-1851989400@golatindance.com
SUMMARY:Reychata Latin Spice
DESCRIPTION:If you have been looking to learn to dance Bachata\, Salsa\, or Merengue. This is the event for you to learn\, dance\, and socialize. \nBachata Class\n9pm – 10pm \nSocial Dancing\n10pm until 1:30pm
URL:https://golatindance.com/event/latin-spice/2028-09-07/
LOCATION:Spice Trade Brewing\, 8775 E Orchard Rd STE 811\, Greenwood Village\, CO\, 80111\, United States
CATEGORIES:Denver
END:VEVENT
BEGIN:VEVENT
DTSTART;TZID=America/Denver:20280914T210000
DTEND;TZID=America/Denver:20280915T013000
DTSTAMP:20260422T171555
CREATED:20260102T170823Z
LAST-MODIFIED:20260116T154357Z
UID:10434464-1852578000-1852594200@golatindance.com
SUMMARY:Reychata Latin Spice
DESCRIPTION:If you have been looking to learn to dance Bachata\, Salsa\, or Merengue. This is the event for you to learn\, dance\, and socialize. \nBachata Class\n9pm – 10pm \nSocial Dancing\n10pm until 1:30pm
URL:https://golatindance.com/event/latin-spice/2028-09-14/
LOCATION:Spice Trade Brewing\, 8775 E Orchard Rd STE 811\, Greenwood Village\, CO\, 80111\, United States
CATEGORIES:Denver
END:VEVENT
BEGIN:VEVENT
DTSTART;TZID=America/Denver:20280921T210000
DTEND;TZID=America/Denver:20280922T013000
DTSTAMP:20260422T171555
CREATED:20260102T170823Z
LAST-MODIFIED:20260116T154357Z
UID:10434465-1853182800-1853199000@golatindance.com
SUMMARY:Reychata Latin Spice
DESCRIPTION:If you have been looking to learn to dance Bachata\, Salsa\, or Merengue. This is the event for you to learn\, dance\, and socialize. \nBachata Class\n9pm – 10pm \nSocial Dancing\n10pm until 1:30pm
URL:https://golatindance.com/event/latin-spice/2028-09-21/
LOCATION:Spice Trade Brewing\, 8775 E Orchard Rd STE 811\, Greenwood Village\, CO\, 80111\, United States
CATEGORIES:Denver
END:VEVENT
BEGIN:VEVENT
DTSTART;TZID=America/Denver:20280928T210000
DTEND;TZID=America/Denver:20280929T013000
DTSTAMP:20260422T171555
CREATED:20260102T170823Z
LAST-MODIFIED:20260116T154357Z
UID:10434466-1853787600-1853803800@golatindance.com
SUMMARY:Reychata Latin Spice
DESCRIPTION:If you have been looking to learn to dance Bachata\, Salsa\, or Merengue. This is the event for you to learn\, dance\, and socialize. \nBachata Class\n9pm – 10pm \nSocial Dancing\n10pm until 1:30pm
URL:https://golatindance.com/event/latin-spice/2028-09-28/
LOCATION:Spice Trade Brewing\, 8775 E Orchard Rd STE 811\, Greenwood Village\, CO\, 80111\, United States
CATEGORIES:Denver
END:VEVENT
BEGIN:VEVENT
DTSTART;TZID=America/Denver:20281005T210000
DTEND;TZID=America/Denver:20281006T013000
DTSTAMP:20260422T171555
CREATED:20260102T170823Z
LAST-MODIFIED:20260116T154357Z
UID:10434467-1854392400-1854408600@golatindance.com
SUMMARY:Reychata Latin Spice
DESCRIPTION:If you have been looking to learn to dance Bachata\, Salsa\, or Merengue. This is the event for you to learn\, dance\, and socialize. \nBachata Class\n9pm – 10pm \nSocial Dancing\n10pm until 1:30pm
URL:https://golatindance.com/event/latin-spice/2028-10-05/
LOCATION:Spice Trade Brewing\, 8775 E Orchard Rd STE 811\, Greenwood Village\, CO\, 80111\, United States
CATEGORIES:Denver
END:VEVENT
BEGIN:VEVENT
DTSTART;TZID=America/Denver:20281012T210000
DTEND;TZID=America/Denver:20281013T013000
DTSTAMP:20260422T171555
CREATED:20260102T170823Z
LAST-MODIFIED:20260116T154357Z
UID:10434468-1854997200-1855013400@golatindance.com
SUMMARY:Reychata Latin Spice
DESCRIPTION:If you have been looking to learn to dance Bachata\, Salsa\, or Merengue. This is the event for you to learn\, dance\, and socialize. \nBachata Class\n9pm – 10pm \nSocial Dancing\n10pm until 1:30pm
URL:https://golatindance.com/event/latin-spice/2028-10-12/
LOCATION:Spice Trade Brewing\, 8775 E Orchard Rd STE 811\, Greenwood Village\, CO\, 80111\, United States
CATEGORIES:Denver
END:VEVENT
BEGIN:VEVENT
DTSTART;TZID=America/Denver:20281019T210000
DTEND;TZID=America/Denver:20281020T013000
DTSTAMP:20260422T171555
CREATED:20260102T170823Z
LAST-MODIFIED:20260116T154357Z
UID:10434469-1855602000-1855618200@golatindance.com
SUMMARY:Reychata Latin Spice
DESCRIPTION:If you have been looking to learn to dance Bachata\, Salsa\, or Merengue. This is the event for you to learn\, dance\, and socialize. \nBachata Class\n9pm – 10pm \nSocial Dancing\n10pm until 1:30pm
URL:https://golatindance.com/event/latin-spice/2028-10-19/
LOCATION:Spice Trade Brewing\, 8775 E Orchard Rd STE 811\, Greenwood Village\, CO\, 80111\, United States
CATEGORIES:Denver
END:VEVENT
BEGIN:VEVENT
DTSTART;TZID=America/Denver:20281026T210000
DTEND;TZID=America/Denver:20281027T013000
DTSTAMP:20260422T171555
CREATED:20260102T170823Z
LAST-MODIFIED:20260116T154357Z
UID:10434470-1856206800-1856223000@golatindance.com
SUMMARY:Reychata Latin Spice
DESCRIPTION:If you have been looking to learn to dance Bachata\, Salsa\, or Merengue. This is the event for you to learn\, dance\, and socialize. \nBachata Class\n9pm – 10pm \nSocial Dancing\n10pm until 1:30pm
URL:https://golatindance.com/event/latin-spice/2028-10-26/
LOCATION:Spice Trade Brewing\, 8775 E Orchard Rd STE 811\, Greenwood Village\, CO\, 80111\, United States
CATEGORIES:Denver
END:VEVENT
BEGIN:VEVENT
DTSTART;TZID=America/Denver:20281102T210000
DTEND;TZID=America/Denver:20281103T013000
DTSTAMP:20260422T171555
CREATED:20260102T170823Z
LAST-MODIFIED:20260116T154357Z
UID:10434471-1856811600-1856827800@golatindance.com
SUMMARY:Reychata Latin Spice
DESCRIPTION:If you have been looking to learn to dance Bachata\, Salsa\, or Merengue. This is the event for you to learn\, dance\, and socialize. \nBachata Class\n9pm – 10pm \nSocial Dancing\n10pm until 1:30pm
URL:https://golatindance.com/event/latin-spice/2028-11-02/
LOCATION:Spice Trade Brewing\, 8775 E Orchard Rd STE 811\, Greenwood Village\, CO\, 80111\, United States
CATEGORIES:Denver
END:VEVENT
BEGIN:VEVENT
DTSTART;TZID=America/Denver:20281109T210000
DTEND;TZID=America/Denver:20281110T013000
DTSTAMP:20260422T171555
CREATED:20260102T170823Z
LAST-MODIFIED:20260116T154357Z
UID:10434472-1857416400-1857432600@golatindance.com
SUMMARY:Reychata Latin Spice
DESCRIPTION:If you have been looking to learn to dance Bachata\, Salsa\, or Merengue. This is the event for you to learn\, dance\, and socialize. \nBachata Class\n9pm – 10pm \nSocial Dancing\n10pm until 1:30pm
URL:https://golatindance.com/event/latin-spice/2028-11-09/
LOCATION:Spice Trade Brewing\, 8775 E Orchard Rd STE 811\, Greenwood Village\, CO\, 80111\, United States
CATEGORIES:Denver
END:VEVENT
BEGIN:VEVENT
DTSTART;TZID=America/Denver:20281116T210000
DTEND;TZID=America/Denver:20281117T013000
DTSTAMP:20260422T171555
CREATED:20260102T170823Z
LAST-MODIFIED:20260116T154357Z
UID:10434473-1858021200-1858037400@golatindance.com
SUMMARY:Reychata Latin Spice
DESCRIPTION:If you have been looking to learn to dance Bachata\, Salsa\, or Merengue. This is the event for you to learn\, dance\, and socialize. \nBachata Class\n9pm – 10pm \nSocial Dancing\n10pm until 1:30pm
URL:https://golatindance.com/event/latin-spice/2028-11-16/
LOCATION:Spice Trade Brewing\, 8775 E Orchard Rd STE 811\, Greenwood Village\, CO\, 80111\, United States
CATEGORIES:Denver
END:VEVENT
BEGIN:VEVENT
DTSTART;TZID=America/Denver:20281123T210000
DTEND;TZID=America/Denver:20281124T013000
DTSTAMP:20260422T171555
CREATED:20260102T170823Z
LAST-MODIFIED:20260116T154357Z
UID:10434474-1858626000-1858642200@golatindance.com
SUMMARY:Reychata Latin Spice
DESCRIPTION:If you have been looking to learn to dance Bachata\, Salsa\, or Merengue. This is the event for you to learn\, dance\, and socialize. \nBachata Class\n9pm – 10pm \nSocial Dancing\n10pm until 1:30pm
URL:https://golatindance.com/event/latin-spice/2028-11-23/
LOCATION:Spice Trade Brewing\, 8775 E Orchard Rd STE 811\, Greenwood Village\, CO\, 80111\, United States
CATEGORIES:Denver
END:VEVENT
BEGIN:VEVENT
DTSTART;TZID=America/Denver:20281130T210000
DTEND;TZID=America/Denver:20281201T013000
DTSTAMP:20260422T171555
CREATED:20260102T170823Z
LAST-MODIFIED:20260116T154357Z
UID:10434475-1859230800-1859247000@golatindance.com
SUMMARY:Reychata Latin Spice
DESCRIPTION:If you have been looking to learn to dance Bachata\, Salsa\, or Merengue. This is the event for you to learn\, dance\, and socialize. \nBachata Class\n9pm – 10pm \nSocial Dancing\n10pm until 1:30pm
URL:https://golatindance.com/event/latin-spice/2028-11-30/
LOCATION:Spice Trade Brewing\, 8775 E Orchard Rd STE 811\, Greenwood Village\, CO\, 80111\, United States
CATEGORIES:Denver
END:VEVENT
BEGIN:VEVENT
DTSTART;TZID=America/Denver:20281207T210000
DTEND;TZID=America/Denver:20281208T013000
DTSTAMP:20260422T171555
CREATED:20260102T170823Z
LAST-MODIFIED:20260116T154357Z
UID:10434476-1859835600-1859851800@golatindance.com
SUMMARY:Reychata Latin Spice
DESCRIPTION:If you have been looking to learn to dance Bachata\, Salsa\, or Merengue. This is the event for you to learn\, dance\, and socialize. \nBachata Class\n9pm – 10pm \nSocial Dancing\n10pm until 1:30pm
URL:https://golatindance.com/event/latin-spice/2028-12-07/
LOCATION:Spice Trade Brewing\, 8775 E Orchard Rd STE 811\, Greenwood Village\, CO\, 80111\, United States
CATEGORIES:Denver
END:VEVENT
BEGIN:VEVENT
DTSTART;TZID=America/Denver:20281214T210000
DTEND;TZID=America/Denver:20281215T013000
DTSTAMP:20260422T171555
CREATED:20260102T170823Z
LAST-MODIFIED:20260116T154357Z
UID:10434477-1860440400-1860456600@golatindance.com
SUMMARY:Reychata Latin Spice
DESCRIPTION:If you have been looking to learn to dance Bachata\, Salsa\, or Merengue. This is the event for you to learn\, dance\, and socialize. \nBachata Class\n9pm – 10pm \nSocial Dancing\n10pm until 1:30pm
URL:https://golatindance.com/event/latin-spice/2028-12-14/
LOCATION:Spice Trade Brewing\, 8775 E Orchard Rd STE 811\, Greenwood Village\, CO\, 80111\, United States
CATEGORIES:Denver
END:VEVENT
BEGIN:VEVENT
DTSTART;TZID=America/Denver:20281221T210000
DTEND;TZID=America/Denver:20281222T013000
DTSTAMP:20260422T171555
CREATED:20260102T170823Z
LAST-MODIFIED:20260116T154357Z
UID:10434478-1861045200-1861061400@golatindance.com
SUMMARY:Reychata Latin Spice
DESCRIPTION:If you have been looking to learn to dance Bachata\, Salsa\, or Merengue. This is the event for you to learn\, dance\, and socialize. \nBachata Class\n9pm – 10pm \nSocial Dancing\n10pm until 1:30pm
URL:https://golatindance.com/event/latin-spice/2028-12-21/
LOCATION:Spice Trade Brewing\, 8775 E Orchard Rd STE 811\, Greenwood Village\, CO\, 80111\, United States
CATEGORIES:Denver
END:VEVENT
END:VCALENDAR