BEGIN:VCALENDAR
VERSION:2.0
PRODID:-//GO Latin Dance - ECPv6.15.18//NONSGML v1.0//EN
CALSCALE:GREGORIAN
METHOD:PUBLISH
X-ORIGINAL-URL:https://golatindance.com
X-WR-CALDESC:Events for GO Latin Dance
REFRESH-INTERVAL;VALUE=DURATION:PT1H
X-Robots-Tag:noindex
X-PUBLISHED-TTL:PT1H
BEGIN:VTIMEZONE
TZID:America/Denver
BEGIN:DAYLIGHT
TZOFFSETFROM:-0700
TZOFFSETTO:-0600
TZNAME:MDT
DTSTART:20270314T090000
END:DAYLIGHT
BEGIN:STANDARD
TZOFFSETFROM:-0600
TZOFFSETTO:-0700
TZNAME:MST
DTSTART:20271107T080000
END:STANDARD
BEGIN:DAYLIGHT
TZOFFSETFROM:-0700
TZOFFSETTO:-0600
TZNAME:MDT
DTSTART:20280312T090000
END:DAYLIGHT
BEGIN:STANDARD
TZOFFSETFROM:-0600
TZOFFSETTO:-0700
TZNAME:MST
DTSTART:20281105T080000
END:STANDARD
BEGIN:DAYLIGHT
TZOFFSETFROM:-0700
TZOFFSETTO:-0600
TZNAME:MDT
DTSTART:20290311T090000
END:DAYLIGHT
BEGIN:STANDARD
TZOFFSETFROM:-0600
TZOFFSETTO:-0700
TZNAME:MST
DTSTART:20291104T080000
END:STANDARD
BEGIN:DAYLIGHT
TZOFFSETFROM:-0700
TZOFFSETTO:-0600
TZNAME:MDT
DTSTART:20300310T090000
END:DAYLIGHT
BEGIN:STANDARD
TZOFFSETFROM:-0600
TZOFFSETTO:-0700
TZNAME:MST
DTSTART:20301103T080000
END:STANDARD
END:VTIMEZONE
BEGIN:VEVENT
DTSTART;TZID=America/Denver:20281019T210000
DTEND;TZID=America/Denver:20281020T013000
DTSTAMP:20260422T201045
CREATED:20260102T170823Z
LAST-MODIFIED:20260116T154357Z
UID:10434469-1855602000-1855618200@golatindance.com
SUMMARY:Reychata Latin Spice
DESCRIPTION:If you have been looking to learn to dance Bachata\, Salsa\, or Merengue. This is the event for you to learn\, dance\, and socialize. \nBachata Class\n9pm – 10pm \nSocial Dancing\n10pm until 1:30pm
URL:https://golatindance.com/event/latin-spice/2028-10-19/
LOCATION:Spice Trade Brewing\, 8775 E Orchard Rd STE 811\, Greenwood Village\, CO\, 80111\, United States
CATEGORIES:Denver
END:VEVENT
BEGIN:VEVENT
DTSTART;TZID=America/Denver:20281026T210000
DTEND;TZID=America/Denver:20281027T013000
DTSTAMP:20260422T201045
CREATED:20260102T170823Z
LAST-MODIFIED:20260116T154357Z
UID:10434470-1856206800-1856223000@golatindance.com
SUMMARY:Reychata Latin Spice
DESCRIPTION:If you have been looking to learn to dance Bachata\, Salsa\, or Merengue. This is the event for you to learn\, dance\, and socialize. \nBachata Class\n9pm – 10pm \nSocial Dancing\n10pm until 1:30pm
URL:https://golatindance.com/event/latin-spice/2028-10-26/
LOCATION:Spice Trade Brewing\, 8775 E Orchard Rd STE 811\, Greenwood Village\, CO\, 80111\, United States
CATEGORIES:Denver
END:VEVENT
BEGIN:VEVENT
DTSTART;TZID=America/Denver:20281102T210000
DTEND;TZID=America/Denver:20281103T013000
DTSTAMP:20260422T201045
CREATED:20260102T170823Z
LAST-MODIFIED:20260116T154357Z
UID:10434471-1856811600-1856827800@golatindance.com
SUMMARY:Reychata Latin Spice
DESCRIPTION:If you have been looking to learn to dance Bachata\, Salsa\, or Merengue. This is the event for you to learn\, dance\, and socialize. \nBachata Class\n9pm – 10pm \nSocial Dancing\n10pm until 1:30pm
URL:https://golatindance.com/event/latin-spice/2028-11-02/
LOCATION:Spice Trade Brewing\, 8775 E Orchard Rd STE 811\, Greenwood Village\, CO\, 80111\, United States
CATEGORIES:Denver
END:VEVENT
BEGIN:VEVENT
DTSTART;TZID=America/Denver:20281109T210000
DTEND;TZID=America/Denver:20281110T013000
DTSTAMP:20260422T201045
CREATED:20260102T170823Z
LAST-MODIFIED:20260116T154357Z
UID:10434472-1857416400-1857432600@golatindance.com
SUMMARY:Reychata Latin Spice
DESCRIPTION:If you have been looking to learn to dance Bachata\, Salsa\, or Merengue. This is the event for you to learn\, dance\, and socialize. \nBachata Class\n9pm – 10pm \nSocial Dancing\n10pm until 1:30pm
URL:https://golatindance.com/event/latin-spice/2028-11-09/
LOCATION:Spice Trade Brewing\, 8775 E Orchard Rd STE 811\, Greenwood Village\, CO\, 80111\, United States
CATEGORIES:Denver
END:VEVENT
BEGIN:VEVENT
DTSTART;TZID=America/Denver:20281116T210000
DTEND;TZID=America/Denver:20281117T013000
DTSTAMP:20260422T201045
CREATED:20260102T170823Z
LAST-MODIFIED:20260116T154357Z
UID:10434473-1858021200-1858037400@golatindance.com
SUMMARY:Reychata Latin Spice
DESCRIPTION:If you have been looking to learn to dance Bachata\, Salsa\, or Merengue. This is the event for you to learn\, dance\, and socialize. \nBachata Class\n9pm – 10pm \nSocial Dancing\n10pm until 1:30pm
URL:https://golatindance.com/event/latin-spice/2028-11-16/
LOCATION:Spice Trade Brewing\, 8775 E Orchard Rd STE 811\, Greenwood Village\, CO\, 80111\, United States
CATEGORIES:Denver
END:VEVENT
BEGIN:VEVENT
DTSTART;TZID=America/Denver:20281123T210000
DTEND;TZID=America/Denver:20281124T013000
DTSTAMP:20260422T201045
CREATED:20260102T170823Z
LAST-MODIFIED:20260116T154357Z
UID:10434474-1858626000-1858642200@golatindance.com
SUMMARY:Reychata Latin Spice
DESCRIPTION:If you have been looking to learn to dance Bachata\, Salsa\, or Merengue. This is the event for you to learn\, dance\, and socialize. \nBachata Class\n9pm – 10pm \nSocial Dancing\n10pm until 1:30pm
URL:https://golatindance.com/event/latin-spice/2028-11-23/
LOCATION:Spice Trade Brewing\, 8775 E Orchard Rd STE 811\, Greenwood Village\, CO\, 80111\, United States
CATEGORIES:Denver
END:VEVENT
BEGIN:VEVENT
DTSTART;TZID=America/Denver:20281130T210000
DTEND;TZID=America/Denver:20281201T013000
DTSTAMP:20260422T201045
CREATED:20260102T170823Z
LAST-MODIFIED:20260116T154357Z
UID:10434475-1859230800-1859247000@golatindance.com
SUMMARY:Reychata Latin Spice
DESCRIPTION:If you have been looking to learn to dance Bachata\, Salsa\, or Merengue. This is the event for you to learn\, dance\, and socialize. \nBachata Class\n9pm – 10pm \nSocial Dancing\n10pm until 1:30pm
URL:https://golatindance.com/event/latin-spice/2028-11-30/
LOCATION:Spice Trade Brewing\, 8775 E Orchard Rd STE 811\, Greenwood Village\, CO\, 80111\, United States
CATEGORIES:Denver
END:VEVENT
BEGIN:VEVENT
DTSTART;TZID=America/Denver:20281207T210000
DTEND;TZID=America/Denver:20281208T013000
DTSTAMP:20260422T201045
CREATED:20260102T170823Z
LAST-MODIFIED:20260116T154357Z
UID:10434476-1859835600-1859851800@golatindance.com
SUMMARY:Reychata Latin Spice
DESCRIPTION:If you have been looking to learn to dance Bachata\, Salsa\, or Merengue. This is the event for you to learn\, dance\, and socialize. \nBachata Class\n9pm – 10pm \nSocial Dancing\n10pm until 1:30pm
URL:https://golatindance.com/event/latin-spice/2028-12-07/
LOCATION:Spice Trade Brewing\, 8775 E Orchard Rd STE 811\, Greenwood Village\, CO\, 80111\, United States
CATEGORIES:Denver
END:VEVENT
BEGIN:VEVENT
DTSTART;TZID=America/Denver:20281214T210000
DTEND;TZID=America/Denver:20281215T013000
DTSTAMP:20260422T201045
CREATED:20260102T170823Z
LAST-MODIFIED:20260116T154357Z
UID:10434477-1860440400-1860456600@golatindance.com
SUMMARY:Reychata Latin Spice
DESCRIPTION:If you have been looking to learn to dance Bachata\, Salsa\, or Merengue. This is the event for you to learn\, dance\, and socialize. \nBachata Class\n9pm – 10pm \nSocial Dancing\n10pm until 1:30pm
URL:https://golatindance.com/event/latin-spice/2028-12-14/
LOCATION:Spice Trade Brewing\, 8775 E Orchard Rd STE 811\, Greenwood Village\, CO\, 80111\, United States
CATEGORIES:Denver
END:VEVENT
BEGIN:VEVENT
DTSTART;TZID=America/Denver:20281221T210000
DTEND;TZID=America/Denver:20281222T013000
DTSTAMP:20260422T201045
CREATED:20260102T170823Z
LAST-MODIFIED:20260116T154357Z
UID:10434478-1861045200-1861061400@golatindance.com
SUMMARY:Reychata Latin Spice
DESCRIPTION:If you have been looking to learn to dance Bachata\, Salsa\, or Merengue. This is the event for you to learn\, dance\, and socialize. \nBachata Class\n9pm – 10pm \nSocial Dancing\n10pm until 1:30pm
URL:https://golatindance.com/event/latin-spice/2028-12-21/
LOCATION:Spice Trade Brewing\, 8775 E Orchard Rd STE 811\, Greenwood Village\, CO\, 80111\, United States
CATEGORIES:Denver
END:VEVENT
BEGIN:VEVENT
DTSTART;TZID=America/Denver:20281228T210000
DTEND;TZID=America/Denver:20281229T013000
DTSTAMP:20260422T201045
CREATED:20260102T170823Z
LAST-MODIFIED:20260116T154357Z
UID:10434479-1861650000-1861666200@golatindance.com
SUMMARY:Reychata Latin Spice
DESCRIPTION:If you have been looking to learn to dance Bachata\, Salsa\, or Merengue. This is the event for you to learn\, dance\, and socialize. \nBachata Class\n9pm – 10pm \nSocial Dancing\n10pm until 1:30pm
URL:https://golatindance.com/event/latin-spice/2028-12-28/
LOCATION:Spice Trade Brewing\, 8775 E Orchard Rd STE 811\, Greenwood Village\, CO\, 80111\, United States
CATEGORIES:Denver
END:VEVENT
BEGIN:VEVENT
DTSTART;TZID=America/Denver:20290104T210000
DTEND;TZID=America/Denver:20290105T013000
DTSTAMP:20260422T201045
CREATED:20260102T170823Z
LAST-MODIFIED:20260116T154357Z
UID:10434480-1862254800-1862271000@golatindance.com
SUMMARY:Reychata Latin Spice
DESCRIPTION:If you have been looking to learn to dance Bachata\, Salsa\, or Merengue. This is the event for you to learn\, dance\, and socialize. \nBachata Class\n9pm – 10pm \nSocial Dancing\n10pm until 1:30pm
URL:https://golatindance.com/event/latin-spice/2029-01-04/
LOCATION:Spice Trade Brewing\, 8775 E Orchard Rd STE 811\, Greenwood Village\, CO\, 80111\, United States
CATEGORIES:Denver
END:VEVENT
BEGIN:VEVENT
DTSTART;TZID=America/Denver:20290111T210000
DTEND;TZID=America/Denver:20290112T013000
DTSTAMP:20260422T201045
CREATED:20260102T170823Z
LAST-MODIFIED:20260116T154357Z
UID:10434481-1862859600-1862875800@golatindance.com
SUMMARY:Reychata Latin Spice
DESCRIPTION:If you have been looking to learn to dance Bachata\, Salsa\, or Merengue. This is the event for you to learn\, dance\, and socialize. \nBachata Class\n9pm – 10pm \nSocial Dancing\n10pm until 1:30pm
URL:https://golatindance.com/event/latin-spice/2029-01-11/
LOCATION:Spice Trade Brewing\, 8775 E Orchard Rd STE 811\, Greenwood Village\, CO\, 80111\, United States
CATEGORIES:Denver
END:VEVENT
BEGIN:VEVENT
DTSTART;TZID=America/Denver:20290118T210000
DTEND;TZID=America/Denver:20290119T013000
DTSTAMP:20260422T201045
CREATED:20260102T170823Z
LAST-MODIFIED:20260116T154357Z
UID:10434482-1863464400-1863480600@golatindance.com
SUMMARY:Reychata Latin Spice
DESCRIPTION:If you have been looking to learn to dance Bachata\, Salsa\, or Merengue. This is the event for you to learn\, dance\, and socialize. \nBachata Class\n9pm – 10pm \nSocial Dancing\n10pm until 1:30pm
URL:https://golatindance.com/event/latin-spice/2029-01-18/
LOCATION:Spice Trade Brewing\, 8775 E Orchard Rd STE 811\, Greenwood Village\, CO\, 80111\, United States
CATEGORIES:Denver
END:VEVENT
BEGIN:VEVENT
DTSTART;TZID=America/Denver:20290125T210000
DTEND;TZID=America/Denver:20290126T013000
DTSTAMP:20260422T201045
CREATED:20260102T170823Z
LAST-MODIFIED:20260116T154357Z
UID:10434483-1864069200-1864085400@golatindance.com
SUMMARY:Reychata Latin Spice
DESCRIPTION:If you have been looking to learn to dance Bachata\, Salsa\, or Merengue. This is the event for you to learn\, dance\, and socialize. \nBachata Class\n9pm – 10pm \nSocial Dancing\n10pm until 1:30pm
URL:https://golatindance.com/event/latin-spice/2029-01-25/
LOCATION:Spice Trade Brewing\, 8775 E Orchard Rd STE 811\, Greenwood Village\, CO\, 80111\, United States
CATEGORIES:Denver
END:VEVENT
BEGIN:VEVENT
DTSTART;TZID=America/Denver:20290201T210000
DTEND;TZID=America/Denver:20290202T013000
DTSTAMP:20260422T201045
CREATED:20260102T170823Z
LAST-MODIFIED:20260116T154357Z
UID:10434484-1864674000-1864690200@golatindance.com
SUMMARY:Reychata Latin Spice
DESCRIPTION:If you have been looking to learn to dance Bachata\, Salsa\, or Merengue. This is the event for you to learn\, dance\, and socialize. \nBachata Class\n9pm – 10pm \nSocial Dancing\n10pm until 1:30pm
URL:https://golatindance.com/event/latin-spice/2029-02-01/
LOCATION:Spice Trade Brewing\, 8775 E Orchard Rd STE 811\, Greenwood Village\, CO\, 80111\, United States
CATEGORIES:Denver
END:VEVENT
BEGIN:VEVENT
DTSTART;TZID=America/Denver:20290208T210000
DTEND;TZID=America/Denver:20290209T013000
DTSTAMP:20260422T201045
CREATED:20260102T170823Z
LAST-MODIFIED:20260116T154357Z
UID:10434485-1865278800-1865295000@golatindance.com
SUMMARY:Reychata Latin Spice
DESCRIPTION:If you have been looking to learn to dance Bachata\, Salsa\, or Merengue. This is the event for you to learn\, dance\, and socialize. \nBachata Class\n9pm – 10pm \nSocial Dancing\n10pm until 1:30pm
URL:https://golatindance.com/event/latin-spice/2029-02-08/
LOCATION:Spice Trade Brewing\, 8775 E Orchard Rd STE 811\, Greenwood Village\, CO\, 80111\, United States
CATEGORIES:Denver
END:VEVENT
BEGIN:VEVENT
DTSTART;TZID=America/Denver:20290215T210000
DTEND;TZID=America/Denver:20290216T013000
DTSTAMP:20260422T201045
CREATED:20260102T170823Z
LAST-MODIFIED:20260116T154357Z
UID:10434486-1865883600-1865899800@golatindance.com
SUMMARY:Reychata Latin Spice
DESCRIPTION:If you have been looking to learn to dance Bachata\, Salsa\, or Merengue. This is the event for you to learn\, dance\, and socialize. \nBachata Class\n9pm – 10pm \nSocial Dancing\n10pm until 1:30pm
URL:https://golatindance.com/event/latin-spice/2029-02-15/
LOCATION:Spice Trade Brewing\, 8775 E Orchard Rd STE 811\, Greenwood Village\, CO\, 80111\, United States
CATEGORIES:Denver
END:VEVENT
BEGIN:VEVENT
DTSTART;TZID=America/Denver:20290222T210000
DTEND;TZID=America/Denver:20290223T013000
DTSTAMP:20260422T201045
CREATED:20260102T170823Z
LAST-MODIFIED:20260116T154357Z
UID:10434487-1866488400-1866504600@golatindance.com
SUMMARY:Reychata Latin Spice
DESCRIPTION:If you have been looking to learn to dance Bachata\, Salsa\, or Merengue. This is the event for you to learn\, dance\, and socialize. \nBachata Class\n9pm – 10pm \nSocial Dancing\n10pm until 1:30pm
URL:https://golatindance.com/event/latin-spice/2029-02-22/
LOCATION:Spice Trade Brewing\, 8775 E Orchard Rd STE 811\, Greenwood Village\, CO\, 80111\, United States
CATEGORIES:Denver
END:VEVENT
BEGIN:VEVENT
DTSTART;TZID=America/Denver:20290301T210000
DTEND;TZID=America/Denver:20290302T013000
DTSTAMP:20260422T201045
CREATED:20260102T170823Z
LAST-MODIFIED:20260116T154357Z
UID:10434488-1867093200-1867109400@golatindance.com
SUMMARY:Reychata Latin Spice
DESCRIPTION:If you have been looking to learn to dance Bachata\, Salsa\, or Merengue. This is the event for you to learn\, dance\, and socialize. \nBachata Class\n9pm – 10pm \nSocial Dancing\n10pm until 1:30pm
URL:https://golatindance.com/event/latin-spice/2029-03-01/
LOCATION:Spice Trade Brewing\, 8775 E Orchard Rd STE 811\, Greenwood Village\, CO\, 80111\, United States
CATEGORIES:Denver
END:VEVENT
BEGIN:VEVENT
DTSTART;TZID=America/Denver:20290308T210000
DTEND;TZID=America/Denver:20290309T013000
DTSTAMP:20260422T201045
CREATED:20260102T170823Z
LAST-MODIFIED:20260116T154357Z
UID:10434489-1867698000-1867714200@golatindance.com
SUMMARY:Reychata Latin Spice
DESCRIPTION:If you have been looking to learn to dance Bachata\, Salsa\, or Merengue. This is the event for you to learn\, dance\, and socialize. \nBachata Class\n9pm – 10pm \nSocial Dancing\n10pm until 1:30pm
URL:https://golatindance.com/event/latin-spice/2029-03-08/
LOCATION:Spice Trade Brewing\, 8775 E Orchard Rd STE 811\, Greenwood Village\, CO\, 80111\, United States
CATEGORIES:Denver
END:VEVENT
BEGIN:VEVENT
DTSTART;TZID=America/Denver:20290315T210000
DTEND;TZID=America/Denver:20290316T013000
DTSTAMP:20260422T201045
CREATED:20260102T170823Z
LAST-MODIFIED:20260116T154357Z
UID:10434490-1868302800-1868319000@golatindance.com
SUMMARY:Reychata Latin Spice
DESCRIPTION:If you have been looking to learn to dance Bachata\, Salsa\, or Merengue. This is the event for you to learn\, dance\, and socialize. \nBachata Class\n9pm – 10pm \nSocial Dancing\n10pm until 1:30pm
URL:https://golatindance.com/event/latin-spice/2029-03-15/
LOCATION:Spice Trade Brewing\, 8775 E Orchard Rd STE 811\, Greenwood Village\, CO\, 80111\, United States
CATEGORIES:Denver
END:VEVENT
BEGIN:VEVENT
DTSTART;TZID=America/Denver:20290322T210000
DTEND;TZID=America/Denver:20290323T013000
DTSTAMP:20260422T201045
CREATED:20260102T170823Z
LAST-MODIFIED:20260116T154357Z
UID:10434491-1868907600-1868923800@golatindance.com
SUMMARY:Reychata Latin Spice
DESCRIPTION:If you have been looking to learn to dance Bachata\, Salsa\, or Merengue. This is the event for you to learn\, dance\, and socialize. \nBachata Class\n9pm – 10pm \nSocial Dancing\n10pm until 1:30pm
URL:https://golatindance.com/event/latin-spice/2029-03-22/
LOCATION:Spice Trade Brewing\, 8775 E Orchard Rd STE 811\, Greenwood Village\, CO\, 80111\, United States
CATEGORIES:Denver
END:VEVENT
BEGIN:VEVENT
DTSTART;TZID=America/Denver:20290329T210000
DTEND;TZID=America/Denver:20290330T013000
DTSTAMP:20260422T201045
CREATED:20260102T170823Z
LAST-MODIFIED:20260116T154357Z
UID:10434492-1869512400-1869528600@golatindance.com
SUMMARY:Reychata Latin Spice
DESCRIPTION:If you have been looking to learn to dance Bachata\, Salsa\, or Merengue. This is the event for you to learn\, dance\, and socialize. \nBachata Class\n9pm – 10pm \nSocial Dancing\n10pm until 1:30pm
URL:https://golatindance.com/event/latin-spice/2029-03-29/
LOCATION:Spice Trade Brewing\, 8775 E Orchard Rd STE 811\, Greenwood Village\, CO\, 80111\, United States
CATEGORIES:Denver
END:VEVENT
BEGIN:VEVENT
DTSTART;TZID=America/Denver:20290405T210000
DTEND;TZID=America/Denver:20290406T013000
DTSTAMP:20260422T201045
CREATED:20260102T170823Z
LAST-MODIFIED:20260116T154357Z
UID:10434493-1870117200-1870133400@golatindance.com
SUMMARY:Reychata Latin Spice
DESCRIPTION:If you have been looking to learn to dance Bachata\, Salsa\, or Merengue. This is the event for you to learn\, dance\, and socialize. \nBachata Class\n9pm – 10pm \nSocial Dancing\n10pm until 1:30pm
URL:https://golatindance.com/event/latin-spice/2029-04-05/
LOCATION:Spice Trade Brewing\, 8775 E Orchard Rd STE 811\, Greenwood Village\, CO\, 80111\, United States
CATEGORIES:Denver
END:VEVENT
BEGIN:VEVENT
DTSTART;TZID=America/Denver:20290412T210000
DTEND;TZID=America/Denver:20290413T013000
DTSTAMP:20260422T201045
CREATED:20260102T170823Z
LAST-MODIFIED:20260116T154357Z
UID:10434494-1870722000-1870738200@golatindance.com
SUMMARY:Reychata Latin Spice
DESCRIPTION:If you have been looking to learn to dance Bachata\, Salsa\, or Merengue. This is the event for you to learn\, dance\, and socialize. \nBachata Class\n9pm – 10pm \nSocial Dancing\n10pm until 1:30pm
URL:https://golatindance.com/event/latin-spice/2029-04-12/
LOCATION:Spice Trade Brewing\, 8775 E Orchard Rd STE 811\, Greenwood Village\, CO\, 80111\, United States
CATEGORIES:Denver
END:VEVENT
BEGIN:VEVENT
DTSTART;TZID=America/Denver:20290419T210000
DTEND;TZID=America/Denver:20290420T013000
DTSTAMP:20260422T201045
CREATED:20260102T170823Z
LAST-MODIFIED:20260116T154357Z
UID:10434495-1871326800-1871343000@golatindance.com
SUMMARY:Reychata Latin Spice
DESCRIPTION:If you have been looking to learn to dance Bachata\, Salsa\, or Merengue. This is the event for you to learn\, dance\, and socialize. \nBachata Class\n9pm – 10pm \nSocial Dancing\n10pm until 1:30pm
URL:https://golatindance.com/event/latin-spice/2029-04-19/
LOCATION:Spice Trade Brewing\, 8775 E Orchard Rd STE 811\, Greenwood Village\, CO\, 80111\, United States
CATEGORIES:Denver
END:VEVENT
BEGIN:VEVENT
DTSTART;TZID=America/Denver:20290426T210000
DTEND;TZID=America/Denver:20290427T013000
DTSTAMP:20260422T201045
CREATED:20260102T170823Z
LAST-MODIFIED:20260116T154357Z
UID:10434496-1871931600-1871947800@golatindance.com
SUMMARY:Reychata Latin Spice
DESCRIPTION:If you have been looking to learn to dance Bachata\, Salsa\, or Merengue. This is the event for you to learn\, dance\, and socialize. \nBachata Class\n9pm – 10pm \nSocial Dancing\n10pm until 1:30pm
URL:https://golatindance.com/event/latin-spice/2029-04-26/
LOCATION:Spice Trade Brewing\, 8775 E Orchard Rd STE 811\, Greenwood Village\, CO\, 80111\, United States
CATEGORIES:Denver
END:VEVENT
BEGIN:VEVENT
DTSTART;TZID=America/Denver:20290503T210000
DTEND;TZID=America/Denver:20290504T013000
DTSTAMP:20260422T201045
CREATED:20260102T170823Z
LAST-MODIFIED:20260116T154357Z
UID:10434497-1872536400-1872552600@golatindance.com
SUMMARY:Reychata Latin Spice
DESCRIPTION:If you have been looking to learn to dance Bachata\, Salsa\, or Merengue. This is the event for you to learn\, dance\, and socialize. \nBachata Class\n9pm – 10pm \nSocial Dancing\n10pm until 1:30pm
URL:https://golatindance.com/event/latin-spice/2029-05-03/
LOCATION:Spice Trade Brewing\, 8775 E Orchard Rd STE 811\, Greenwood Village\, CO\, 80111\, United States
CATEGORIES:Denver
END:VEVENT
BEGIN:VEVENT
DTSTART;TZID=America/Denver:20290510T210000
DTEND;TZID=America/Denver:20290511T013000
DTSTAMP:20260422T201045
CREATED:20260102T170823Z
LAST-MODIFIED:20260116T154357Z
UID:10434498-1873141200-1873157400@golatindance.com
SUMMARY:Reychata Latin Spice
DESCRIPTION:If you have been looking to learn to dance Bachata\, Salsa\, or Merengue. This is the event for you to learn\, dance\, and socialize. \nBachata Class\n9pm – 10pm \nSocial Dancing\n10pm until 1:30pm
URL:https://golatindance.com/event/latin-spice/2029-05-10/
LOCATION:Spice Trade Brewing\, 8775 E Orchard Rd STE 811\, Greenwood Village\, CO\, 80111\, United States
CATEGORIES:Denver
END:VEVENT
END:VCALENDAR