BEGIN:VCALENDAR
VERSION:2.0
PRODID:-//GO Latin Dance - ECPv6.15.18//NONSGML v1.0//EN
CALSCALE:GREGORIAN
METHOD:PUBLISH
X-ORIGINAL-URL:https://golatindance.com
X-WR-CALDESC:Events for GO Latin Dance
REFRESH-INTERVAL;VALUE=DURATION:PT1H
X-Robots-Tag:noindex
X-PUBLISHED-TTL:PT1H
BEGIN:VTIMEZONE
TZID:America/Denver
BEGIN:DAYLIGHT
TZOFFSETFROM:-0700
TZOFFSETTO:-0600
TZNAME:MDT
DTSTART:20280312T090000
END:DAYLIGHT
BEGIN:STANDARD
TZOFFSETFROM:-0600
TZOFFSETTO:-0700
TZNAME:MST
DTSTART:20281105T080000
END:STANDARD
BEGIN:DAYLIGHT
TZOFFSETFROM:-0700
TZOFFSETTO:-0600
TZNAME:MDT
DTSTART:20290311T090000
END:DAYLIGHT
BEGIN:STANDARD
TZOFFSETFROM:-0600
TZOFFSETTO:-0700
TZNAME:MST
DTSTART:20291104T080000
END:STANDARD
BEGIN:DAYLIGHT
TZOFFSETFROM:-0700
TZOFFSETTO:-0600
TZNAME:MDT
DTSTART:20300310T090000
END:DAYLIGHT
BEGIN:STANDARD
TZOFFSETFROM:-0600
TZOFFSETTO:-0700
TZNAME:MST
DTSTART:20301103T080000
END:STANDARD
END:VTIMEZONE
BEGIN:VEVENT
DTSTART;TZID=America/Denver:20290517T210000
DTEND;TZID=America/Denver:20290518T013000
DTSTAMP:20260423T004716
CREATED:20260102T170823Z
LAST-MODIFIED:20260116T154357Z
UID:10434499-1873746000-1873762200@golatindance.com
SUMMARY:Reychata Latin Spice
DESCRIPTION:If you have been looking to learn to dance Bachata\, Salsa\, or Merengue. This is the event for you to learn\, dance\, and socialize. \nBachata Class\n9pm – 10pm \nSocial Dancing\n10pm until 1:30pm
URL:https://golatindance.com/event/latin-spice/2029-05-17/
LOCATION:Spice Trade Brewing\, 8775 E Orchard Rd STE 811\, Greenwood Village\, CO\, 80111\, United States
CATEGORIES:Denver
END:VEVENT
BEGIN:VEVENT
DTSTART;TZID=America/Denver:20290524T210000
DTEND;TZID=America/Denver:20290525T013000
DTSTAMP:20260423T004716
CREATED:20260102T170823Z
LAST-MODIFIED:20260116T154357Z
UID:10434500-1874350800-1874367000@golatindance.com
SUMMARY:Reychata Latin Spice
DESCRIPTION:If you have been looking to learn to dance Bachata\, Salsa\, or Merengue. This is the event for you to learn\, dance\, and socialize. \nBachata Class\n9pm – 10pm \nSocial Dancing\n10pm until 1:30pm
URL:https://golatindance.com/event/latin-spice/2029-05-24/
LOCATION:Spice Trade Brewing\, 8775 E Orchard Rd STE 811\, Greenwood Village\, CO\, 80111\, United States
CATEGORIES:Denver
END:VEVENT
BEGIN:VEVENT
DTSTART;TZID=America/Denver:20290531T210000
DTEND;TZID=America/Denver:20290601T013000
DTSTAMP:20260423T004716
CREATED:20260102T170823Z
LAST-MODIFIED:20260116T154357Z
UID:10434501-1874955600-1874971800@golatindance.com
SUMMARY:Reychata Latin Spice
DESCRIPTION:If you have been looking to learn to dance Bachata\, Salsa\, or Merengue. This is the event for you to learn\, dance\, and socialize. \nBachata Class\n9pm – 10pm \nSocial Dancing\n10pm until 1:30pm
URL:https://golatindance.com/event/latin-spice/2029-05-31/
LOCATION:Spice Trade Brewing\, 8775 E Orchard Rd STE 811\, Greenwood Village\, CO\, 80111\, United States
CATEGORIES:Denver
END:VEVENT
BEGIN:VEVENT
DTSTART;TZID=America/Denver:20290607T210000
DTEND;TZID=America/Denver:20290608T013000
DTSTAMP:20260423T004716
CREATED:20260102T170823Z
LAST-MODIFIED:20260116T154357Z
UID:10434502-1875560400-1875576600@golatindance.com
SUMMARY:Reychata Latin Spice
DESCRIPTION:If you have been looking to learn to dance Bachata\, Salsa\, or Merengue. This is the event for you to learn\, dance\, and socialize. \nBachata Class\n9pm – 10pm \nSocial Dancing\n10pm until 1:30pm
URL:https://golatindance.com/event/latin-spice/2029-06-07/
LOCATION:Spice Trade Brewing\, 8775 E Orchard Rd STE 811\, Greenwood Village\, CO\, 80111\, United States
CATEGORIES:Denver
END:VEVENT
BEGIN:VEVENT
DTSTART;TZID=America/Denver:20290614T210000
DTEND;TZID=America/Denver:20290615T013000
DTSTAMP:20260423T004716
CREATED:20260102T170823Z
LAST-MODIFIED:20260116T154357Z
UID:10434503-1876165200-1876181400@golatindance.com
SUMMARY:Reychata Latin Spice
DESCRIPTION:If you have been looking to learn to dance Bachata\, Salsa\, or Merengue. This is the event for you to learn\, dance\, and socialize. \nBachata Class\n9pm – 10pm \nSocial Dancing\n10pm until 1:30pm
URL:https://golatindance.com/event/latin-spice/2029-06-14/
LOCATION:Spice Trade Brewing\, 8775 E Orchard Rd STE 811\, Greenwood Village\, CO\, 80111\, United States
CATEGORIES:Denver
END:VEVENT
BEGIN:VEVENT
DTSTART;TZID=America/Denver:20290621T210000
DTEND;TZID=America/Denver:20290622T013000
DTSTAMP:20260423T004716
CREATED:20260102T170823Z
LAST-MODIFIED:20260116T154357Z
UID:10434504-1876770000-1876786200@golatindance.com
SUMMARY:Reychata Latin Spice
DESCRIPTION:If you have been looking to learn to dance Bachata\, Salsa\, or Merengue. This is the event for you to learn\, dance\, and socialize. \nBachata Class\n9pm – 10pm \nSocial Dancing\n10pm until 1:30pm
URL:https://golatindance.com/event/latin-spice/2029-06-21/
LOCATION:Spice Trade Brewing\, 8775 E Orchard Rd STE 811\, Greenwood Village\, CO\, 80111\, United States
CATEGORIES:Denver
END:VEVENT
BEGIN:VEVENT
DTSTART;TZID=America/Denver:20290628T210000
DTEND;TZID=America/Denver:20290629T013000
DTSTAMP:20260423T004716
CREATED:20260102T170823Z
LAST-MODIFIED:20260116T154357Z
UID:10434505-1877374800-1877391000@golatindance.com
SUMMARY:Reychata Latin Spice
DESCRIPTION:If you have been looking to learn to dance Bachata\, Salsa\, or Merengue. This is the event for you to learn\, dance\, and socialize. \nBachata Class\n9pm – 10pm \nSocial Dancing\n10pm until 1:30pm
URL:https://golatindance.com/event/latin-spice/2029-06-28/
LOCATION:Spice Trade Brewing\, 8775 E Orchard Rd STE 811\, Greenwood Village\, CO\, 80111\, United States
CATEGORIES:Denver
END:VEVENT
BEGIN:VEVENT
DTSTART;TZID=America/Denver:20290705T210000
DTEND;TZID=America/Denver:20290706T013000
DTSTAMP:20260423T004716
CREATED:20260102T170823Z
LAST-MODIFIED:20260116T154357Z
UID:10434506-1877979600-1877995800@golatindance.com
SUMMARY:Reychata Latin Spice
DESCRIPTION:If you have been looking to learn to dance Bachata\, Salsa\, or Merengue. This is the event for you to learn\, dance\, and socialize. \nBachata Class\n9pm – 10pm \nSocial Dancing\n10pm until 1:30pm
URL:https://golatindance.com/event/latin-spice/2029-07-05/
LOCATION:Spice Trade Brewing\, 8775 E Orchard Rd STE 811\, Greenwood Village\, CO\, 80111\, United States
CATEGORIES:Denver
END:VEVENT
BEGIN:VEVENT
DTSTART;TZID=America/Denver:20290712T210000
DTEND;TZID=America/Denver:20290713T013000
DTSTAMP:20260423T004716
CREATED:20260102T170823Z
LAST-MODIFIED:20260116T154357Z
UID:10434507-1878584400-1878600600@golatindance.com
SUMMARY:Reychata Latin Spice
DESCRIPTION:If you have been looking to learn to dance Bachata\, Salsa\, or Merengue. This is the event for you to learn\, dance\, and socialize. \nBachata Class\n9pm – 10pm \nSocial Dancing\n10pm until 1:30pm
URL:https://golatindance.com/event/latin-spice/2029-07-12/
LOCATION:Spice Trade Brewing\, 8775 E Orchard Rd STE 811\, Greenwood Village\, CO\, 80111\, United States
CATEGORIES:Denver
END:VEVENT
BEGIN:VEVENT
DTSTART;TZID=America/Denver:20290719T210000
DTEND;TZID=America/Denver:20290720T013000
DTSTAMP:20260423T004716
CREATED:20260102T170823Z
LAST-MODIFIED:20260116T154357Z
UID:10434508-1879189200-1879205400@golatindance.com
SUMMARY:Reychata Latin Spice
DESCRIPTION:If you have been looking to learn to dance Bachata\, Salsa\, or Merengue. This is the event for you to learn\, dance\, and socialize. \nBachata Class\n9pm – 10pm \nSocial Dancing\n10pm until 1:30pm
URL:https://golatindance.com/event/latin-spice/2029-07-19/
LOCATION:Spice Trade Brewing\, 8775 E Orchard Rd STE 811\, Greenwood Village\, CO\, 80111\, United States
CATEGORIES:Denver
END:VEVENT
BEGIN:VEVENT
DTSTART;TZID=America/Denver:20290726T210000
DTEND;TZID=America/Denver:20290727T013000
DTSTAMP:20260423T004716
CREATED:20260102T170823Z
LAST-MODIFIED:20260116T154357Z
UID:10434509-1879794000-1879810200@golatindance.com
SUMMARY:Reychata Latin Spice
DESCRIPTION:If you have been looking to learn to dance Bachata\, Salsa\, or Merengue. This is the event for you to learn\, dance\, and socialize. \nBachata Class\n9pm – 10pm \nSocial Dancing\n10pm until 1:30pm
URL:https://golatindance.com/event/latin-spice/2029-07-26/
LOCATION:Spice Trade Brewing\, 8775 E Orchard Rd STE 811\, Greenwood Village\, CO\, 80111\, United States
CATEGORIES:Denver
END:VEVENT
BEGIN:VEVENT
DTSTART;TZID=America/Denver:20290802T210000
DTEND;TZID=America/Denver:20290803T013000
DTSTAMP:20260423T004716
CREATED:20260102T170823Z
LAST-MODIFIED:20260116T154357Z
UID:10434510-1880398800-1880415000@golatindance.com
SUMMARY:Reychata Latin Spice
DESCRIPTION:If you have been looking to learn to dance Bachata\, Salsa\, or Merengue. This is the event for you to learn\, dance\, and socialize. \nBachata Class\n9pm – 10pm \nSocial Dancing\n10pm until 1:30pm
URL:https://golatindance.com/event/latin-spice/2029-08-02/
LOCATION:Spice Trade Brewing\, 8775 E Orchard Rd STE 811\, Greenwood Village\, CO\, 80111\, United States
CATEGORIES:Denver
END:VEVENT
BEGIN:VEVENT
DTSTART;TZID=America/Denver:20290809T210000
DTEND;TZID=America/Denver:20290810T013000
DTSTAMP:20260423T004716
CREATED:20260102T170823Z
LAST-MODIFIED:20260116T154357Z
UID:10434511-1881003600-1881019800@golatindance.com
SUMMARY:Reychata Latin Spice
DESCRIPTION:If you have been looking to learn to dance Bachata\, Salsa\, or Merengue. This is the event for you to learn\, dance\, and socialize. \nBachata Class\n9pm – 10pm \nSocial Dancing\n10pm until 1:30pm
URL:https://golatindance.com/event/latin-spice/2029-08-09/
LOCATION:Spice Trade Brewing\, 8775 E Orchard Rd STE 811\, Greenwood Village\, CO\, 80111\, United States
CATEGORIES:Denver
END:VEVENT
BEGIN:VEVENT
DTSTART;TZID=America/Denver:20290816T210000
DTEND;TZID=America/Denver:20290817T013000
DTSTAMP:20260423T004716
CREATED:20260102T170823Z
LAST-MODIFIED:20260116T154357Z
UID:10434512-1881608400-1881624600@golatindance.com
SUMMARY:Reychata Latin Spice
DESCRIPTION:If you have been looking to learn to dance Bachata\, Salsa\, or Merengue. This is the event for you to learn\, dance\, and socialize. \nBachata Class\n9pm – 10pm \nSocial Dancing\n10pm until 1:30pm
URL:https://golatindance.com/event/latin-spice/2029-08-16/
LOCATION:Spice Trade Brewing\, 8775 E Orchard Rd STE 811\, Greenwood Village\, CO\, 80111\, United States
CATEGORIES:Denver
END:VEVENT
BEGIN:VEVENT
DTSTART;TZID=America/Denver:20290823T210000
DTEND;TZID=America/Denver:20290824T013000
DTSTAMP:20260423T004716
CREATED:20260102T170823Z
LAST-MODIFIED:20260116T154357Z
UID:10434513-1882213200-1882229400@golatindance.com
SUMMARY:Reychata Latin Spice
DESCRIPTION:If you have been looking to learn to dance Bachata\, Salsa\, or Merengue. This is the event for you to learn\, dance\, and socialize. \nBachata Class\n9pm – 10pm \nSocial Dancing\n10pm until 1:30pm
URL:https://golatindance.com/event/latin-spice/2029-08-23/
LOCATION:Spice Trade Brewing\, 8775 E Orchard Rd STE 811\, Greenwood Village\, CO\, 80111\, United States
CATEGORIES:Denver
END:VEVENT
BEGIN:VEVENT
DTSTART;TZID=America/Denver:20290830T210000
DTEND;TZID=America/Denver:20290831T013000
DTSTAMP:20260423T004716
CREATED:20260102T170823Z
LAST-MODIFIED:20260116T154357Z
UID:10434514-1882818000-1882834200@golatindance.com
SUMMARY:Reychata Latin Spice
DESCRIPTION:If you have been looking to learn to dance Bachata\, Salsa\, or Merengue. This is the event for you to learn\, dance\, and socialize. \nBachata Class\n9pm – 10pm \nSocial Dancing\n10pm until 1:30pm
URL:https://golatindance.com/event/latin-spice/2029-08-30/
LOCATION:Spice Trade Brewing\, 8775 E Orchard Rd STE 811\, Greenwood Village\, CO\, 80111\, United States
CATEGORIES:Denver
END:VEVENT
BEGIN:VEVENT
DTSTART;TZID=America/Denver:20290906T210000
DTEND;TZID=America/Denver:20290907T013000
DTSTAMP:20260423T004716
CREATED:20260102T170823Z
LAST-MODIFIED:20260116T154357Z
UID:10434515-1883422800-1883439000@golatindance.com
SUMMARY:Reychata Latin Spice
DESCRIPTION:If you have been looking to learn to dance Bachata\, Salsa\, or Merengue. This is the event for you to learn\, dance\, and socialize. \nBachata Class\n9pm – 10pm \nSocial Dancing\n10pm until 1:30pm
URL:https://golatindance.com/event/latin-spice/2029-09-06/
LOCATION:Spice Trade Brewing\, 8775 E Orchard Rd STE 811\, Greenwood Village\, CO\, 80111\, United States
CATEGORIES:Denver
END:VEVENT
BEGIN:VEVENT
DTSTART;TZID=America/Denver:20290913T210000
DTEND;TZID=America/Denver:20290914T013000
DTSTAMP:20260423T004716
CREATED:20260102T170823Z
LAST-MODIFIED:20260116T154357Z
UID:10434516-1884027600-1884043800@golatindance.com
SUMMARY:Reychata Latin Spice
DESCRIPTION:If you have been looking to learn to dance Bachata\, Salsa\, or Merengue. This is the event for you to learn\, dance\, and socialize. \nBachata Class\n9pm – 10pm \nSocial Dancing\n10pm until 1:30pm
URL:https://golatindance.com/event/latin-spice/2029-09-13/
LOCATION:Spice Trade Brewing\, 8775 E Orchard Rd STE 811\, Greenwood Village\, CO\, 80111\, United States
CATEGORIES:Denver
END:VEVENT
BEGIN:VEVENT
DTSTART;TZID=America/Denver:20290920T210000
DTEND;TZID=America/Denver:20290921T013000
DTSTAMP:20260423T004716
CREATED:20260102T170823Z
LAST-MODIFIED:20260116T154357Z
UID:10434517-1884632400-1884648600@golatindance.com
SUMMARY:Reychata Latin Spice
DESCRIPTION:If you have been looking to learn to dance Bachata\, Salsa\, or Merengue. This is the event for you to learn\, dance\, and socialize. \nBachata Class\n9pm – 10pm \nSocial Dancing\n10pm until 1:30pm
URL:https://golatindance.com/event/latin-spice/2029-09-20/
LOCATION:Spice Trade Brewing\, 8775 E Orchard Rd STE 811\, Greenwood Village\, CO\, 80111\, United States
CATEGORIES:Denver
END:VEVENT
BEGIN:VEVENT
DTSTART;TZID=America/Denver:20290927T210000
DTEND;TZID=America/Denver:20290928T013000
DTSTAMP:20260423T004716
CREATED:20260102T170823Z
LAST-MODIFIED:20260116T154357Z
UID:10434518-1885237200-1885253400@golatindance.com
SUMMARY:Reychata Latin Spice
DESCRIPTION:If you have been looking to learn to dance Bachata\, Salsa\, or Merengue. This is the event for you to learn\, dance\, and socialize. \nBachata Class\n9pm – 10pm \nSocial Dancing\n10pm until 1:30pm
URL:https://golatindance.com/event/latin-spice/2029-09-27/
LOCATION:Spice Trade Brewing\, 8775 E Orchard Rd STE 811\, Greenwood Village\, CO\, 80111\, United States
CATEGORIES:Denver
END:VEVENT
BEGIN:VEVENT
DTSTART;TZID=America/Denver:20291004T210000
DTEND;TZID=America/Denver:20291005T013000
DTSTAMP:20260423T004716
CREATED:20260102T170823Z
LAST-MODIFIED:20260116T154357Z
UID:10434519-1885842000-1885858200@golatindance.com
SUMMARY:Reychata Latin Spice
DESCRIPTION:If you have been looking to learn to dance Bachata\, Salsa\, or Merengue. This is the event for you to learn\, dance\, and socialize. \nBachata Class\n9pm – 10pm \nSocial Dancing\n10pm until 1:30pm
URL:https://golatindance.com/event/latin-spice/2029-10-04/
LOCATION:Spice Trade Brewing\, 8775 E Orchard Rd STE 811\, Greenwood Village\, CO\, 80111\, United States
CATEGORIES:Denver
END:VEVENT
BEGIN:VEVENT
DTSTART;TZID=America/Denver:20291011T210000
DTEND;TZID=America/Denver:20291012T013000
DTSTAMP:20260423T004716
CREATED:20260102T170823Z
LAST-MODIFIED:20260116T154357Z
UID:10434520-1886446800-1886463000@golatindance.com
SUMMARY:Reychata Latin Spice
DESCRIPTION:If you have been looking to learn to dance Bachata\, Salsa\, or Merengue. This is the event for you to learn\, dance\, and socialize. \nBachata Class\n9pm – 10pm \nSocial Dancing\n10pm until 1:30pm
URL:https://golatindance.com/event/latin-spice/2029-10-11/
LOCATION:Spice Trade Brewing\, 8775 E Orchard Rd STE 811\, Greenwood Village\, CO\, 80111\, United States
CATEGORIES:Denver
END:VEVENT
BEGIN:VEVENT
DTSTART;TZID=America/Denver:20291018T210000
DTEND;TZID=America/Denver:20291019T013000
DTSTAMP:20260423T004716
CREATED:20260102T170823Z
LAST-MODIFIED:20260116T154357Z
UID:10434521-1887051600-1887067800@golatindance.com
SUMMARY:Reychata Latin Spice
DESCRIPTION:If you have been looking to learn to dance Bachata\, Salsa\, or Merengue. This is the event for you to learn\, dance\, and socialize. \nBachata Class\n9pm – 10pm \nSocial Dancing\n10pm until 1:30pm
URL:https://golatindance.com/event/latin-spice/2029-10-18/
LOCATION:Spice Trade Brewing\, 8775 E Orchard Rd STE 811\, Greenwood Village\, CO\, 80111\, United States
CATEGORIES:Denver
END:VEVENT
BEGIN:VEVENT
DTSTART;TZID=America/Denver:20291025T210000
DTEND;TZID=America/Denver:20291026T013000
DTSTAMP:20260423T004716
CREATED:20260102T170823Z
LAST-MODIFIED:20260116T154357Z
UID:10434522-1887656400-1887672600@golatindance.com
SUMMARY:Reychata Latin Spice
DESCRIPTION:If you have been looking to learn to dance Bachata\, Salsa\, or Merengue. This is the event for you to learn\, dance\, and socialize. \nBachata Class\n9pm – 10pm \nSocial Dancing\n10pm until 1:30pm
URL:https://golatindance.com/event/latin-spice/2029-10-25/
LOCATION:Spice Trade Brewing\, 8775 E Orchard Rd STE 811\, Greenwood Village\, CO\, 80111\, United States
CATEGORIES:Denver
END:VEVENT
BEGIN:VEVENT
DTSTART;TZID=America/Denver:20291101T210000
DTEND;TZID=America/Denver:20291102T013000
DTSTAMP:20260423T004716
CREATED:20260102T170823Z
LAST-MODIFIED:20260116T154357Z
UID:10434523-1888261200-1888277400@golatindance.com
SUMMARY:Reychata Latin Spice
DESCRIPTION:If you have been looking to learn to dance Bachata\, Salsa\, or Merengue. This is the event for you to learn\, dance\, and socialize. \nBachata Class\n9pm – 10pm \nSocial Dancing\n10pm until 1:30pm
URL:https://golatindance.com/event/latin-spice/2029-11-01/
LOCATION:Spice Trade Brewing\, 8775 E Orchard Rd STE 811\, Greenwood Village\, CO\, 80111\, United States
CATEGORIES:Denver
END:VEVENT
BEGIN:VEVENT
DTSTART;TZID=America/Denver:20291108T210000
DTEND;TZID=America/Denver:20291109T013000
DTSTAMP:20260423T004716
CREATED:20260102T170823Z
LAST-MODIFIED:20260116T154357Z
UID:10434524-1888866000-1888882200@golatindance.com
SUMMARY:Reychata Latin Spice
DESCRIPTION:If you have been looking to learn to dance Bachata\, Salsa\, or Merengue. This is the event for you to learn\, dance\, and socialize. \nBachata Class\n9pm – 10pm \nSocial Dancing\n10pm until 1:30pm
URL:https://golatindance.com/event/latin-spice/2029-11-08/
LOCATION:Spice Trade Brewing\, 8775 E Orchard Rd STE 811\, Greenwood Village\, CO\, 80111\, United States
CATEGORIES:Denver
END:VEVENT
BEGIN:VEVENT
DTSTART;TZID=America/Denver:20291115T210000
DTEND;TZID=America/Denver:20291116T013000
DTSTAMP:20260423T004716
CREATED:20260102T170823Z
LAST-MODIFIED:20260116T154357Z
UID:10434525-1889470800-1889487000@golatindance.com
SUMMARY:Reychata Latin Spice
DESCRIPTION:If you have been looking to learn to dance Bachata\, Salsa\, or Merengue. This is the event for you to learn\, dance\, and socialize. \nBachata Class\n9pm – 10pm \nSocial Dancing\n10pm until 1:30pm
URL:https://golatindance.com/event/latin-spice/2029-11-15/
LOCATION:Spice Trade Brewing\, 8775 E Orchard Rd STE 811\, Greenwood Village\, CO\, 80111\, United States
CATEGORIES:Denver
END:VEVENT
BEGIN:VEVENT
DTSTART;TZID=America/Denver:20291122T210000
DTEND;TZID=America/Denver:20291123T013000
DTSTAMP:20260423T004716
CREATED:20260102T170823Z
LAST-MODIFIED:20260116T154357Z
UID:10434526-1890075600-1890091800@golatindance.com
SUMMARY:Reychata Latin Spice
DESCRIPTION:If you have been looking to learn to dance Bachata\, Salsa\, or Merengue. This is the event for you to learn\, dance\, and socialize. \nBachata Class\n9pm – 10pm \nSocial Dancing\n10pm until 1:30pm
URL:https://golatindance.com/event/latin-spice/2029-11-22/
LOCATION:Spice Trade Brewing\, 8775 E Orchard Rd STE 811\, Greenwood Village\, CO\, 80111\, United States
CATEGORIES:Denver
END:VEVENT
BEGIN:VEVENT
DTSTART;TZID=America/Denver:20291129T210000
DTEND;TZID=America/Denver:20291130T013000
DTSTAMP:20260423T004716
CREATED:20260102T170823Z
LAST-MODIFIED:20260116T154357Z
UID:10434527-1890680400-1890696600@golatindance.com
SUMMARY:Reychata Latin Spice
DESCRIPTION:If you have been looking to learn to dance Bachata\, Salsa\, or Merengue. This is the event for you to learn\, dance\, and socialize. \nBachata Class\n9pm – 10pm \nSocial Dancing\n10pm until 1:30pm
URL:https://golatindance.com/event/latin-spice/2029-11-29/
LOCATION:Spice Trade Brewing\, 8775 E Orchard Rd STE 811\, Greenwood Village\, CO\, 80111\, United States
CATEGORIES:Denver
END:VEVENT
BEGIN:VEVENT
DTSTART;TZID=America/Denver:20291206T210000
DTEND;TZID=America/Denver:20291207T013000
DTSTAMP:20260423T004716
CREATED:20260102T170823Z
LAST-MODIFIED:20260116T154357Z
UID:10434528-1891285200-1891301400@golatindance.com
SUMMARY:Reychata Latin Spice
DESCRIPTION:If you have been looking to learn to dance Bachata\, Salsa\, or Merengue. This is the event for you to learn\, dance\, and socialize. \nBachata Class\n9pm – 10pm \nSocial Dancing\n10pm until 1:30pm
URL:https://golatindance.com/event/latin-spice/2029-12-06/
LOCATION:Spice Trade Brewing\, 8775 E Orchard Rd STE 811\, Greenwood Village\, CO\, 80111\, United States
CATEGORIES:Denver
END:VEVENT
END:VCALENDAR