BEGIN:VCALENDAR
VERSION:2.0
PRODID:-//GO Latin Dance - ECPv6.15.18//NONSGML v1.0//EN
CALSCALE:GREGORIAN
METHOD:PUBLISH
X-WR-CALNAME:GO Latin Dance
X-ORIGINAL-URL:https://golatindance.com
X-WR-CALDESC:Events for GO Latin Dance
REFRESH-INTERVAL;VALUE=DURATION:PT1H
X-Robots-Tag:noindex
X-PUBLISHED-TTL:PT1H
BEGIN:VTIMEZONE
TZID:America/Denver
BEGIN:DAYLIGHT
TZOFFSETFROM:-0700
TZOFFSETTO:-0600
TZNAME:MDT
DTSTART:20280312T090000
END:DAYLIGHT
BEGIN:STANDARD
TZOFFSETFROM:-0600
TZOFFSETTO:-0700
TZNAME:MST
DTSTART:20281105T080000
END:STANDARD
BEGIN:DAYLIGHT
TZOFFSETFROM:-0700
TZOFFSETTO:-0600
TZNAME:MDT
DTSTART:20290311T090000
END:DAYLIGHT
BEGIN:STANDARD
TZOFFSETFROM:-0600
TZOFFSETTO:-0700
TZNAME:MST
DTSTART:20291104T080000
END:STANDARD
BEGIN:DAYLIGHT
TZOFFSETFROM:-0700
TZOFFSETTO:-0600
TZNAME:MDT
DTSTART:20300310T090000
END:DAYLIGHT
BEGIN:STANDARD
TZOFFSETFROM:-0600
TZOFFSETTO:-0700
TZNAME:MST
DTSTART:20301103T080000
END:STANDARD
BEGIN:DAYLIGHT
TZOFFSETFROM:-0700
TZOFFSETTO:-0600
TZNAME:MDT
DTSTART:20310309T090000
END:DAYLIGHT
BEGIN:STANDARD
TZOFFSETFROM:-0600
TZOFFSETTO:-0700
TZNAME:MST
DTSTART:20311102T080000
END:STANDARD
END:VTIMEZONE
BEGIN:VEVENT
DTSTART;TZID=America/Denver:20291004T210000
DTEND;TZID=America/Denver:20291005T013000
DTSTAMP:20260423T041113
CREATED:20260102T170823Z
LAST-MODIFIED:20260116T154357Z
UID:10434519-1885842000-1885858200@golatindance.com
SUMMARY:Reychata Latin Spice
DESCRIPTION:If you have been looking to learn to dance Bachata\, Salsa\, or Merengue. This is the event for you to learn\, dance\, and socialize. \nBachata Class\n9pm – 10pm \nSocial Dancing\n10pm until 1:30pm
URL:https://golatindance.com/event/latin-spice/2029-10-04/
LOCATION:Spice Trade Brewing\, 8775 E Orchard Rd STE 811\, Greenwood Village\, CO\, 80111\, United States
CATEGORIES:Denver
END:VEVENT
BEGIN:VEVENT
DTSTART;TZID=America/Denver:20291011T210000
DTEND;TZID=America/Denver:20291012T013000
DTSTAMP:20260423T041113
CREATED:20260102T170823Z
LAST-MODIFIED:20260116T154357Z
UID:10434520-1886446800-1886463000@golatindance.com
SUMMARY:Reychata Latin Spice
DESCRIPTION:If you have been looking to learn to dance Bachata\, Salsa\, or Merengue. This is the event for you to learn\, dance\, and socialize. \nBachata Class\n9pm – 10pm \nSocial Dancing\n10pm until 1:30pm
URL:https://golatindance.com/event/latin-spice/2029-10-11/
LOCATION:Spice Trade Brewing\, 8775 E Orchard Rd STE 811\, Greenwood Village\, CO\, 80111\, United States
CATEGORIES:Denver
END:VEVENT
BEGIN:VEVENT
DTSTART;TZID=America/Denver:20291018T210000
DTEND;TZID=America/Denver:20291019T013000
DTSTAMP:20260423T041113
CREATED:20260102T170823Z
LAST-MODIFIED:20260116T154357Z
UID:10434521-1887051600-1887067800@golatindance.com
SUMMARY:Reychata Latin Spice
DESCRIPTION:If you have been looking to learn to dance Bachata\, Salsa\, or Merengue. This is the event for you to learn\, dance\, and socialize. \nBachata Class\n9pm – 10pm \nSocial Dancing\n10pm until 1:30pm
URL:https://golatindance.com/event/latin-spice/2029-10-18/
LOCATION:Spice Trade Brewing\, 8775 E Orchard Rd STE 811\, Greenwood Village\, CO\, 80111\, United States
CATEGORIES:Denver
END:VEVENT
BEGIN:VEVENT
DTSTART;TZID=America/Denver:20291025T210000
DTEND;TZID=America/Denver:20291026T013000
DTSTAMP:20260423T041113
CREATED:20260102T170823Z
LAST-MODIFIED:20260116T154357Z
UID:10434522-1887656400-1887672600@golatindance.com
SUMMARY:Reychata Latin Spice
DESCRIPTION:If you have been looking to learn to dance Bachata\, Salsa\, or Merengue. This is the event for you to learn\, dance\, and socialize. \nBachata Class\n9pm – 10pm \nSocial Dancing\n10pm until 1:30pm
URL:https://golatindance.com/event/latin-spice/2029-10-25/
LOCATION:Spice Trade Brewing\, 8775 E Orchard Rd STE 811\, Greenwood Village\, CO\, 80111\, United States
CATEGORIES:Denver
END:VEVENT
BEGIN:VEVENT
DTSTART;TZID=America/Denver:20291101T210000
DTEND;TZID=America/Denver:20291102T013000
DTSTAMP:20260423T041113
CREATED:20260102T170823Z
LAST-MODIFIED:20260116T154357Z
UID:10434523-1888261200-1888277400@golatindance.com
SUMMARY:Reychata Latin Spice
DESCRIPTION:If you have been looking to learn to dance Bachata\, Salsa\, or Merengue. This is the event for you to learn\, dance\, and socialize. \nBachata Class\n9pm – 10pm \nSocial Dancing\n10pm until 1:30pm
URL:https://golatindance.com/event/latin-spice/2029-11-01/
LOCATION:Spice Trade Brewing\, 8775 E Orchard Rd STE 811\, Greenwood Village\, CO\, 80111\, United States
CATEGORIES:Denver
END:VEVENT
BEGIN:VEVENT
DTSTART;TZID=America/Denver:20291108T210000
DTEND;TZID=America/Denver:20291109T013000
DTSTAMP:20260423T041113
CREATED:20260102T170823Z
LAST-MODIFIED:20260116T154357Z
UID:10434524-1888866000-1888882200@golatindance.com
SUMMARY:Reychata Latin Spice
DESCRIPTION:If you have been looking to learn to dance Bachata\, Salsa\, or Merengue. This is the event for you to learn\, dance\, and socialize. \nBachata Class\n9pm – 10pm \nSocial Dancing\n10pm until 1:30pm
URL:https://golatindance.com/event/latin-spice/2029-11-08/
LOCATION:Spice Trade Brewing\, 8775 E Orchard Rd STE 811\, Greenwood Village\, CO\, 80111\, United States
CATEGORIES:Denver
END:VEVENT
BEGIN:VEVENT
DTSTART;TZID=America/Denver:20291115T210000
DTEND;TZID=America/Denver:20291116T013000
DTSTAMP:20260423T041113
CREATED:20260102T170823Z
LAST-MODIFIED:20260116T154357Z
UID:10434525-1889470800-1889487000@golatindance.com
SUMMARY:Reychata Latin Spice
DESCRIPTION:If you have been looking to learn to dance Bachata\, Salsa\, or Merengue. This is the event for you to learn\, dance\, and socialize. \nBachata Class\n9pm – 10pm \nSocial Dancing\n10pm until 1:30pm
URL:https://golatindance.com/event/latin-spice/2029-11-15/
LOCATION:Spice Trade Brewing\, 8775 E Orchard Rd STE 811\, Greenwood Village\, CO\, 80111\, United States
CATEGORIES:Denver
END:VEVENT
BEGIN:VEVENT
DTSTART;TZID=America/Denver:20291122T210000
DTEND;TZID=America/Denver:20291123T013000
DTSTAMP:20260423T041113
CREATED:20260102T170823Z
LAST-MODIFIED:20260116T154357Z
UID:10434526-1890075600-1890091800@golatindance.com
SUMMARY:Reychata Latin Spice
DESCRIPTION:If you have been looking to learn to dance Bachata\, Salsa\, or Merengue. This is the event for you to learn\, dance\, and socialize. \nBachata Class\n9pm – 10pm \nSocial Dancing\n10pm until 1:30pm
URL:https://golatindance.com/event/latin-spice/2029-11-22/
LOCATION:Spice Trade Brewing\, 8775 E Orchard Rd STE 811\, Greenwood Village\, CO\, 80111\, United States
CATEGORIES:Denver
END:VEVENT
BEGIN:VEVENT
DTSTART;TZID=America/Denver:20291129T210000
DTEND;TZID=America/Denver:20291130T013000
DTSTAMP:20260423T041113
CREATED:20260102T170823Z
LAST-MODIFIED:20260116T154357Z
UID:10434527-1890680400-1890696600@golatindance.com
SUMMARY:Reychata Latin Spice
DESCRIPTION:If you have been looking to learn to dance Bachata\, Salsa\, or Merengue. This is the event for you to learn\, dance\, and socialize. \nBachata Class\n9pm – 10pm \nSocial Dancing\n10pm until 1:30pm
URL:https://golatindance.com/event/latin-spice/2029-11-29/
LOCATION:Spice Trade Brewing\, 8775 E Orchard Rd STE 811\, Greenwood Village\, CO\, 80111\, United States
CATEGORIES:Denver
END:VEVENT
BEGIN:VEVENT
DTSTART;TZID=America/Denver:20291206T210000
DTEND;TZID=America/Denver:20291207T013000
DTSTAMP:20260423T041113
CREATED:20260102T170823Z
LAST-MODIFIED:20260116T154357Z
UID:10434528-1891285200-1891301400@golatindance.com
SUMMARY:Reychata Latin Spice
DESCRIPTION:If you have been looking to learn to dance Bachata\, Salsa\, or Merengue. This is the event for you to learn\, dance\, and socialize. \nBachata Class\n9pm – 10pm \nSocial Dancing\n10pm until 1:30pm
URL:https://golatindance.com/event/latin-spice/2029-12-06/
LOCATION:Spice Trade Brewing\, 8775 E Orchard Rd STE 811\, Greenwood Village\, CO\, 80111\, United States
CATEGORIES:Denver
END:VEVENT
BEGIN:VEVENT
DTSTART;TZID=America/Denver:20291213T210000
DTEND;TZID=America/Denver:20291214T013000
DTSTAMP:20260423T041113
CREATED:20260102T170823Z
LAST-MODIFIED:20260116T154357Z
UID:10434529-1891890000-1891906200@golatindance.com
SUMMARY:Reychata Latin Spice
DESCRIPTION:If you have been looking to learn to dance Bachata\, Salsa\, or Merengue. This is the event for you to learn\, dance\, and socialize. \nBachata Class\n9pm – 10pm \nSocial Dancing\n10pm until 1:30pm
URL:https://golatindance.com/event/latin-spice/2029-12-13/
LOCATION:Spice Trade Brewing\, 8775 E Orchard Rd STE 811\, Greenwood Village\, CO\, 80111\, United States
CATEGORIES:Denver
END:VEVENT
BEGIN:VEVENT
DTSTART;TZID=America/Denver:20291220T210000
DTEND;TZID=America/Denver:20291221T013000
DTSTAMP:20260423T041113
CREATED:20260102T170823Z
LAST-MODIFIED:20260116T154357Z
UID:10434530-1892494800-1892511000@golatindance.com
SUMMARY:Reychata Latin Spice
DESCRIPTION:If you have been looking to learn to dance Bachata\, Salsa\, or Merengue. This is the event for you to learn\, dance\, and socialize. \nBachata Class\n9pm – 10pm \nSocial Dancing\n10pm until 1:30pm
URL:https://golatindance.com/event/latin-spice/2029-12-20/
LOCATION:Spice Trade Brewing\, 8775 E Orchard Rd STE 811\, Greenwood Village\, CO\, 80111\, United States
CATEGORIES:Denver
END:VEVENT
BEGIN:VEVENT
DTSTART;TZID=America/Denver:20291227T210000
DTEND;TZID=America/Denver:20291228T013000
DTSTAMP:20260423T041113
CREATED:20260102T170823Z
LAST-MODIFIED:20260116T154357Z
UID:10434531-1893099600-1893115800@golatindance.com
SUMMARY:Reychata Latin Spice
DESCRIPTION:If you have been looking to learn to dance Bachata\, Salsa\, or Merengue. This is the event for you to learn\, dance\, and socialize. \nBachata Class\n9pm – 10pm \nSocial Dancing\n10pm until 1:30pm
URL:https://golatindance.com/event/latin-spice/2029-12-27/
LOCATION:Spice Trade Brewing\, 8775 E Orchard Rd STE 811\, Greenwood Village\, CO\, 80111\, United States
CATEGORIES:Denver
END:VEVENT
BEGIN:VEVENT
DTSTART;TZID=America/Denver:20300103T210000
DTEND;TZID=America/Denver:20300104T013000
DTSTAMP:20260423T041113
CREATED:20260102T170823Z
LAST-MODIFIED:20260116T154357Z
UID:10434532-1893704400-1893720600@golatindance.com
SUMMARY:Reychata Latin Spice
DESCRIPTION:If you have been looking to learn to dance Bachata\, Salsa\, or Merengue. This is the event for you to learn\, dance\, and socialize. \nBachata Class\n9pm – 10pm \nSocial Dancing\n10pm until 1:30pm
URL:https://golatindance.com/event/latin-spice/2030-01-03/
LOCATION:Spice Trade Brewing\, 8775 E Orchard Rd STE 811\, Greenwood Village\, CO\, 80111\, United States
CATEGORIES:Denver
END:VEVENT
BEGIN:VEVENT
DTSTART;TZID=America/Denver:20300110T210000
DTEND;TZID=America/Denver:20300111T013000
DTSTAMP:20260423T041113
CREATED:20260102T170823Z
LAST-MODIFIED:20260116T154357Z
UID:10434533-1894309200-1894325400@golatindance.com
SUMMARY:Reychata Latin Spice
DESCRIPTION:If you have been looking to learn to dance Bachata\, Salsa\, or Merengue. This is the event for you to learn\, dance\, and socialize. \nBachata Class\n9pm – 10pm \nSocial Dancing\n10pm until 1:30pm
URL:https://golatindance.com/event/latin-spice/2030-01-10/
LOCATION:Spice Trade Brewing\, 8775 E Orchard Rd STE 811\, Greenwood Village\, CO\, 80111\, United States
CATEGORIES:Denver
END:VEVENT
BEGIN:VEVENT
DTSTART;TZID=America/Denver:20300117T210000
DTEND;TZID=America/Denver:20300118T013000
DTSTAMP:20260423T041113
CREATED:20260102T170823Z
LAST-MODIFIED:20260116T154357Z
UID:10434534-1894914000-1894930200@golatindance.com
SUMMARY:Reychata Latin Spice
DESCRIPTION:If you have been looking to learn to dance Bachata\, Salsa\, or Merengue. This is the event for you to learn\, dance\, and socialize. \nBachata Class\n9pm – 10pm \nSocial Dancing\n10pm until 1:30pm
URL:https://golatindance.com/event/latin-spice/2030-01-17/
LOCATION:Spice Trade Brewing\, 8775 E Orchard Rd STE 811\, Greenwood Village\, CO\, 80111\, United States
CATEGORIES:Denver
END:VEVENT
BEGIN:VEVENT
DTSTART;TZID=America/Denver:20300124T210000
DTEND;TZID=America/Denver:20300125T013000
DTSTAMP:20260423T041113
CREATED:20260102T170823Z
LAST-MODIFIED:20260116T154357Z
UID:10434535-1895518800-1895535000@golatindance.com
SUMMARY:Reychata Latin Spice
DESCRIPTION:If you have been looking to learn to dance Bachata\, Salsa\, or Merengue. This is the event for you to learn\, dance\, and socialize. \nBachata Class\n9pm – 10pm \nSocial Dancing\n10pm until 1:30pm
URL:https://golatindance.com/event/latin-spice/2030-01-24/
LOCATION:Spice Trade Brewing\, 8775 E Orchard Rd STE 811\, Greenwood Village\, CO\, 80111\, United States
CATEGORIES:Denver
END:VEVENT
BEGIN:VEVENT
DTSTART;TZID=America/Denver:20300131T210000
DTEND;TZID=America/Denver:20300201T013000
DTSTAMP:20260423T041113
CREATED:20260102T170823Z
LAST-MODIFIED:20260116T154357Z
UID:10434536-1896123600-1896139800@golatindance.com
SUMMARY:Reychata Latin Spice
DESCRIPTION:If you have been looking to learn to dance Bachata\, Salsa\, or Merengue. This is the event for you to learn\, dance\, and socialize. \nBachata Class\n9pm – 10pm \nSocial Dancing\n10pm until 1:30pm
URL:https://golatindance.com/event/latin-spice/2030-01-31/
LOCATION:Spice Trade Brewing\, 8775 E Orchard Rd STE 811\, Greenwood Village\, CO\, 80111\, United States
CATEGORIES:Denver
END:VEVENT
BEGIN:VEVENT
DTSTART;TZID=America/Denver:20300207T210000
DTEND;TZID=America/Denver:20300208T013000
DTSTAMP:20260423T041113
CREATED:20260102T170823Z
LAST-MODIFIED:20260116T154357Z
UID:10434537-1896728400-1896744600@golatindance.com
SUMMARY:Reychata Latin Spice
DESCRIPTION:If you have been looking to learn to dance Bachata\, Salsa\, or Merengue. This is the event for you to learn\, dance\, and socialize. \nBachata Class\n9pm – 10pm \nSocial Dancing\n10pm until 1:30pm
URL:https://golatindance.com/event/latin-spice/2030-02-07/
LOCATION:Spice Trade Brewing\, 8775 E Orchard Rd STE 811\, Greenwood Village\, CO\, 80111\, United States
CATEGORIES:Denver
END:VEVENT
BEGIN:VEVENT
DTSTART;TZID=America/Denver:20300214T210000
DTEND;TZID=America/Denver:20300215T013000
DTSTAMP:20260423T041113
CREATED:20260102T170823Z
LAST-MODIFIED:20260116T154357Z
UID:10434538-1897333200-1897349400@golatindance.com
SUMMARY:Reychata Latin Spice
DESCRIPTION:If you have been looking to learn to dance Bachata\, Salsa\, or Merengue. This is the event for you to learn\, dance\, and socialize. \nBachata Class\n9pm – 10pm \nSocial Dancing\n10pm until 1:30pm
URL:https://golatindance.com/event/latin-spice/2030-02-14/
LOCATION:Spice Trade Brewing\, 8775 E Orchard Rd STE 811\, Greenwood Village\, CO\, 80111\, United States
CATEGORIES:Denver
END:VEVENT
BEGIN:VEVENT
DTSTART;TZID=America/Denver:20300221T210000
DTEND;TZID=America/Denver:20300222T013000
DTSTAMP:20260423T041113
CREATED:20260102T170823Z
LAST-MODIFIED:20260116T154357Z
UID:10434539-1897938000-1897954200@golatindance.com
SUMMARY:Reychata Latin Spice
DESCRIPTION:If you have been looking to learn to dance Bachata\, Salsa\, or Merengue. This is the event for you to learn\, dance\, and socialize. \nBachata Class\n9pm – 10pm \nSocial Dancing\n10pm until 1:30pm
URL:https://golatindance.com/event/latin-spice/2030-02-21/
LOCATION:Spice Trade Brewing\, 8775 E Orchard Rd STE 811\, Greenwood Village\, CO\, 80111\, United States
CATEGORIES:Denver
END:VEVENT
BEGIN:VEVENT
DTSTART;TZID=America/Denver:20300228T210000
DTEND;TZID=America/Denver:20300301T013000
DTSTAMP:20260423T041113
CREATED:20260102T170823Z
LAST-MODIFIED:20260116T154357Z
UID:10434540-1898542800-1898559000@golatindance.com
SUMMARY:Reychata Latin Spice
DESCRIPTION:If you have been looking to learn to dance Bachata\, Salsa\, or Merengue. This is the event for you to learn\, dance\, and socialize. \nBachata Class\n9pm – 10pm \nSocial Dancing\n10pm until 1:30pm
URL:https://golatindance.com/event/latin-spice/2030-02-28/
LOCATION:Spice Trade Brewing\, 8775 E Orchard Rd STE 811\, Greenwood Village\, CO\, 80111\, United States
CATEGORIES:Denver
END:VEVENT
BEGIN:VEVENT
DTSTART;TZID=America/Denver:20300307T210000
DTEND;TZID=America/Denver:20300308T013000
DTSTAMP:20260423T041113
CREATED:20260102T170823Z
LAST-MODIFIED:20260116T154357Z
UID:10434541-1899147600-1899163800@golatindance.com
SUMMARY:Reychata Latin Spice
DESCRIPTION:If you have been looking to learn to dance Bachata\, Salsa\, or Merengue. This is the event for you to learn\, dance\, and socialize. \nBachata Class\n9pm – 10pm \nSocial Dancing\n10pm until 1:30pm
URL:https://golatindance.com/event/latin-spice/2030-03-07/
LOCATION:Spice Trade Brewing\, 8775 E Orchard Rd STE 811\, Greenwood Village\, CO\, 80111\, United States
CATEGORIES:Denver
END:VEVENT
BEGIN:VEVENT
DTSTART;TZID=America/Denver:20300314T210000
DTEND;TZID=America/Denver:20300315T013000
DTSTAMP:20260423T041113
CREATED:20260102T170823Z
LAST-MODIFIED:20260116T154357Z
UID:10434542-1899752400-1899768600@golatindance.com
SUMMARY:Reychata Latin Spice
DESCRIPTION:If you have been looking to learn to dance Bachata\, Salsa\, or Merengue. This is the event for you to learn\, dance\, and socialize. \nBachata Class\n9pm – 10pm \nSocial Dancing\n10pm until 1:30pm
URL:https://golatindance.com/event/latin-spice/2030-03-14/
LOCATION:Spice Trade Brewing\, 8775 E Orchard Rd STE 811\, Greenwood Village\, CO\, 80111\, United States
CATEGORIES:Denver
END:VEVENT
BEGIN:VEVENT
DTSTART;TZID=America/Denver:20300321T210000
DTEND;TZID=America/Denver:20300322T013000
DTSTAMP:20260423T041113
CREATED:20260102T170823Z
LAST-MODIFIED:20260116T154357Z
UID:10434543-1900357200-1900373400@golatindance.com
SUMMARY:Reychata Latin Spice
DESCRIPTION:If you have been looking to learn to dance Bachata\, Salsa\, or Merengue. This is the event for you to learn\, dance\, and socialize. \nBachata Class\n9pm – 10pm \nSocial Dancing\n10pm until 1:30pm
URL:https://golatindance.com/event/latin-spice/2030-03-21/
LOCATION:Spice Trade Brewing\, 8775 E Orchard Rd STE 811\, Greenwood Village\, CO\, 80111\, United States
CATEGORIES:Denver
END:VEVENT
BEGIN:VEVENT
DTSTART;TZID=America/Denver:20300328T210000
DTEND;TZID=America/Denver:20300329T013000
DTSTAMP:20260423T041113
CREATED:20260102T170823Z
LAST-MODIFIED:20260116T154357Z
UID:10434544-1900962000-1900978200@golatindance.com
SUMMARY:Reychata Latin Spice
DESCRIPTION:If you have been looking to learn to dance Bachata\, Salsa\, or Merengue. This is the event for you to learn\, dance\, and socialize. \nBachata Class\n9pm – 10pm \nSocial Dancing\n10pm until 1:30pm
URL:https://golatindance.com/event/latin-spice/2030-03-28/
LOCATION:Spice Trade Brewing\, 8775 E Orchard Rd STE 811\, Greenwood Village\, CO\, 80111\, United States
CATEGORIES:Denver
END:VEVENT
BEGIN:VEVENT
DTSTART;TZID=America/Denver:20300404T210000
DTEND;TZID=America/Denver:20300405T013000
DTSTAMP:20260423T041113
CREATED:20260102T170823Z
LAST-MODIFIED:20260116T154357Z
UID:10434545-1901566800-1901583000@golatindance.com
SUMMARY:Reychata Latin Spice
DESCRIPTION:If you have been looking to learn to dance Bachata\, Salsa\, or Merengue. This is the event for you to learn\, dance\, and socialize. \nBachata Class\n9pm – 10pm \nSocial Dancing\n10pm until 1:30pm
URL:https://golatindance.com/event/latin-spice/2030-04-04/
LOCATION:Spice Trade Brewing\, 8775 E Orchard Rd STE 811\, Greenwood Village\, CO\, 80111\, United States
CATEGORIES:Denver
END:VEVENT
BEGIN:VEVENT
DTSTART;TZID=America/Denver:20300411T210000
DTEND;TZID=America/Denver:20300412T013000
DTSTAMP:20260423T041113
CREATED:20260102T170823Z
LAST-MODIFIED:20260116T154357Z
UID:10434546-1902171600-1902187800@golatindance.com
SUMMARY:Reychata Latin Spice
DESCRIPTION:If you have been looking to learn to dance Bachata\, Salsa\, or Merengue. This is the event for you to learn\, dance\, and socialize. \nBachata Class\n9pm – 10pm \nSocial Dancing\n10pm until 1:30pm
URL:https://golatindance.com/event/latin-spice/2030-04-11/
LOCATION:Spice Trade Brewing\, 8775 E Orchard Rd STE 811\, Greenwood Village\, CO\, 80111\, United States
CATEGORIES:Denver
END:VEVENT
BEGIN:VEVENT
DTSTART;TZID=America/Denver:20300418T210000
DTEND;TZID=America/Denver:20300419T013000
DTSTAMP:20260423T041113
CREATED:20260102T170823Z
LAST-MODIFIED:20260116T154357Z
UID:10434547-1902776400-1902792600@golatindance.com
SUMMARY:Reychata Latin Spice
DESCRIPTION:If you have been looking to learn to dance Bachata\, Salsa\, or Merengue. This is the event for you to learn\, dance\, and socialize. \nBachata Class\n9pm – 10pm \nSocial Dancing\n10pm until 1:30pm
URL:https://golatindance.com/event/latin-spice/2030-04-18/
LOCATION:Spice Trade Brewing\, 8775 E Orchard Rd STE 811\, Greenwood Village\, CO\, 80111\, United States
CATEGORIES:Denver
END:VEVENT
BEGIN:VEVENT
DTSTART;TZID=America/Denver:20300425T210000
DTEND;TZID=America/Denver:20300426T013000
DTSTAMP:20260423T041113
CREATED:20260102T170823Z
LAST-MODIFIED:20260116T154357Z
UID:10434548-1903381200-1903397400@golatindance.com
SUMMARY:Reychata Latin Spice
DESCRIPTION:If you have been looking to learn to dance Bachata\, Salsa\, or Merengue. This is the event for you to learn\, dance\, and socialize. \nBachata Class\n9pm – 10pm \nSocial Dancing\n10pm until 1:30pm
URL:https://golatindance.com/event/latin-spice/2030-04-25/
LOCATION:Spice Trade Brewing\, 8775 E Orchard Rd STE 811\, Greenwood Village\, CO\, 80111\, United States
CATEGORIES:Denver
END:VEVENT
END:VCALENDAR