BEGIN:VCALENDAR
VERSION:2.0
PRODID:-//GO Latin Dance - ECPv6.15.18//NONSGML v1.0//EN
CALSCALE:GREGORIAN
METHOD:PUBLISH
X-WR-CALNAME:GO Latin Dance
X-ORIGINAL-URL:https://golatindance.com
X-WR-CALDESC:Events for GO Latin Dance
REFRESH-INTERVAL;VALUE=DURATION:PT1H
X-Robots-Tag:noindex
X-PUBLISHED-TTL:PT1H
BEGIN:VTIMEZONE
TZID:America/Denver
BEGIN:DAYLIGHT
TZOFFSETFROM:-0700
TZOFFSETTO:-0600
TZNAME:MDT
DTSTART:20260308T090000
END:DAYLIGHT
BEGIN:STANDARD
TZOFFSETFROM:-0600
TZOFFSETTO:-0700
TZNAME:MST
DTSTART:20261101T080000
END:STANDARD
BEGIN:DAYLIGHT
TZOFFSETFROM:-0700
TZOFFSETTO:-0600
TZNAME:MDT
DTSTART:20270314T090000
END:DAYLIGHT
BEGIN:STANDARD
TZOFFSETFROM:-0600
TZOFFSETTO:-0700
TZNAME:MST
DTSTART:20271107T080000
END:STANDARD
BEGIN:DAYLIGHT
TZOFFSETFROM:-0700
TZOFFSETTO:-0600
TZNAME:MDT
DTSTART:20280312T090000
END:DAYLIGHT
BEGIN:STANDARD
TZOFFSETFROM:-0600
TZOFFSETTO:-0700
TZNAME:MST
DTSTART:20281105T080000
END:STANDARD
BEGIN:DAYLIGHT
TZOFFSETFROM:-0700
TZOFFSETTO:-0600
TZNAME:MDT
DTSTART:20290311T090000
END:DAYLIGHT
BEGIN:STANDARD
TZOFFSETFROM:-0600
TZOFFSETTO:-0700
TZNAME:MST
DTSTART:20291104T080000
END:STANDARD
END:VTIMEZONE
BEGIN:VEVENT
DTSTART;TZID=America/Denver:20270617T210000
DTEND;TZID=America/Denver:20270618T013000
DTSTAMP:20260422T100639
CREATED:20260102T170823Z
LAST-MODIFIED:20260116T154357Z
UID:10434399-1813266000-1813282200@golatindance.com
SUMMARY:Reychata Latin Spice
DESCRIPTION:If you have been looking to learn to dance Bachata\, Salsa\, or Merengue. This is the event for you to learn\, dance\, and socialize. \nBachata Class\n9pm – 10pm \nSocial Dancing\n10pm until 1:30pm
URL:https://golatindance.com/event/latin-spice/2027-06-17/
LOCATION:Spice Trade Brewing\, 8775 E Orchard Rd STE 811\, Greenwood Village\, CO\, 80111\, United States
CATEGORIES:Denver
END:VEVENT
BEGIN:VEVENT
DTSTART;TZID=America/Denver:20270624T210000
DTEND;TZID=America/Denver:20270625T013000
DTSTAMP:20260422T100639
CREATED:20260102T170823Z
LAST-MODIFIED:20260116T154357Z
UID:10434400-1813870800-1813887000@golatindance.com
SUMMARY:Reychata Latin Spice
DESCRIPTION:If you have been looking to learn to dance Bachata\, Salsa\, or Merengue. This is the event for you to learn\, dance\, and socialize. \nBachata Class\n9pm – 10pm \nSocial Dancing\n10pm until 1:30pm
URL:https://golatindance.com/event/latin-spice/2027-06-24/
LOCATION:Spice Trade Brewing\, 8775 E Orchard Rd STE 811\, Greenwood Village\, CO\, 80111\, United States
CATEGORIES:Denver
END:VEVENT
BEGIN:VEVENT
DTSTART;TZID=America/Denver:20270701T210000
DTEND;TZID=America/Denver:20270702T013000
DTSTAMP:20260422T100639
CREATED:20260102T170823Z
LAST-MODIFIED:20260116T154357Z
UID:10434401-1814475600-1814491800@golatindance.com
SUMMARY:Reychata Latin Spice
DESCRIPTION:If you have been looking to learn to dance Bachata\, Salsa\, or Merengue. This is the event for you to learn\, dance\, and socialize. \nBachata Class\n9pm – 10pm \nSocial Dancing\n10pm until 1:30pm
URL:https://golatindance.com/event/latin-spice/2027-07-01/
LOCATION:Spice Trade Brewing\, 8775 E Orchard Rd STE 811\, Greenwood Village\, CO\, 80111\, United States
CATEGORIES:Denver
END:VEVENT
BEGIN:VEVENT
DTSTART;TZID=America/Denver:20270708T210000
DTEND;TZID=America/Denver:20270709T013000
DTSTAMP:20260422T100639
CREATED:20260102T170823Z
LAST-MODIFIED:20260116T154357Z
UID:10434402-1815080400-1815096600@golatindance.com
SUMMARY:Reychata Latin Spice
DESCRIPTION:If you have been looking to learn to dance Bachata\, Salsa\, or Merengue. This is the event for you to learn\, dance\, and socialize. \nBachata Class\n9pm – 10pm \nSocial Dancing\n10pm until 1:30pm
URL:https://golatindance.com/event/latin-spice/2027-07-08/
LOCATION:Spice Trade Brewing\, 8775 E Orchard Rd STE 811\, Greenwood Village\, CO\, 80111\, United States
CATEGORIES:Denver
END:VEVENT
BEGIN:VEVENT
DTSTART;TZID=America/Denver:20270715T210000
DTEND;TZID=America/Denver:20270716T013000
DTSTAMP:20260422T100640
CREATED:20260102T170823Z
LAST-MODIFIED:20260116T154357Z
UID:10434403-1815685200-1815701400@golatindance.com
SUMMARY:Reychata Latin Spice
DESCRIPTION:If you have been looking to learn to dance Bachata\, Salsa\, or Merengue. This is the event for you to learn\, dance\, and socialize. \nBachata Class\n9pm – 10pm \nSocial Dancing\n10pm until 1:30pm
URL:https://golatindance.com/event/latin-spice/2027-07-15/
LOCATION:Spice Trade Brewing\, 8775 E Orchard Rd STE 811\, Greenwood Village\, CO\, 80111\, United States
CATEGORIES:Denver
END:VEVENT
BEGIN:VEVENT
DTSTART;TZID=America/Denver:20270722T210000
DTEND;TZID=America/Denver:20270723T013000
DTSTAMP:20260422T100640
CREATED:20260102T170823Z
LAST-MODIFIED:20260116T154357Z
UID:10434404-1816290000-1816306200@golatindance.com
SUMMARY:Reychata Latin Spice
DESCRIPTION:If you have been looking to learn to dance Bachata\, Salsa\, or Merengue. This is the event for you to learn\, dance\, and socialize. \nBachata Class\n9pm – 10pm \nSocial Dancing\n10pm until 1:30pm
URL:https://golatindance.com/event/latin-spice/2027-07-22/
LOCATION:Spice Trade Brewing\, 8775 E Orchard Rd STE 811\, Greenwood Village\, CO\, 80111\, United States
CATEGORIES:Denver
END:VEVENT
BEGIN:VEVENT
DTSTART;TZID=America/Denver:20270729T210000
DTEND;TZID=America/Denver:20270730T013000
DTSTAMP:20260422T100640
CREATED:20260102T170823Z
LAST-MODIFIED:20260116T154357Z
UID:10434405-1816894800-1816911000@golatindance.com
SUMMARY:Reychata Latin Spice
DESCRIPTION:If you have been looking to learn to dance Bachata\, Salsa\, or Merengue. This is the event for you to learn\, dance\, and socialize. \nBachata Class\n9pm – 10pm \nSocial Dancing\n10pm until 1:30pm
URL:https://golatindance.com/event/latin-spice/2027-07-29/
LOCATION:Spice Trade Brewing\, 8775 E Orchard Rd STE 811\, Greenwood Village\, CO\, 80111\, United States
CATEGORIES:Denver
END:VEVENT
BEGIN:VEVENT
DTSTART;TZID=America/Denver:20270805T210000
DTEND;TZID=America/Denver:20270806T013000
DTSTAMP:20260422T100640
CREATED:20260102T170823Z
LAST-MODIFIED:20260116T154357Z
UID:10434406-1817499600-1817515800@golatindance.com
SUMMARY:Reychata Latin Spice
DESCRIPTION:If you have been looking to learn to dance Bachata\, Salsa\, or Merengue. This is the event for you to learn\, dance\, and socialize. \nBachata Class\n9pm – 10pm \nSocial Dancing\n10pm until 1:30pm
URL:https://golatindance.com/event/latin-spice/2027-08-05/
LOCATION:Spice Trade Brewing\, 8775 E Orchard Rd STE 811\, Greenwood Village\, CO\, 80111\, United States
CATEGORIES:Denver
END:VEVENT
BEGIN:VEVENT
DTSTART;TZID=America/Denver:20270812T210000
DTEND;TZID=America/Denver:20270813T013000
DTSTAMP:20260422T100640
CREATED:20260102T170823Z
LAST-MODIFIED:20260116T154357Z
UID:10434407-1818104400-1818120600@golatindance.com
SUMMARY:Reychata Latin Spice
DESCRIPTION:If you have been looking to learn to dance Bachata\, Salsa\, or Merengue. This is the event for you to learn\, dance\, and socialize. \nBachata Class\n9pm – 10pm \nSocial Dancing\n10pm until 1:30pm
URL:https://golatindance.com/event/latin-spice/2027-08-12/
LOCATION:Spice Trade Brewing\, 8775 E Orchard Rd STE 811\, Greenwood Village\, CO\, 80111\, United States
CATEGORIES:Denver
END:VEVENT
BEGIN:VEVENT
DTSTART;TZID=America/Denver:20270819T210000
DTEND;TZID=America/Denver:20270820T013000
DTSTAMP:20260422T100640
CREATED:20260102T170823Z
LAST-MODIFIED:20260116T154357Z
UID:10434408-1818709200-1818725400@golatindance.com
SUMMARY:Reychata Latin Spice
DESCRIPTION:If you have been looking to learn to dance Bachata\, Salsa\, or Merengue. This is the event for you to learn\, dance\, and socialize. \nBachata Class\n9pm – 10pm \nSocial Dancing\n10pm until 1:30pm
URL:https://golatindance.com/event/latin-spice/2027-08-19/
LOCATION:Spice Trade Brewing\, 8775 E Orchard Rd STE 811\, Greenwood Village\, CO\, 80111\, United States
CATEGORIES:Denver
END:VEVENT
BEGIN:VEVENT
DTSTART;TZID=America/Denver:20270826T210000
DTEND;TZID=America/Denver:20270827T013000
DTSTAMP:20260422T100641
CREATED:20260102T170823Z
LAST-MODIFIED:20260116T154357Z
UID:10434409-1819314000-1819330200@golatindance.com
SUMMARY:Reychata Latin Spice
DESCRIPTION:If you have been looking to learn to dance Bachata\, Salsa\, or Merengue. This is the event for you to learn\, dance\, and socialize. \nBachata Class\n9pm – 10pm \nSocial Dancing\n10pm until 1:30pm
URL:https://golatindance.com/event/latin-spice/2027-08-26/
LOCATION:Spice Trade Brewing\, 8775 E Orchard Rd STE 811\, Greenwood Village\, CO\, 80111\, United States
CATEGORIES:Denver
END:VEVENT
BEGIN:VEVENT
DTSTART;TZID=America/Denver:20270902T210000
DTEND;TZID=America/Denver:20270903T013000
DTSTAMP:20260422T100641
CREATED:20260102T170823Z
LAST-MODIFIED:20260116T154357Z
UID:10434410-1819918800-1819935000@golatindance.com
SUMMARY:Reychata Latin Spice
DESCRIPTION:If you have been looking to learn to dance Bachata\, Salsa\, or Merengue. This is the event for you to learn\, dance\, and socialize. \nBachata Class\n9pm – 10pm \nSocial Dancing\n10pm until 1:30pm
URL:https://golatindance.com/event/latin-spice/2027-09-02/
LOCATION:Spice Trade Brewing\, 8775 E Orchard Rd STE 811\, Greenwood Village\, CO\, 80111\, United States
CATEGORIES:Denver
END:VEVENT
BEGIN:VEVENT
DTSTART;TZID=America/Denver:20270909T210000
DTEND;TZID=America/Denver:20270910T013000
DTSTAMP:20260422T100641
CREATED:20260102T170823Z
LAST-MODIFIED:20260116T154357Z
UID:10434411-1820523600-1820539800@golatindance.com
SUMMARY:Reychata Latin Spice
DESCRIPTION:If you have been looking to learn to dance Bachata\, Salsa\, or Merengue. This is the event for you to learn\, dance\, and socialize. \nBachata Class\n9pm – 10pm \nSocial Dancing\n10pm until 1:30pm
URL:https://golatindance.com/event/latin-spice/2027-09-09/
LOCATION:Spice Trade Brewing\, 8775 E Orchard Rd STE 811\, Greenwood Village\, CO\, 80111\, United States
CATEGORIES:Denver
END:VEVENT
BEGIN:VEVENT
DTSTART;TZID=America/Denver:20270916T210000
DTEND;TZID=America/Denver:20270917T013000
DTSTAMP:20260422T100641
CREATED:20260102T170823Z
LAST-MODIFIED:20260116T154357Z
UID:10434412-1821128400-1821144600@golatindance.com
SUMMARY:Reychata Latin Spice
DESCRIPTION:If you have been looking to learn to dance Bachata\, Salsa\, or Merengue. This is the event for you to learn\, dance\, and socialize. \nBachata Class\n9pm – 10pm \nSocial Dancing\n10pm until 1:30pm
URL:https://golatindance.com/event/latin-spice/2027-09-16/
LOCATION:Spice Trade Brewing\, 8775 E Orchard Rd STE 811\, Greenwood Village\, CO\, 80111\, United States
CATEGORIES:Denver
END:VEVENT
BEGIN:VEVENT
DTSTART;TZID=America/Denver:20270923T210000
DTEND;TZID=America/Denver:20270924T013000
DTSTAMP:20260422T100641
CREATED:20260102T170823Z
LAST-MODIFIED:20260116T154357Z
UID:10434413-1821733200-1821749400@golatindance.com
SUMMARY:Reychata Latin Spice
DESCRIPTION:If you have been looking to learn to dance Bachata\, Salsa\, or Merengue. This is the event for you to learn\, dance\, and socialize. \nBachata Class\n9pm – 10pm \nSocial Dancing\n10pm until 1:30pm
URL:https://golatindance.com/event/latin-spice/2027-09-23/
LOCATION:Spice Trade Brewing\, 8775 E Orchard Rd STE 811\, Greenwood Village\, CO\, 80111\, United States
CATEGORIES:Denver
END:VEVENT
BEGIN:VEVENT
DTSTART;TZID=America/Denver:20270930T210000
DTEND;TZID=America/Denver:20271001T013000
DTSTAMP:20260422T100641
CREATED:20260102T170823Z
LAST-MODIFIED:20260116T154357Z
UID:10434414-1822338000-1822354200@golatindance.com
SUMMARY:Reychata Latin Spice
DESCRIPTION:If you have been looking to learn to dance Bachata\, Salsa\, or Merengue. This is the event for you to learn\, dance\, and socialize. \nBachata Class\n9pm – 10pm \nSocial Dancing\n10pm until 1:30pm
URL:https://golatindance.com/event/latin-spice/2027-09-30/
LOCATION:Spice Trade Brewing\, 8775 E Orchard Rd STE 811\, Greenwood Village\, CO\, 80111\, United States
CATEGORIES:Denver
END:VEVENT
BEGIN:VEVENT
DTSTART;TZID=America/Denver:20271007T210000
DTEND;TZID=America/Denver:20271008T013000
DTSTAMP:20260422T100641
CREATED:20260102T170823Z
LAST-MODIFIED:20260116T154357Z
UID:10434415-1822942800-1822959000@golatindance.com
SUMMARY:Reychata Latin Spice
DESCRIPTION:If you have been looking to learn to dance Bachata\, Salsa\, or Merengue. This is the event for you to learn\, dance\, and socialize. \nBachata Class\n9pm – 10pm \nSocial Dancing\n10pm until 1:30pm
URL:https://golatindance.com/event/latin-spice/2027-10-07/
LOCATION:Spice Trade Brewing\, 8775 E Orchard Rd STE 811\, Greenwood Village\, CO\, 80111\, United States
CATEGORIES:Denver
END:VEVENT
BEGIN:VEVENT
DTSTART;TZID=America/Denver:20271014T210000
DTEND;TZID=America/Denver:20271015T013000
DTSTAMP:20260422T100642
CREATED:20260102T170823Z
LAST-MODIFIED:20260116T154357Z
UID:10434416-1823547600-1823563800@golatindance.com
SUMMARY:Reychata Latin Spice
DESCRIPTION:If you have been looking to learn to dance Bachata\, Salsa\, or Merengue. This is the event for you to learn\, dance\, and socialize. \nBachata Class\n9pm – 10pm \nSocial Dancing\n10pm until 1:30pm
URL:https://golatindance.com/event/latin-spice/2027-10-14/
LOCATION:Spice Trade Brewing\, 8775 E Orchard Rd STE 811\, Greenwood Village\, CO\, 80111\, United States
CATEGORIES:Denver
END:VEVENT
BEGIN:VEVENT
DTSTART;TZID=America/Denver:20271021T210000
DTEND;TZID=America/Denver:20271022T013000
DTSTAMP:20260422T100642
CREATED:20260102T170823Z
LAST-MODIFIED:20260116T154357Z
UID:10434417-1824152400-1824168600@golatindance.com
SUMMARY:Reychata Latin Spice
DESCRIPTION:If you have been looking to learn to dance Bachata\, Salsa\, or Merengue. This is the event for you to learn\, dance\, and socialize. \nBachata Class\n9pm – 10pm \nSocial Dancing\n10pm until 1:30pm
URL:https://golatindance.com/event/latin-spice/2027-10-21/
LOCATION:Spice Trade Brewing\, 8775 E Orchard Rd STE 811\, Greenwood Village\, CO\, 80111\, United States
CATEGORIES:Denver
END:VEVENT
BEGIN:VEVENT
DTSTART;TZID=America/Denver:20271028T210000
DTEND;TZID=America/Denver:20271029T013000
DTSTAMP:20260422T100642
CREATED:20260102T170823Z
LAST-MODIFIED:20260116T154357Z
UID:10434418-1824757200-1824773400@golatindance.com
SUMMARY:Reychata Latin Spice
DESCRIPTION:If you have been looking to learn to dance Bachata\, Salsa\, or Merengue. This is the event for you to learn\, dance\, and socialize. \nBachata Class\n9pm – 10pm \nSocial Dancing\n10pm until 1:30pm
URL:https://golatindance.com/event/latin-spice/2027-10-28/
LOCATION:Spice Trade Brewing\, 8775 E Orchard Rd STE 811\, Greenwood Village\, CO\, 80111\, United States
CATEGORIES:Denver
END:VEVENT
BEGIN:VEVENT
DTSTART;TZID=America/Denver:20271104T210000
DTEND;TZID=America/Denver:20271105T013000
DTSTAMP:20260422T100642
CREATED:20260102T170823Z
LAST-MODIFIED:20260116T154357Z
UID:10434419-1825362000-1825378200@golatindance.com
SUMMARY:Reychata Latin Spice
DESCRIPTION:If you have been looking to learn to dance Bachata\, Salsa\, or Merengue. This is the event for you to learn\, dance\, and socialize. \nBachata Class\n9pm – 10pm \nSocial Dancing\n10pm until 1:30pm
URL:https://golatindance.com/event/latin-spice/2027-11-04/
LOCATION:Spice Trade Brewing\, 8775 E Orchard Rd STE 811\, Greenwood Village\, CO\, 80111\, United States
CATEGORIES:Denver
END:VEVENT
BEGIN:VEVENT
DTSTART;TZID=America/Denver:20271111T210000
DTEND;TZID=America/Denver:20271112T013000
DTSTAMP:20260422T100642
CREATED:20260102T170823Z
LAST-MODIFIED:20260116T154357Z
UID:10434420-1825966800-1825983000@golatindance.com
SUMMARY:Reychata Latin Spice
DESCRIPTION:If you have been looking to learn to dance Bachata\, Salsa\, or Merengue. This is the event for you to learn\, dance\, and socialize. \nBachata Class\n9pm – 10pm \nSocial Dancing\n10pm until 1:30pm
URL:https://golatindance.com/event/latin-spice/2027-11-11/
LOCATION:Spice Trade Brewing\, 8775 E Orchard Rd STE 811\, Greenwood Village\, CO\, 80111\, United States
CATEGORIES:Denver
END:VEVENT
BEGIN:VEVENT
DTSTART;TZID=America/Denver:20271118T210000
DTEND;TZID=America/Denver:20271119T013000
DTSTAMP:20260422T100642
CREATED:20260102T170823Z
LAST-MODIFIED:20260116T154357Z
UID:10434421-1826571600-1826587800@golatindance.com
SUMMARY:Reychata Latin Spice
DESCRIPTION:If you have been looking to learn to dance Bachata\, Salsa\, or Merengue. This is the event for you to learn\, dance\, and socialize. \nBachata Class\n9pm – 10pm \nSocial Dancing\n10pm until 1:30pm
URL:https://golatindance.com/event/latin-spice/2027-11-18/
LOCATION:Spice Trade Brewing\, 8775 E Orchard Rd STE 811\, Greenwood Village\, CO\, 80111\, United States
CATEGORIES:Denver
END:VEVENT
BEGIN:VEVENT
DTSTART;TZID=America/Denver:20271125T210000
DTEND;TZID=America/Denver:20271126T013000
DTSTAMP:20260422T100642
CREATED:20260102T170823Z
LAST-MODIFIED:20260116T154357Z
UID:10434422-1827176400-1827192600@golatindance.com
SUMMARY:Reychata Latin Spice
DESCRIPTION:If you have been looking to learn to dance Bachata\, Salsa\, or Merengue. This is the event for you to learn\, dance\, and socialize. \nBachata Class\n9pm – 10pm \nSocial Dancing\n10pm until 1:30pm
URL:https://golatindance.com/event/latin-spice/2027-11-25/
LOCATION:Spice Trade Brewing\, 8775 E Orchard Rd STE 811\, Greenwood Village\, CO\, 80111\, United States
CATEGORIES:Denver
END:VEVENT
BEGIN:VEVENT
DTSTART;TZID=America/Denver:20271202T210000
DTEND;TZID=America/Denver:20271203T013000
DTSTAMP:20260422T100643
CREATED:20260102T170823Z
LAST-MODIFIED:20260116T154357Z
UID:10434423-1827781200-1827797400@golatindance.com
SUMMARY:Reychata Latin Spice
DESCRIPTION:If you have been looking to learn to dance Bachata\, Salsa\, or Merengue. This is the event for you to learn\, dance\, and socialize. \nBachata Class\n9pm – 10pm \nSocial Dancing\n10pm until 1:30pm
URL:https://golatindance.com/event/latin-spice/2027-12-02/
LOCATION:Spice Trade Brewing\, 8775 E Orchard Rd STE 811\, Greenwood Village\, CO\, 80111\, United States
CATEGORIES:Denver
END:VEVENT
BEGIN:VEVENT
DTSTART;TZID=America/Denver:20271209T210000
DTEND;TZID=America/Denver:20271210T013000
DTSTAMP:20260422T100643
CREATED:20260102T170823Z
LAST-MODIFIED:20260116T154357Z
UID:10434424-1828386000-1828402200@golatindance.com
SUMMARY:Reychata Latin Spice
DESCRIPTION:If you have been looking to learn to dance Bachata\, Salsa\, or Merengue. This is the event for you to learn\, dance\, and socialize. \nBachata Class\n9pm – 10pm \nSocial Dancing\n10pm until 1:30pm
URL:https://golatindance.com/event/latin-spice/2027-12-09/
LOCATION:Spice Trade Brewing\, 8775 E Orchard Rd STE 811\, Greenwood Village\, CO\, 80111\, United States
CATEGORIES:Denver
END:VEVENT
BEGIN:VEVENT
DTSTART;TZID=America/Denver:20271216T210000
DTEND;TZID=America/Denver:20271217T013000
DTSTAMP:20260422T100643
CREATED:20260102T170823Z
LAST-MODIFIED:20260116T154357Z
UID:10434425-1828990800-1829007000@golatindance.com
SUMMARY:Reychata Latin Spice
DESCRIPTION:If you have been looking to learn to dance Bachata\, Salsa\, or Merengue. This is the event for you to learn\, dance\, and socialize. \nBachata Class\n9pm – 10pm \nSocial Dancing\n10pm until 1:30pm
URL:https://golatindance.com/event/latin-spice/2027-12-16/
LOCATION:Spice Trade Brewing\, 8775 E Orchard Rd STE 811\, Greenwood Village\, CO\, 80111\, United States
CATEGORIES:Denver
END:VEVENT
BEGIN:VEVENT
DTSTART;TZID=America/Denver:20271223T210000
DTEND;TZID=America/Denver:20271224T013000
DTSTAMP:20260422T100643
CREATED:20260102T170823Z
LAST-MODIFIED:20260116T154357Z
UID:10434426-1829595600-1829611800@golatindance.com
SUMMARY:Reychata Latin Spice
DESCRIPTION:If you have been looking to learn to dance Bachata\, Salsa\, or Merengue. This is the event for you to learn\, dance\, and socialize. \nBachata Class\n9pm – 10pm \nSocial Dancing\n10pm until 1:30pm
URL:https://golatindance.com/event/latin-spice/2027-12-23/
LOCATION:Spice Trade Brewing\, 8775 E Orchard Rd STE 811\, Greenwood Village\, CO\, 80111\, United States
CATEGORIES:Denver
END:VEVENT
BEGIN:VEVENT
DTSTART;TZID=America/Denver:20271230T210000
DTEND;TZID=America/Denver:20271231T013000
DTSTAMP:20260422T100643
CREATED:20260102T170823Z
LAST-MODIFIED:20260116T154357Z
UID:10434427-1830200400-1830216600@golatindance.com
SUMMARY:Reychata Latin Spice
DESCRIPTION:If you have been looking to learn to dance Bachata\, Salsa\, or Merengue. This is the event for you to learn\, dance\, and socialize. \nBachata Class\n9pm – 10pm \nSocial Dancing\n10pm until 1:30pm
URL:https://golatindance.com/event/latin-spice/2027-12-30/
LOCATION:Spice Trade Brewing\, 8775 E Orchard Rd STE 811\, Greenwood Village\, CO\, 80111\, United States
CATEGORIES:Denver
END:VEVENT
BEGIN:VEVENT
DTSTART;TZID=America/Denver:20280106T210000
DTEND;TZID=America/Denver:20280107T013000
DTSTAMP:20260422T100643
CREATED:20260102T170823Z
LAST-MODIFIED:20260116T154357Z
UID:10434428-1830805200-1830821400@golatindance.com
SUMMARY:Reychata Latin Spice
DESCRIPTION:If you have been looking to learn to dance Bachata\, Salsa\, or Merengue. This is the event for you to learn\, dance\, and socialize. \nBachata Class\n9pm – 10pm \nSocial Dancing\n10pm until 1:30pm
URL:https://golatindance.com/event/latin-spice/2028-01-06/
LOCATION:Spice Trade Brewing\, 8775 E Orchard Rd STE 811\, Greenwood Village\, CO\, 80111\, United States
CATEGORIES:Denver
END:VEVENT
END:VCALENDAR