BEGIN:VCALENDAR
VERSION:2.0
PRODID:-//GO Latin Dance - ECPv6.15.18//NONSGML v1.0//EN
CALSCALE:GREGORIAN
METHOD:PUBLISH
X-WR-CALNAME:GO Latin Dance
X-ORIGINAL-URL:https://golatindance.com
X-WR-CALDESC:Events for GO Latin Dance
REFRESH-INTERVAL;VALUE=DURATION:PT1H
X-Robots-Tag:noindex
X-PUBLISHED-TTL:PT1H
BEGIN:VTIMEZONE
TZID:America/Los_Angeles
BEGIN:DAYLIGHT
TZOFFSETFROM:-0800
TZOFFSETTO:-0700
TZNAME:PDT
DTSTART:20250309T100000
END:DAYLIGHT
BEGIN:STANDARD
TZOFFSETFROM:-0700
TZOFFSETTO:-0800
TZNAME:PST
DTSTART:20251102T090000
END:STANDARD
BEGIN:DAYLIGHT
TZOFFSETFROM:-0800
TZOFFSETTO:-0700
TZNAME:PDT
DTSTART:20260308T100000
END:DAYLIGHT
BEGIN:STANDARD
TZOFFSETFROM:-0700
TZOFFSETTO:-0800
TZNAME:PST
DTSTART:20261101T090000
END:STANDARD
BEGIN:DAYLIGHT
TZOFFSETFROM:-0800
TZOFFSETTO:-0700
TZNAME:PDT
DTSTART:20270314T100000
END:DAYLIGHT
BEGIN:STANDARD
TZOFFSETFROM:-0700
TZOFFSETTO:-0800
TZNAME:PST
DTSTART:20271107T090000
END:STANDARD
END:VTIMEZONE
BEGIN:VEVENT
DTSTART;TZID=America/Los_Angeles:20260428T200000
DTEND;TZID=America/Los_Angeles:20260428T200000
DTSTAMP:20260424T063922
CREATED:20221108T212949Z
LAST-MODIFIED:20260113T170338Z
UID:10124269-1777406400-1777406400@golatindance.com
SUMMARY:Salsa Tuesdays at The Lighthouse
DESCRIPTION:EVERY TUESDAY SALSA AND BACHATA. \nThe Salsa Land Night! Learn to dance Salsa & Bachata\, dance the night away! \nDance classes 8:00 – 9:30 pm\n9:30 pm Social Dancing with DJ Rico & DJ Andy Lorenzo.
URL:https://golatindance.com/event/salsa-tuesdays-at-the-lighthouse/2026-04-28/
LOCATION:The Lighthouse Cafe\, 30 Pier Ave\, Hermosa Beach\, CA\, 90254-3732\, United States
CATEGORIES:Los Angeles
ATTACH;FMTTYPE=image/jpeg:https://golatindance.com/wp-content/uploads/2022/11/366274329_6416412175063075_2753096619981954415_n.jpg
END:VEVENT
BEGIN:VEVENT
DTSTART;TZID=America/Los_Angeles:20260505T200000
DTEND;TZID=America/Los_Angeles:20260505T200000
DTSTAMP:20260424T063922
CREATED:20221108T212949Z
LAST-MODIFIED:20260113T170338Z
UID:10124270-1778011200-1778011200@golatindance.com
SUMMARY:Salsa Tuesdays at The Lighthouse
DESCRIPTION:EVERY TUESDAY SALSA AND BACHATA. \nThe Salsa Land Night! Learn to dance Salsa & Bachata\, dance the night away! \nDance classes 8:00 – 9:30 pm\n9:30 pm Social Dancing with DJ Rico & DJ Andy Lorenzo.
URL:https://golatindance.com/event/salsa-tuesdays-at-the-lighthouse/2026-05-05/
LOCATION:The Lighthouse Cafe\, 30 Pier Ave\, Hermosa Beach\, CA\, 90254-3732\, United States
CATEGORIES:Los Angeles
ATTACH;FMTTYPE=image/jpeg:https://golatindance.com/wp-content/uploads/2022/11/366274329_6416412175063075_2753096619981954415_n.jpg
END:VEVENT
BEGIN:VEVENT
DTSTART;TZID=America/Los_Angeles:20260512T200000
DTEND;TZID=America/Los_Angeles:20260512T200000
DTSTAMP:20260424T063922
CREATED:20221108T212949Z
LAST-MODIFIED:20260113T170338Z
UID:10124271-1778616000-1778616000@golatindance.com
SUMMARY:Salsa Tuesdays at The Lighthouse
DESCRIPTION:EVERY TUESDAY SALSA AND BACHATA. \nThe Salsa Land Night! Learn to dance Salsa & Bachata\, dance the night away! \nDance classes 8:00 – 9:30 pm\n9:30 pm Social Dancing with DJ Rico & DJ Andy Lorenzo.
URL:https://golatindance.com/event/salsa-tuesdays-at-the-lighthouse/2026-05-12/
LOCATION:The Lighthouse Cafe\, 30 Pier Ave\, Hermosa Beach\, CA\, 90254-3732\, United States
CATEGORIES:Los Angeles
ATTACH;FMTTYPE=image/jpeg:https://golatindance.com/wp-content/uploads/2022/11/366274329_6416412175063075_2753096619981954415_n.jpg
END:VEVENT
BEGIN:VEVENT
DTSTART;TZID=America/Los_Angeles:20260519T200000
DTEND;TZID=America/Los_Angeles:20260519T200000
DTSTAMP:20260424T063922
CREATED:20221108T212949Z
LAST-MODIFIED:20260113T170338Z
UID:10124272-1779220800-1779220800@golatindance.com
SUMMARY:Salsa Tuesdays at The Lighthouse
DESCRIPTION:EVERY TUESDAY SALSA AND BACHATA. \nThe Salsa Land Night! Learn to dance Salsa & Bachata\, dance the night away! \nDance classes 8:00 – 9:30 pm\n9:30 pm Social Dancing with DJ Rico & DJ Andy Lorenzo.
URL:https://golatindance.com/event/salsa-tuesdays-at-the-lighthouse/2026-05-19/
LOCATION:The Lighthouse Cafe\, 30 Pier Ave\, Hermosa Beach\, CA\, 90254-3732\, United States
CATEGORIES:Los Angeles
ATTACH;FMTTYPE=image/jpeg:https://golatindance.com/wp-content/uploads/2022/11/366274329_6416412175063075_2753096619981954415_n.jpg
END:VEVENT
BEGIN:VEVENT
DTSTART;TZID=America/Los_Angeles:20260526T200000
DTEND;TZID=America/Los_Angeles:20260526T200000
DTSTAMP:20260424T063922
CREATED:20221108T212949Z
LAST-MODIFIED:20260113T170338Z
UID:10124273-1779825600-1779825600@golatindance.com
SUMMARY:Salsa Tuesdays at The Lighthouse
DESCRIPTION:EVERY TUESDAY SALSA AND BACHATA. \nThe Salsa Land Night! Learn to dance Salsa & Bachata\, dance the night away! \nDance classes 8:00 – 9:30 pm\n9:30 pm Social Dancing with DJ Rico & DJ Andy Lorenzo.
URL:https://golatindance.com/event/salsa-tuesdays-at-the-lighthouse/2026-05-26/
LOCATION:The Lighthouse Cafe\, 30 Pier Ave\, Hermosa Beach\, CA\, 90254-3732\, United States
CATEGORIES:Los Angeles
ATTACH;FMTTYPE=image/jpeg:https://golatindance.com/wp-content/uploads/2022/11/366274329_6416412175063075_2753096619981954415_n.jpg
END:VEVENT
BEGIN:VEVENT
DTSTART;TZID=America/Los_Angeles:20260602T200000
DTEND;TZID=America/Los_Angeles:20260602T200000
DTSTAMP:20260424T063922
CREATED:20221108T212949Z
LAST-MODIFIED:20260113T170338Z
UID:10124274-1780430400-1780430400@golatindance.com
SUMMARY:Salsa Tuesdays at The Lighthouse
DESCRIPTION:EVERY TUESDAY SALSA AND BACHATA. \nThe Salsa Land Night! Learn to dance Salsa & Bachata\, dance the night away! \nDance classes 8:00 – 9:30 pm\n9:30 pm Social Dancing with DJ Rico & DJ Andy Lorenzo.
URL:https://golatindance.com/event/salsa-tuesdays-at-the-lighthouse/2026-06-02/
LOCATION:The Lighthouse Cafe\, 30 Pier Ave\, Hermosa Beach\, CA\, 90254-3732\, United States
CATEGORIES:Los Angeles
ATTACH;FMTTYPE=image/jpeg:https://golatindance.com/wp-content/uploads/2022/11/366274329_6416412175063075_2753096619981954415_n.jpg
END:VEVENT
BEGIN:VEVENT
DTSTART;TZID=America/Los_Angeles:20260609T200000
DTEND;TZID=America/Los_Angeles:20260609T200000
DTSTAMP:20260424T063922
CREATED:20221108T212949Z
LAST-MODIFIED:20260113T170338Z
UID:10124275-1781035200-1781035200@golatindance.com
SUMMARY:Salsa Tuesdays at The Lighthouse
DESCRIPTION:EVERY TUESDAY SALSA AND BACHATA. \nThe Salsa Land Night! Learn to dance Salsa & Bachata\, dance the night away! \nDance classes 8:00 – 9:30 pm\n9:30 pm Social Dancing with DJ Rico & DJ Andy Lorenzo.
URL:https://golatindance.com/event/salsa-tuesdays-at-the-lighthouse/2026-06-09/
LOCATION:The Lighthouse Cafe\, 30 Pier Ave\, Hermosa Beach\, CA\, 90254-3732\, United States
CATEGORIES:Los Angeles
ATTACH;FMTTYPE=image/jpeg:https://golatindance.com/wp-content/uploads/2022/11/366274329_6416412175063075_2753096619981954415_n.jpg
END:VEVENT
BEGIN:VEVENT
DTSTART;TZID=America/Los_Angeles:20260616T200000
DTEND;TZID=America/Los_Angeles:20260616T200000
DTSTAMP:20260424T063922
CREATED:20221108T212949Z
LAST-MODIFIED:20260113T170338Z
UID:10124276-1781640000-1781640000@golatindance.com
SUMMARY:Salsa Tuesdays at The Lighthouse
DESCRIPTION:EVERY TUESDAY SALSA AND BACHATA. \nThe Salsa Land Night! Learn to dance Salsa & Bachata\, dance the night away! \nDance classes 8:00 – 9:30 pm\n9:30 pm Social Dancing with DJ Rico & DJ Andy Lorenzo.
URL:https://golatindance.com/event/salsa-tuesdays-at-the-lighthouse/2026-06-16/
LOCATION:The Lighthouse Cafe\, 30 Pier Ave\, Hermosa Beach\, CA\, 90254-3732\, United States
CATEGORIES:Los Angeles
ATTACH;FMTTYPE=image/jpeg:https://golatindance.com/wp-content/uploads/2022/11/366274329_6416412175063075_2753096619981954415_n.jpg
END:VEVENT
BEGIN:VEVENT
DTSTART;TZID=America/Los_Angeles:20260623T200000
DTEND;TZID=America/Los_Angeles:20260623T200000
DTSTAMP:20260424T063922
CREATED:20221108T212949Z
LAST-MODIFIED:20260113T170338Z
UID:10124277-1782244800-1782244800@golatindance.com
SUMMARY:Salsa Tuesdays at The Lighthouse
DESCRIPTION:EVERY TUESDAY SALSA AND BACHATA. \nThe Salsa Land Night! Learn to dance Salsa & Bachata\, dance the night away! \nDance classes 8:00 – 9:30 pm\n9:30 pm Social Dancing with DJ Rico & DJ Andy Lorenzo.
URL:https://golatindance.com/event/salsa-tuesdays-at-the-lighthouse/2026-06-23/
LOCATION:The Lighthouse Cafe\, 30 Pier Ave\, Hermosa Beach\, CA\, 90254-3732\, United States
CATEGORIES:Los Angeles
ATTACH;FMTTYPE=image/jpeg:https://golatindance.com/wp-content/uploads/2022/11/366274329_6416412175063075_2753096619981954415_n.jpg
END:VEVENT
BEGIN:VEVENT
DTSTART;TZID=America/Los_Angeles:20260630T200000
DTEND;TZID=America/Los_Angeles:20260630T200000
DTSTAMP:20260424T063922
CREATED:20221108T212949Z
LAST-MODIFIED:20260113T170338Z
UID:10124278-1782849600-1782849600@golatindance.com
SUMMARY:Salsa Tuesdays at The Lighthouse
DESCRIPTION:EVERY TUESDAY SALSA AND BACHATA. \nThe Salsa Land Night! Learn to dance Salsa & Bachata\, dance the night away! \nDance classes 8:00 – 9:30 pm\n9:30 pm Social Dancing with DJ Rico & DJ Andy Lorenzo.
URL:https://golatindance.com/event/salsa-tuesdays-at-the-lighthouse/2026-06-30/
LOCATION:The Lighthouse Cafe\, 30 Pier Ave\, Hermosa Beach\, CA\, 90254-3732\, United States
CATEGORIES:Los Angeles
ATTACH;FMTTYPE=image/jpeg:https://golatindance.com/wp-content/uploads/2022/11/366274329_6416412175063075_2753096619981954415_n.jpg
END:VEVENT
BEGIN:VEVENT
DTSTART;TZID=America/Los_Angeles:20260707T200000
DTEND;TZID=America/Los_Angeles:20260707T200000
DTSTAMP:20260424T063922
CREATED:20221108T212949Z
LAST-MODIFIED:20260113T170338Z
UID:10124279-1783454400-1783454400@golatindance.com
SUMMARY:Salsa Tuesdays at The Lighthouse
DESCRIPTION:EVERY TUESDAY SALSA AND BACHATA. \nThe Salsa Land Night! Learn to dance Salsa & Bachata\, dance the night away! \nDance classes 8:00 – 9:30 pm\n9:30 pm Social Dancing with DJ Rico & DJ Andy Lorenzo.
URL:https://golatindance.com/event/salsa-tuesdays-at-the-lighthouse/2026-07-07/
LOCATION:The Lighthouse Cafe\, 30 Pier Ave\, Hermosa Beach\, CA\, 90254-3732\, United States
CATEGORIES:Los Angeles
ATTACH;FMTTYPE=image/jpeg:https://golatindance.com/wp-content/uploads/2022/11/366274329_6416412175063075_2753096619981954415_n.jpg
END:VEVENT
BEGIN:VEVENT
DTSTART;TZID=America/Los_Angeles:20260714T200000
DTEND;TZID=America/Los_Angeles:20260714T200000
DTSTAMP:20260424T063922
CREATED:20221108T212949Z
LAST-MODIFIED:20260113T170338Z
UID:10124280-1784059200-1784059200@golatindance.com
SUMMARY:Salsa Tuesdays at The Lighthouse
DESCRIPTION:EVERY TUESDAY SALSA AND BACHATA. \nThe Salsa Land Night! Learn to dance Salsa & Bachata\, dance the night away! \nDance classes 8:00 – 9:30 pm\n9:30 pm Social Dancing with DJ Rico & DJ Andy Lorenzo.
URL:https://golatindance.com/event/salsa-tuesdays-at-the-lighthouse/2026-07-14/
LOCATION:The Lighthouse Cafe\, 30 Pier Ave\, Hermosa Beach\, CA\, 90254-3732\, United States
CATEGORIES:Los Angeles
ATTACH;FMTTYPE=image/jpeg:https://golatindance.com/wp-content/uploads/2022/11/366274329_6416412175063075_2753096619981954415_n.jpg
END:VEVENT
BEGIN:VEVENT
DTSTART;TZID=America/Los_Angeles:20260721T200000
DTEND;TZID=America/Los_Angeles:20260721T200000
DTSTAMP:20260424T063922
CREATED:20221108T212949Z
LAST-MODIFIED:20260113T170338Z
UID:10124281-1784664000-1784664000@golatindance.com
SUMMARY:Salsa Tuesdays at The Lighthouse
DESCRIPTION:EVERY TUESDAY SALSA AND BACHATA. \nThe Salsa Land Night! Learn to dance Salsa & Bachata\, dance the night away! \nDance classes 8:00 – 9:30 pm\n9:30 pm Social Dancing with DJ Rico & DJ Andy Lorenzo.
URL:https://golatindance.com/event/salsa-tuesdays-at-the-lighthouse/2026-07-21/
LOCATION:The Lighthouse Cafe\, 30 Pier Ave\, Hermosa Beach\, CA\, 90254-3732\, United States
CATEGORIES:Los Angeles
ATTACH;FMTTYPE=image/jpeg:https://golatindance.com/wp-content/uploads/2022/11/366274329_6416412175063075_2753096619981954415_n.jpg
END:VEVENT
BEGIN:VEVENT
DTSTART;TZID=America/Los_Angeles:20260728T200000
DTEND;TZID=America/Los_Angeles:20260728T200000
DTSTAMP:20260424T063922
CREATED:20221108T212949Z
LAST-MODIFIED:20260113T170338Z
UID:10124282-1785268800-1785268800@golatindance.com
SUMMARY:Salsa Tuesdays at The Lighthouse
DESCRIPTION:EVERY TUESDAY SALSA AND BACHATA. \nThe Salsa Land Night! Learn to dance Salsa & Bachata\, dance the night away! \nDance classes 8:00 – 9:30 pm\n9:30 pm Social Dancing with DJ Rico & DJ Andy Lorenzo.
URL:https://golatindance.com/event/salsa-tuesdays-at-the-lighthouse/2026-07-28/
LOCATION:The Lighthouse Cafe\, 30 Pier Ave\, Hermosa Beach\, CA\, 90254-3732\, United States
CATEGORIES:Los Angeles
ATTACH;FMTTYPE=image/jpeg:https://golatindance.com/wp-content/uploads/2022/11/366274329_6416412175063075_2753096619981954415_n.jpg
END:VEVENT
BEGIN:VEVENT
DTSTART;TZID=America/Los_Angeles:20260804T200000
DTEND;TZID=America/Los_Angeles:20260804T200000
DTSTAMP:20260424T063922
CREATED:20221108T212949Z
LAST-MODIFIED:20260113T170338Z
UID:10124283-1785873600-1785873600@golatindance.com
SUMMARY:Salsa Tuesdays at The Lighthouse
DESCRIPTION:EVERY TUESDAY SALSA AND BACHATA. \nThe Salsa Land Night! Learn to dance Salsa & Bachata\, dance the night away! \nDance classes 8:00 – 9:30 pm\n9:30 pm Social Dancing with DJ Rico & DJ Andy Lorenzo.
URL:https://golatindance.com/event/salsa-tuesdays-at-the-lighthouse/2026-08-04/
LOCATION:The Lighthouse Cafe\, 30 Pier Ave\, Hermosa Beach\, CA\, 90254-3732\, United States
CATEGORIES:Los Angeles
ATTACH;FMTTYPE=image/jpeg:https://golatindance.com/wp-content/uploads/2022/11/366274329_6416412175063075_2753096619981954415_n.jpg
END:VEVENT
BEGIN:VEVENT
DTSTART;TZID=America/Los_Angeles:20260811T200000
DTEND;TZID=America/Los_Angeles:20260811T200000
DTSTAMP:20260424T063922
CREATED:20221108T212949Z
LAST-MODIFIED:20260113T170338Z
UID:10124284-1786478400-1786478400@golatindance.com
SUMMARY:Salsa Tuesdays at The Lighthouse
DESCRIPTION:EVERY TUESDAY SALSA AND BACHATA. \nThe Salsa Land Night! Learn to dance Salsa & Bachata\, dance the night away! \nDance classes 8:00 – 9:30 pm\n9:30 pm Social Dancing with DJ Rico & DJ Andy Lorenzo.
URL:https://golatindance.com/event/salsa-tuesdays-at-the-lighthouse/2026-08-11/
LOCATION:The Lighthouse Cafe\, 30 Pier Ave\, Hermosa Beach\, CA\, 90254-3732\, United States
CATEGORIES:Los Angeles
ATTACH;FMTTYPE=image/jpeg:https://golatindance.com/wp-content/uploads/2022/11/366274329_6416412175063075_2753096619981954415_n.jpg
END:VEVENT
BEGIN:VEVENT
DTSTART;TZID=America/Los_Angeles:20260818T200000
DTEND;TZID=America/Los_Angeles:20260818T200000
DTSTAMP:20260424T063922
CREATED:20221108T212949Z
LAST-MODIFIED:20260113T170338Z
UID:10124285-1787083200-1787083200@golatindance.com
SUMMARY:Salsa Tuesdays at The Lighthouse
DESCRIPTION:EVERY TUESDAY SALSA AND BACHATA. \nThe Salsa Land Night! Learn to dance Salsa & Bachata\, dance the night away! \nDance classes 8:00 – 9:30 pm\n9:30 pm Social Dancing with DJ Rico & DJ Andy Lorenzo.
URL:https://golatindance.com/event/salsa-tuesdays-at-the-lighthouse/2026-08-18/
LOCATION:The Lighthouse Cafe\, 30 Pier Ave\, Hermosa Beach\, CA\, 90254-3732\, United States
CATEGORIES:Los Angeles
ATTACH;FMTTYPE=image/jpeg:https://golatindance.com/wp-content/uploads/2022/11/366274329_6416412175063075_2753096619981954415_n.jpg
END:VEVENT
BEGIN:VEVENT
DTSTART;TZID=America/Los_Angeles:20260825T200000
DTEND;TZID=America/Los_Angeles:20260825T200000
DTSTAMP:20260424T063922
CREATED:20221108T212949Z
LAST-MODIFIED:20260113T170338Z
UID:10124286-1787688000-1787688000@golatindance.com
SUMMARY:Salsa Tuesdays at The Lighthouse
DESCRIPTION:EVERY TUESDAY SALSA AND BACHATA. \nThe Salsa Land Night! Learn to dance Salsa & Bachata\, dance the night away! \nDance classes 8:00 – 9:30 pm\n9:30 pm Social Dancing with DJ Rico & DJ Andy Lorenzo.
URL:https://golatindance.com/event/salsa-tuesdays-at-the-lighthouse/2026-08-25/
LOCATION:The Lighthouse Cafe\, 30 Pier Ave\, Hermosa Beach\, CA\, 90254-3732\, United States
CATEGORIES:Los Angeles
ATTACH;FMTTYPE=image/jpeg:https://golatindance.com/wp-content/uploads/2022/11/366274329_6416412175063075_2753096619981954415_n.jpg
END:VEVENT
BEGIN:VEVENT
DTSTART;TZID=America/Los_Angeles:20260901T200000
DTEND;TZID=America/Los_Angeles:20260901T200000
DTSTAMP:20260424T063922
CREATED:20221108T212949Z
LAST-MODIFIED:20260113T170338Z
UID:10124287-1788292800-1788292800@golatindance.com
SUMMARY:Salsa Tuesdays at The Lighthouse
DESCRIPTION:EVERY TUESDAY SALSA AND BACHATA. \nThe Salsa Land Night! Learn to dance Salsa & Bachata\, dance the night away! \nDance classes 8:00 – 9:30 pm\n9:30 pm Social Dancing with DJ Rico & DJ Andy Lorenzo.
URL:https://golatindance.com/event/salsa-tuesdays-at-the-lighthouse/2026-09-01/
LOCATION:The Lighthouse Cafe\, 30 Pier Ave\, Hermosa Beach\, CA\, 90254-3732\, United States
CATEGORIES:Los Angeles
ATTACH;FMTTYPE=image/jpeg:https://golatindance.com/wp-content/uploads/2022/11/366274329_6416412175063075_2753096619981954415_n.jpg
END:VEVENT
BEGIN:VEVENT
DTSTART;TZID=America/Los_Angeles:20260908T200000
DTEND;TZID=America/Los_Angeles:20260908T200000
DTSTAMP:20260424T063922
CREATED:20221108T212949Z
LAST-MODIFIED:20260113T170338Z
UID:10124288-1788897600-1788897600@golatindance.com
SUMMARY:Salsa Tuesdays at The Lighthouse
DESCRIPTION:EVERY TUESDAY SALSA AND BACHATA. \nThe Salsa Land Night! Learn to dance Salsa & Bachata\, dance the night away! \nDance classes 8:00 – 9:30 pm\n9:30 pm Social Dancing with DJ Rico & DJ Andy Lorenzo.
URL:https://golatindance.com/event/salsa-tuesdays-at-the-lighthouse/2026-09-08/
LOCATION:The Lighthouse Cafe\, 30 Pier Ave\, Hermosa Beach\, CA\, 90254-3732\, United States
CATEGORIES:Los Angeles
ATTACH;FMTTYPE=image/jpeg:https://golatindance.com/wp-content/uploads/2022/11/366274329_6416412175063075_2753096619981954415_n.jpg
END:VEVENT
BEGIN:VEVENT
DTSTART;TZID=America/Los_Angeles:20260915T200000
DTEND;TZID=America/Los_Angeles:20260915T200000
DTSTAMP:20260424T063922
CREATED:20221108T212949Z
LAST-MODIFIED:20260113T170338Z
UID:10124289-1789502400-1789502400@golatindance.com
SUMMARY:Salsa Tuesdays at The Lighthouse
DESCRIPTION:EVERY TUESDAY SALSA AND BACHATA. \nThe Salsa Land Night! Learn to dance Salsa & Bachata\, dance the night away! \nDance classes 8:00 – 9:30 pm\n9:30 pm Social Dancing with DJ Rico & DJ Andy Lorenzo.
URL:https://golatindance.com/event/salsa-tuesdays-at-the-lighthouse/2026-09-15/
LOCATION:The Lighthouse Cafe\, 30 Pier Ave\, Hermosa Beach\, CA\, 90254-3732\, United States
CATEGORIES:Los Angeles
ATTACH;FMTTYPE=image/jpeg:https://golatindance.com/wp-content/uploads/2022/11/366274329_6416412175063075_2753096619981954415_n.jpg
END:VEVENT
BEGIN:VEVENT
DTSTART;TZID=America/Los_Angeles:20260922T200000
DTEND;TZID=America/Los_Angeles:20260922T200000
DTSTAMP:20260424T063922
CREATED:20221108T212949Z
LAST-MODIFIED:20260113T170338Z
UID:10124290-1790107200-1790107200@golatindance.com
SUMMARY:Salsa Tuesdays at The Lighthouse
DESCRIPTION:EVERY TUESDAY SALSA AND BACHATA. \nThe Salsa Land Night! Learn to dance Salsa & Bachata\, dance the night away! \nDance classes 8:00 – 9:30 pm\n9:30 pm Social Dancing with DJ Rico & DJ Andy Lorenzo.
URL:https://golatindance.com/event/salsa-tuesdays-at-the-lighthouse/2026-09-22/
LOCATION:The Lighthouse Cafe\, 30 Pier Ave\, Hermosa Beach\, CA\, 90254-3732\, United States
CATEGORIES:Los Angeles
ATTACH;FMTTYPE=image/jpeg:https://golatindance.com/wp-content/uploads/2022/11/366274329_6416412175063075_2753096619981954415_n.jpg
END:VEVENT
BEGIN:VEVENT
DTSTART;TZID=America/Los_Angeles:20260929T200000
DTEND;TZID=America/Los_Angeles:20260929T200000
DTSTAMP:20260424T063922
CREATED:20221108T212949Z
LAST-MODIFIED:20260113T170338Z
UID:10124291-1790712000-1790712000@golatindance.com
SUMMARY:Salsa Tuesdays at The Lighthouse
DESCRIPTION:EVERY TUESDAY SALSA AND BACHATA. \nThe Salsa Land Night! Learn to dance Salsa & Bachata\, dance the night away! \nDance classes 8:00 – 9:30 pm\n9:30 pm Social Dancing with DJ Rico & DJ Andy Lorenzo.
URL:https://golatindance.com/event/salsa-tuesdays-at-the-lighthouse/2026-09-29/
LOCATION:The Lighthouse Cafe\, 30 Pier Ave\, Hermosa Beach\, CA\, 90254-3732\, United States
CATEGORIES:Los Angeles
ATTACH;FMTTYPE=image/jpeg:https://golatindance.com/wp-content/uploads/2022/11/366274329_6416412175063075_2753096619981954415_n.jpg
END:VEVENT
BEGIN:VEVENT
DTSTART;TZID=America/Los_Angeles:20261006T200000
DTEND;TZID=America/Los_Angeles:20261006T200000
DTSTAMP:20260424T063922
CREATED:20221108T212949Z
LAST-MODIFIED:20260113T170338Z
UID:10124292-1791316800-1791316800@golatindance.com
SUMMARY:Salsa Tuesdays at The Lighthouse
DESCRIPTION:EVERY TUESDAY SALSA AND BACHATA. \nThe Salsa Land Night! Learn to dance Salsa & Bachata\, dance the night away! \nDance classes 8:00 – 9:30 pm\n9:30 pm Social Dancing with DJ Rico & DJ Andy Lorenzo.
URL:https://golatindance.com/event/salsa-tuesdays-at-the-lighthouse/2026-10-06/
LOCATION:The Lighthouse Cafe\, 30 Pier Ave\, Hermosa Beach\, CA\, 90254-3732\, United States
CATEGORIES:Los Angeles
ATTACH;FMTTYPE=image/jpeg:https://golatindance.com/wp-content/uploads/2022/11/366274329_6416412175063075_2753096619981954415_n.jpg
END:VEVENT
BEGIN:VEVENT
DTSTART;TZID=America/Los_Angeles:20261013T200000
DTEND;TZID=America/Los_Angeles:20261013T200000
DTSTAMP:20260424T063922
CREATED:20221108T212949Z
LAST-MODIFIED:20260113T170338Z
UID:10124293-1791921600-1791921600@golatindance.com
SUMMARY:Salsa Tuesdays at The Lighthouse
DESCRIPTION:EVERY TUESDAY SALSA AND BACHATA. \nThe Salsa Land Night! Learn to dance Salsa & Bachata\, dance the night away! \nDance classes 8:00 – 9:30 pm\n9:30 pm Social Dancing with DJ Rico & DJ Andy Lorenzo.
URL:https://golatindance.com/event/salsa-tuesdays-at-the-lighthouse/2026-10-13/
LOCATION:The Lighthouse Cafe\, 30 Pier Ave\, Hermosa Beach\, CA\, 90254-3732\, United States
CATEGORIES:Los Angeles
ATTACH;FMTTYPE=image/jpeg:https://golatindance.com/wp-content/uploads/2022/11/366274329_6416412175063075_2753096619981954415_n.jpg
END:VEVENT
BEGIN:VEVENT
DTSTART;TZID=America/Los_Angeles:20261020T200000
DTEND;TZID=America/Los_Angeles:20261020T200000
DTSTAMP:20260424T063922
CREATED:20221108T212949Z
LAST-MODIFIED:20260113T170338Z
UID:10124294-1792526400-1792526400@golatindance.com
SUMMARY:Salsa Tuesdays at The Lighthouse
DESCRIPTION:EVERY TUESDAY SALSA AND BACHATA. \nThe Salsa Land Night! Learn to dance Salsa & Bachata\, dance the night away! \nDance classes 8:00 – 9:30 pm\n9:30 pm Social Dancing with DJ Rico & DJ Andy Lorenzo.
URL:https://golatindance.com/event/salsa-tuesdays-at-the-lighthouse/2026-10-20/
LOCATION:The Lighthouse Cafe\, 30 Pier Ave\, Hermosa Beach\, CA\, 90254-3732\, United States
CATEGORIES:Los Angeles
ATTACH;FMTTYPE=image/jpeg:https://golatindance.com/wp-content/uploads/2022/11/366274329_6416412175063075_2753096619981954415_n.jpg
END:VEVENT
BEGIN:VEVENT
DTSTART;TZID=America/Los_Angeles:20261027T200000
DTEND;TZID=America/Los_Angeles:20261027T200000
DTSTAMP:20260424T063922
CREATED:20221108T212949Z
LAST-MODIFIED:20260113T170338Z
UID:10124295-1793131200-1793131200@golatindance.com
SUMMARY:Salsa Tuesdays at The Lighthouse
DESCRIPTION:EVERY TUESDAY SALSA AND BACHATA. \nThe Salsa Land Night! Learn to dance Salsa & Bachata\, dance the night away! \nDance classes 8:00 – 9:30 pm\n9:30 pm Social Dancing with DJ Rico & DJ Andy Lorenzo.
URL:https://golatindance.com/event/salsa-tuesdays-at-the-lighthouse/2026-10-27/
LOCATION:The Lighthouse Cafe\, 30 Pier Ave\, Hermosa Beach\, CA\, 90254-3732\, United States
CATEGORIES:Los Angeles
ATTACH;FMTTYPE=image/jpeg:https://golatindance.com/wp-content/uploads/2022/11/366274329_6416412175063075_2753096619981954415_n.jpg
END:VEVENT
BEGIN:VEVENT
DTSTART;TZID=America/Los_Angeles:20261103T200000
DTEND;TZID=America/Los_Angeles:20261103T200000
DTSTAMP:20260424T063922
CREATED:20221108T212949Z
LAST-MODIFIED:20260113T170338Z
UID:10124296-1793736000-1793736000@golatindance.com
SUMMARY:Salsa Tuesdays at The Lighthouse
DESCRIPTION:EVERY TUESDAY SALSA AND BACHATA. \nThe Salsa Land Night! Learn to dance Salsa & Bachata\, dance the night away! \nDance classes 8:00 – 9:30 pm\n9:30 pm Social Dancing with DJ Rico & DJ Andy Lorenzo.
URL:https://golatindance.com/event/salsa-tuesdays-at-the-lighthouse/2026-11-03/
LOCATION:The Lighthouse Cafe\, 30 Pier Ave\, Hermosa Beach\, CA\, 90254-3732\, United States
CATEGORIES:Los Angeles
ATTACH;FMTTYPE=image/jpeg:https://golatindance.com/wp-content/uploads/2022/11/366274329_6416412175063075_2753096619981954415_n.jpg
END:VEVENT
BEGIN:VEVENT
DTSTART;TZID=America/Los_Angeles:20261110T200000
DTEND;TZID=America/Los_Angeles:20261110T200000
DTSTAMP:20260424T063922
CREATED:20221108T212949Z
LAST-MODIFIED:20260113T170338Z
UID:10124297-1794340800-1794340800@golatindance.com
SUMMARY:Salsa Tuesdays at The Lighthouse
DESCRIPTION:EVERY TUESDAY SALSA AND BACHATA. \nThe Salsa Land Night! Learn to dance Salsa & Bachata\, dance the night away! \nDance classes 8:00 – 9:30 pm\n9:30 pm Social Dancing with DJ Rico & DJ Andy Lorenzo.
URL:https://golatindance.com/event/salsa-tuesdays-at-the-lighthouse/2026-11-10/
LOCATION:The Lighthouse Cafe\, 30 Pier Ave\, Hermosa Beach\, CA\, 90254-3732\, United States
CATEGORIES:Los Angeles
ATTACH;FMTTYPE=image/jpeg:https://golatindance.com/wp-content/uploads/2022/11/366274329_6416412175063075_2753096619981954415_n.jpg
END:VEVENT
BEGIN:VEVENT
DTSTART;TZID=America/Los_Angeles:20261117T200000
DTEND;TZID=America/Los_Angeles:20261117T200000
DTSTAMP:20260424T063922
CREATED:20221108T212949Z
LAST-MODIFIED:20260113T170338Z
UID:10124298-1794945600-1794945600@golatindance.com
SUMMARY:Salsa Tuesdays at The Lighthouse
DESCRIPTION:EVERY TUESDAY SALSA AND BACHATA. \nThe Salsa Land Night! Learn to dance Salsa & Bachata\, dance the night away! \nDance classes 8:00 – 9:30 pm\n9:30 pm Social Dancing with DJ Rico & DJ Andy Lorenzo.
URL:https://golatindance.com/event/salsa-tuesdays-at-the-lighthouse/2026-11-17/
LOCATION:The Lighthouse Cafe\, 30 Pier Ave\, Hermosa Beach\, CA\, 90254-3732\, United States
CATEGORIES:Los Angeles
ATTACH;FMTTYPE=image/jpeg:https://golatindance.com/wp-content/uploads/2022/11/366274329_6416412175063075_2753096619981954415_n.jpg
END:VEVENT
END:VCALENDAR