BEGIN:VCALENDAR
VERSION:2.0
PRODID:-//GO Latin Dance - ECPv6.15.18//NONSGML v1.0//EN
CALSCALE:GREGORIAN
METHOD:PUBLISH
X-WR-CALNAME:GO Latin Dance
X-ORIGINAL-URL:https://golatindance.com
X-WR-CALDESC:Events for GO Latin Dance
REFRESH-INTERVAL;VALUE=DURATION:PT1H
X-Robots-Tag:noindex
X-PUBLISHED-TTL:PT1H
BEGIN:VTIMEZONE
TZID:Australia/Sydney
BEGIN:STANDARD
TZOFFSETFROM:+1100
TZOFFSETTO:+1000
TZNAME:AEST
DTSTART:20240406T160000
END:STANDARD
BEGIN:DAYLIGHT
TZOFFSETFROM:+1000
TZOFFSETTO:+1100
TZNAME:AEDT
DTSTART:20241005T160000
END:DAYLIGHT
BEGIN:STANDARD
TZOFFSETFROM:+1100
TZOFFSETTO:+1000
TZNAME:AEST
DTSTART:20250405T160000
END:STANDARD
BEGIN:DAYLIGHT
TZOFFSETFROM:+1000
TZOFFSETTO:+1100
TZNAME:AEDT
DTSTART:20251004T160000
END:DAYLIGHT
BEGIN:STANDARD
TZOFFSETFROM:+1100
TZOFFSETTO:+1000
TZNAME:AEST
DTSTART:20260404T160000
END:STANDARD
BEGIN:DAYLIGHT
TZOFFSETFROM:+1000
TZOFFSETTO:+1100
TZNAME:AEDT
DTSTART:20261003T160000
END:DAYLIGHT
END:VTIMEZONE
BEGIN:VEVENT
DTSTART;TZID=Australia/Sydney:20251210T193000
DTEND;TZID=Australia/Sydney:20251210T193000
DTSTAMP:20260423T073321
CREATED:20250126T201924Z
LAST-MODIFIED:20260220T212014Z
UID:10332518-1765395000-1765395000@golatindance.com
SUMMARY:Latin Central Wednesdays
DESCRIPTION:Come and join Team Latin Central at The Rawson. Come join us for a dance . With Kizomba and Bachata upstairs. And the main room with awesome salsa beats.
URL:https://golatindance.com/event/salsa-bachata-kizomba-wednesdays/2025-12-10/
LOCATION:The Rawson\, Bar 100 George Street\, Sydney\, Australia
CATEGORIES:Sydney
ATTACH;FMTTYPE=image/jpeg:https://golatindance.com/wp-content/uploads/2025/01/532545558_10161134596707553_8176822819478455485_n.jpg
END:VEVENT
BEGIN:VEVENT
DTSTART;TZID=Australia/Sydney:20251203T193000
DTEND;TZID=Australia/Sydney:20251203T193000
DTSTAMP:20260423T073321
CREATED:20250126T201924Z
LAST-MODIFIED:20260220T212014Z
UID:10332517-1764790200-1764790200@golatindance.com
SUMMARY:Latin Central Wednesdays
DESCRIPTION:Come and join Team Latin Central at The Rawson. Come join us for a dance . With Kizomba and Bachata upstairs. And the main room with awesome salsa beats.
URL:https://golatindance.com/event/salsa-bachata-kizomba-wednesdays/2025-12-03/
LOCATION:The Rawson\, Bar 100 George Street\, Sydney\, Australia
CATEGORIES:Sydney
ATTACH;FMTTYPE=image/jpeg:https://golatindance.com/wp-content/uploads/2025/01/532545558_10161134596707553_8176822819478455485_n.jpg
END:VEVENT
BEGIN:VEVENT
DTSTART;TZID=Australia/Sydney:20251126T193000
DTEND;TZID=Australia/Sydney:20251126T193000
DTSTAMP:20260423T073321
CREATED:20250126T201924Z
LAST-MODIFIED:20260220T212014Z
UID:10332516-1764185400-1764185400@golatindance.com
SUMMARY:Latin Central Wednesdays
DESCRIPTION:Come and join Team Latin Central at The Rawson. Come join us for a dance . With Kizomba and Bachata upstairs. And the main room with awesome salsa beats.
URL:https://golatindance.com/event/salsa-bachata-kizomba-wednesdays/2025-11-26/
LOCATION:The Rawson\, Bar 100 George Street\, Sydney\, Australia
CATEGORIES:Sydney
ATTACH;FMTTYPE=image/jpeg:https://golatindance.com/wp-content/uploads/2025/01/532545558_10161134596707553_8176822819478455485_n.jpg
END:VEVENT
BEGIN:VEVENT
DTSTART;TZID=Australia/Sydney:20251119T193000
DTEND;TZID=Australia/Sydney:20251119T193000
DTSTAMP:20260423T073321
CREATED:20250126T201924Z
LAST-MODIFIED:20260220T212014Z
UID:10332515-1763580600-1763580600@golatindance.com
SUMMARY:Latin Central Wednesdays
DESCRIPTION:Come and join Team Latin Central at The Rawson. Come join us for a dance . With Kizomba and Bachata upstairs. And the main room with awesome salsa beats.
URL:https://golatindance.com/event/salsa-bachata-kizomba-wednesdays/2025-11-19/
LOCATION:The Rawson\, Bar 100 George Street\, Sydney\, Australia
CATEGORIES:Sydney
ATTACH;FMTTYPE=image/jpeg:https://golatindance.com/wp-content/uploads/2025/01/532545558_10161134596707553_8176822819478455485_n.jpg
END:VEVENT
BEGIN:VEVENT
DTSTART;TZID=Australia/Sydney:20251112T193000
DTEND;TZID=Australia/Sydney:20251112T193000
DTSTAMP:20260423T073321
CREATED:20250126T201924Z
LAST-MODIFIED:20260220T212014Z
UID:10332514-1762975800-1762975800@golatindance.com
SUMMARY:Latin Central Wednesdays
DESCRIPTION:Come and join Team Latin Central at The Rawson. Come join us for a dance . With Kizomba and Bachata upstairs. And the main room with awesome salsa beats.
URL:https://golatindance.com/event/salsa-bachata-kizomba-wednesdays/2025-11-12/
LOCATION:The Rawson\, Bar 100 George Street\, Sydney\, Australia
CATEGORIES:Sydney
ATTACH;FMTTYPE=image/jpeg:https://golatindance.com/wp-content/uploads/2025/01/532545558_10161134596707553_8176822819478455485_n.jpg
END:VEVENT
BEGIN:VEVENT
DTSTART;TZID=Australia/Sydney:20251105T193000
DTEND;TZID=Australia/Sydney:20251105T193000
DTSTAMP:20260423T073321
CREATED:20250126T201924Z
LAST-MODIFIED:20260220T212014Z
UID:10332513-1762371000-1762371000@golatindance.com
SUMMARY:Latin Central Wednesdays
DESCRIPTION:Come and join Team Latin Central at The Rawson. Come join us for a dance . With Kizomba and Bachata upstairs. And the main room with awesome salsa beats.
URL:https://golatindance.com/event/salsa-bachata-kizomba-wednesdays/2025-11-05/
LOCATION:The Rawson\, Bar 100 George Street\, Sydney\, Australia
CATEGORIES:Sydney
ATTACH;FMTTYPE=image/jpeg:https://golatindance.com/wp-content/uploads/2025/01/532545558_10161134596707553_8176822819478455485_n.jpg
END:VEVENT
BEGIN:VEVENT
DTSTART;TZID=Australia/Sydney:20251029T193000
DTEND;TZID=Australia/Sydney:20251029T193000
DTSTAMP:20260423T073321
CREATED:20250126T201924Z
LAST-MODIFIED:20260220T212014Z
UID:10332512-1761766200-1761766200@golatindance.com
SUMMARY:Latin Central Wednesdays
DESCRIPTION:Come and join Team Latin Central at The Rawson. Come join us for a dance . With Kizomba and Bachata upstairs. And the main room with awesome salsa beats.
URL:https://golatindance.com/event/salsa-bachata-kizomba-wednesdays/2025-10-29/
LOCATION:The Rawson\, Bar 100 George Street\, Sydney\, Australia
CATEGORIES:Sydney
ATTACH;FMTTYPE=image/jpeg:https://golatindance.com/wp-content/uploads/2025/01/532545558_10161134596707553_8176822819478455485_n.jpg
END:VEVENT
BEGIN:VEVENT
DTSTART;TZID=Australia/Sydney:20251022T193000
DTEND;TZID=Australia/Sydney:20251022T193000
DTSTAMP:20260423T073321
CREATED:20250126T201924Z
LAST-MODIFIED:20260220T212014Z
UID:10332511-1761161400-1761161400@golatindance.com
SUMMARY:Latin Central Wednesdays
DESCRIPTION:Come and join Team Latin Central at The Rawson. Come join us for a dance . With Kizomba and Bachata upstairs. And the main room with awesome salsa beats.
URL:https://golatindance.com/event/salsa-bachata-kizomba-wednesdays/2025-10-22/
LOCATION:The Rawson\, Bar 100 George Street\, Sydney\, Australia
CATEGORIES:Sydney
ATTACH;FMTTYPE=image/jpeg:https://golatindance.com/wp-content/uploads/2025/01/532545558_10161134596707553_8176822819478455485_n.jpg
END:VEVENT
BEGIN:VEVENT
DTSTART;TZID=Australia/Sydney:20251015T193000
DTEND;TZID=Australia/Sydney:20251015T193000
DTSTAMP:20260423T073321
CREATED:20250126T201924Z
LAST-MODIFIED:20260220T212014Z
UID:10332510-1760556600-1760556600@golatindance.com
SUMMARY:Latin Central Wednesdays
DESCRIPTION:Come and join Team Latin Central at The Rawson. Come join us for a dance . With Kizomba and Bachata upstairs. And the main room with awesome salsa beats.
URL:https://golatindance.com/event/salsa-bachata-kizomba-wednesdays/2025-10-15/
LOCATION:The Rawson\, Bar 100 George Street\, Sydney\, Australia
CATEGORIES:Sydney
ATTACH;FMTTYPE=image/jpeg:https://golatindance.com/wp-content/uploads/2025/01/532545558_10161134596707553_8176822819478455485_n.jpg
END:VEVENT
BEGIN:VEVENT
DTSTART;TZID=Australia/Sydney:20251008T193000
DTEND;TZID=Australia/Sydney:20251008T193000
DTSTAMP:20260423T073321
CREATED:20250126T201924Z
LAST-MODIFIED:20260220T212014Z
UID:10332509-1759951800-1759951800@golatindance.com
SUMMARY:Latin Central Wednesdays
DESCRIPTION:Come and join Team Latin Central at The Rawson. Come join us for a dance . With Kizomba and Bachata upstairs. And the main room with awesome salsa beats.
URL:https://golatindance.com/event/salsa-bachata-kizomba-wednesdays/2025-10-08/
LOCATION:The Rawson\, Bar 100 George Street\, Sydney\, Australia
CATEGORIES:Sydney
ATTACH;FMTTYPE=image/jpeg:https://golatindance.com/wp-content/uploads/2025/01/532545558_10161134596707553_8176822819478455485_n.jpg
END:VEVENT
BEGIN:VEVENT
DTSTART;TZID=Australia/Sydney:20251001T193000
DTEND;TZID=Australia/Sydney:20251001T193000
DTSTAMP:20260423T073321
CREATED:20250126T201924Z
LAST-MODIFIED:20260220T212014Z
UID:10332508-1759347000-1759347000@golatindance.com
SUMMARY:Latin Central Wednesdays
DESCRIPTION:Come and join Team Latin Central at The Rawson. Come join us for a dance . With Kizomba and Bachata upstairs. And the main room with awesome salsa beats.
URL:https://golatindance.com/event/salsa-bachata-kizomba-wednesdays/2025-10-01/
LOCATION:The Rawson\, Bar 100 George Street\, Sydney\, Australia
CATEGORIES:Sydney
ATTACH;FMTTYPE=image/jpeg:https://golatindance.com/wp-content/uploads/2025/01/532545558_10161134596707553_8176822819478455485_n.jpg
END:VEVENT
BEGIN:VEVENT
DTSTART;TZID=Australia/Sydney:20250924T193000
DTEND;TZID=Australia/Sydney:20250924T193000
DTSTAMP:20260423T073321
CREATED:20250126T201924Z
LAST-MODIFIED:20260220T212014Z
UID:10332507-1758742200-1758742200@golatindance.com
SUMMARY:Latin Central Wednesdays
DESCRIPTION:Come and join Team Latin Central at The Rawson. Come join us for a dance . With Kizomba and Bachata upstairs. And the main room with awesome salsa beats.
URL:https://golatindance.com/event/salsa-bachata-kizomba-wednesdays/2025-09-24/
LOCATION:The Rawson\, Bar 100 George Street\, Sydney\, Australia
CATEGORIES:Sydney
ATTACH;FMTTYPE=image/jpeg:https://golatindance.com/wp-content/uploads/2025/01/532545558_10161134596707553_8176822819478455485_n.jpg
END:VEVENT
BEGIN:VEVENT
DTSTART;TZID=Australia/Sydney:20250917T193000
DTEND;TZID=Australia/Sydney:20250917T193000
DTSTAMP:20260423T073321
CREATED:20250126T201924Z
LAST-MODIFIED:20260220T212014Z
UID:10332506-1758137400-1758137400@golatindance.com
SUMMARY:Latin Central Wednesdays
DESCRIPTION:Come and join Team Latin Central at The Rawson. Come join us for a dance . With Kizomba and Bachata upstairs. And the main room with awesome salsa beats.
URL:https://golatindance.com/event/salsa-bachata-kizomba-wednesdays/2025-09-17/
LOCATION:The Rawson\, Bar 100 George Street\, Sydney\, Australia
CATEGORIES:Sydney
ATTACH;FMTTYPE=image/jpeg:https://golatindance.com/wp-content/uploads/2025/01/532545558_10161134596707553_8176822819478455485_n.jpg
END:VEVENT
BEGIN:VEVENT
DTSTART;TZID=Australia/Sydney:20250910T193000
DTEND;TZID=Australia/Sydney:20250910T193000
DTSTAMP:20260423T073321
CREATED:20250126T201924Z
LAST-MODIFIED:20260220T212014Z
UID:10332505-1757532600-1757532600@golatindance.com
SUMMARY:Latin Central Wednesdays
DESCRIPTION:Come and join Team Latin Central at The Rawson. Come join us for a dance . With Kizomba and Bachata upstairs. And the main room with awesome salsa beats.
URL:https://golatindance.com/event/salsa-bachata-kizomba-wednesdays/2025-09-10/
LOCATION:The Rawson\, Bar 100 George Street\, Sydney\, Australia
CATEGORIES:Sydney
ATTACH;FMTTYPE=image/jpeg:https://golatindance.com/wp-content/uploads/2025/01/532545558_10161134596707553_8176822819478455485_n.jpg
END:VEVENT
BEGIN:VEVENT
DTSTART;TZID=Australia/Sydney:20250903T193000
DTEND;TZID=Australia/Sydney:20250903T193000
DTSTAMP:20260423T073321
CREATED:20250126T201924Z
LAST-MODIFIED:20260220T212014Z
UID:10332504-1756927800-1756927800@golatindance.com
SUMMARY:Latin Central Wednesdays
DESCRIPTION:Come and join Team Latin Central at The Rawson. Come join us for a dance . With Kizomba and Bachata upstairs. And the main room with awesome salsa beats.
URL:https://golatindance.com/event/salsa-bachata-kizomba-wednesdays/2025-09-03/
LOCATION:The Rawson\, Bar 100 George Street\, Sydney\, Australia
CATEGORIES:Sydney
ATTACH;FMTTYPE=image/jpeg:https://golatindance.com/wp-content/uploads/2025/01/532545558_10161134596707553_8176822819478455485_n.jpg
END:VEVENT
BEGIN:VEVENT
DTSTART;TZID=Australia/Sydney:20250827T193000
DTEND;TZID=Australia/Sydney:20250827T193000
DTSTAMP:20260423T073321
CREATED:20250126T201924Z
LAST-MODIFIED:20260220T212014Z
UID:10332503-1756323000-1756323000@golatindance.com
SUMMARY:Latin Central Wednesdays
DESCRIPTION:Come and join Team Latin Central at The Rawson. Come join us for a dance . With Kizomba and Bachata upstairs. And the main room with awesome salsa beats.
URL:https://golatindance.com/event/salsa-bachata-kizomba-wednesdays/2025-08-27/
LOCATION:The Rawson\, Bar 100 George Street\, Sydney\, Australia
CATEGORIES:Sydney
ATTACH;FMTTYPE=image/jpeg:https://golatindance.com/wp-content/uploads/2025/01/532545558_10161134596707553_8176822819478455485_n.jpg
END:VEVENT
BEGIN:VEVENT
DTSTART;TZID=Australia/Sydney:20250820T193000
DTEND;TZID=Australia/Sydney:20250820T193000
DTSTAMP:20260423T073321
CREATED:20250126T201924Z
LAST-MODIFIED:20260220T212014Z
UID:10332502-1755718200-1755718200@golatindance.com
SUMMARY:Latin Central Wednesdays
DESCRIPTION:Come and join Team Latin Central at The Rawson. Come join us for a dance . With Kizomba and Bachata upstairs. And the main room with awesome salsa beats.
URL:https://golatindance.com/event/salsa-bachata-kizomba-wednesdays/2025-08-20/
LOCATION:The Rawson\, Bar 100 George Street\, Sydney\, Australia
CATEGORIES:Sydney
ATTACH;FMTTYPE=image/jpeg:https://golatindance.com/wp-content/uploads/2025/01/532545558_10161134596707553_8176822819478455485_n.jpg
END:VEVENT
BEGIN:VEVENT
DTSTART;TZID=Australia/Sydney:20250813T193000
DTEND;TZID=Australia/Sydney:20250813T193000
DTSTAMP:20260423T073321
CREATED:20250126T201924Z
LAST-MODIFIED:20260220T212014Z
UID:10332501-1755113400-1755113400@golatindance.com
SUMMARY:Latin Central Wednesdays
DESCRIPTION:Come and join Team Latin Central at The Rawson. Come join us for a dance . With Kizomba and Bachata upstairs. And the main room with awesome salsa beats.
URL:https://golatindance.com/event/salsa-bachata-kizomba-wednesdays/2025-08-13/
LOCATION:The Rawson\, Bar 100 George Street\, Sydney\, Australia
CATEGORIES:Sydney
ATTACH;FMTTYPE=image/jpeg:https://golatindance.com/wp-content/uploads/2025/01/532545558_10161134596707553_8176822819478455485_n.jpg
END:VEVENT
BEGIN:VEVENT
DTSTART;TZID=Australia/Sydney:20250806T193000
DTEND;TZID=Australia/Sydney:20250806T193000
DTSTAMP:20260423T073321
CREATED:20250126T201924Z
LAST-MODIFIED:20260220T212014Z
UID:10332500-1754508600-1754508600@golatindance.com
SUMMARY:Latin Central Wednesdays
DESCRIPTION:Come and join Team Latin Central at The Rawson. Come join us for a dance . With Kizomba and Bachata upstairs. And the main room with awesome salsa beats.
URL:https://golatindance.com/event/salsa-bachata-kizomba-wednesdays/2025-08-06/
LOCATION:The Rawson\, Bar 100 George Street\, Sydney\, Australia
CATEGORIES:Sydney
ATTACH;FMTTYPE=image/jpeg:https://golatindance.com/wp-content/uploads/2025/01/532545558_10161134596707553_8176822819478455485_n.jpg
END:VEVENT
BEGIN:VEVENT
DTSTART;TZID=Australia/Sydney:20250730T193000
DTEND;TZID=Australia/Sydney:20250730T193000
DTSTAMP:20260423T073321
CREATED:20250126T201924Z
LAST-MODIFIED:20260220T212014Z
UID:10332499-1753903800-1753903800@golatindance.com
SUMMARY:Latin Central Wednesdays
DESCRIPTION:Come and join Team Latin Central at The Rawson. Come join us for a dance . With Kizomba and Bachata upstairs. And the main room with awesome salsa beats.
URL:https://golatindance.com/event/salsa-bachata-kizomba-wednesdays/2025-07-30/
LOCATION:The Rawson\, Bar 100 George Street\, Sydney\, Australia
CATEGORIES:Sydney
ATTACH;FMTTYPE=image/jpeg:https://golatindance.com/wp-content/uploads/2025/01/532545558_10161134596707553_8176822819478455485_n.jpg
END:VEVENT
BEGIN:VEVENT
DTSTART;TZID=Australia/Sydney:20250723T193000
DTEND;TZID=Australia/Sydney:20250723T193000
DTSTAMP:20260423T073321
CREATED:20250126T201924Z
LAST-MODIFIED:20260220T212014Z
UID:10332498-1753299000-1753299000@golatindance.com
SUMMARY:Latin Central Wednesdays
DESCRIPTION:Come and join Team Latin Central at The Rawson. Come join us for a dance . With Kizomba and Bachata upstairs. And the main room with awesome salsa beats.
URL:https://golatindance.com/event/salsa-bachata-kizomba-wednesdays/2025-07-23/
LOCATION:The Rawson\, Bar 100 George Street\, Sydney\, Australia
CATEGORIES:Sydney
ATTACH;FMTTYPE=image/jpeg:https://golatindance.com/wp-content/uploads/2025/01/532545558_10161134596707553_8176822819478455485_n.jpg
END:VEVENT
BEGIN:VEVENT
DTSTART;TZID=Australia/Sydney:20250716T193000
DTEND;TZID=Australia/Sydney:20250716T193000
DTSTAMP:20260423T073321
CREATED:20250126T201924Z
LAST-MODIFIED:20260220T212014Z
UID:10332497-1752694200-1752694200@golatindance.com
SUMMARY:Latin Central Wednesdays
DESCRIPTION:Come and join Team Latin Central at The Rawson. Come join us for a dance . With Kizomba and Bachata upstairs. And the main room with awesome salsa beats.
URL:https://golatindance.com/event/salsa-bachata-kizomba-wednesdays/2025-07-16/
LOCATION:The Rawson\, Bar 100 George Street\, Sydney\, Australia
CATEGORIES:Sydney
ATTACH;FMTTYPE=image/jpeg:https://golatindance.com/wp-content/uploads/2025/01/532545558_10161134596707553_8176822819478455485_n.jpg
END:VEVENT
BEGIN:VEVENT
DTSTART;TZID=Australia/Sydney:20250709T193000
DTEND;TZID=Australia/Sydney:20250709T193000
DTSTAMP:20260423T073321
CREATED:20250126T201924Z
LAST-MODIFIED:20260220T212014Z
UID:10332496-1752089400-1752089400@golatindance.com
SUMMARY:Latin Central Wednesdays
DESCRIPTION:Come and join Team Latin Central at The Rawson. Come join us for a dance . With Kizomba and Bachata upstairs. And the main room with awesome salsa beats.
URL:https://golatindance.com/event/salsa-bachata-kizomba-wednesdays/2025-07-09/
LOCATION:The Rawson\, Bar 100 George Street\, Sydney\, Australia
CATEGORIES:Sydney
ATTACH;FMTTYPE=image/jpeg:https://golatindance.com/wp-content/uploads/2025/01/532545558_10161134596707553_8176822819478455485_n.jpg
END:VEVENT
BEGIN:VEVENT
DTSTART;TZID=Australia/Sydney:20250702T193000
DTEND;TZID=Australia/Sydney:20250702T193000
DTSTAMP:20260423T073321
CREATED:20250126T201924Z
LAST-MODIFIED:20260220T212014Z
UID:10332495-1751484600-1751484600@golatindance.com
SUMMARY:Latin Central Wednesdays
DESCRIPTION:Come and join Team Latin Central at The Rawson. Come join us for a dance . With Kizomba and Bachata upstairs. And the main room with awesome salsa beats.
URL:https://golatindance.com/event/salsa-bachata-kizomba-wednesdays/2025-07-02/
LOCATION:The Rawson\, Bar 100 George Street\, Sydney\, Australia
CATEGORIES:Sydney
ATTACH;FMTTYPE=image/jpeg:https://golatindance.com/wp-content/uploads/2025/01/532545558_10161134596707553_8176822819478455485_n.jpg
END:VEVENT
BEGIN:VEVENT
DTSTART;TZID=Australia/Sydney:20250625T193000
DTEND;TZID=Australia/Sydney:20250625T193000
DTSTAMP:20260423T073321
CREATED:20250126T201924Z
LAST-MODIFIED:20260220T212014Z
UID:10332494-1750879800-1750879800@golatindance.com
SUMMARY:Latin Central Wednesdays
DESCRIPTION:Come and join Team Latin Central at The Rawson. Come join us for a dance . With Kizomba and Bachata upstairs. And the main room with awesome salsa beats.
URL:https://golatindance.com/event/salsa-bachata-kizomba-wednesdays/2025-06-25/
LOCATION:The Rawson\, Bar 100 George Street\, Sydney\, Australia
CATEGORIES:Sydney
ATTACH;FMTTYPE=image/jpeg:https://golatindance.com/wp-content/uploads/2025/01/532545558_10161134596707553_8176822819478455485_n.jpg
END:VEVENT
BEGIN:VEVENT
DTSTART;TZID=Australia/Sydney:20250618T193000
DTEND;TZID=Australia/Sydney:20250618T193000
DTSTAMP:20260423T073321
CREATED:20250126T201924Z
LAST-MODIFIED:20260220T212014Z
UID:10332493-1750275000-1750275000@golatindance.com
SUMMARY:Latin Central Wednesdays
DESCRIPTION:Come and join Team Latin Central at The Rawson. Come join us for a dance . With Kizomba and Bachata upstairs. And the main room with awesome salsa beats.
URL:https://golatindance.com/event/salsa-bachata-kizomba-wednesdays/2025-06-18/
LOCATION:The Rawson\, Bar 100 George Street\, Sydney\, Australia
CATEGORIES:Sydney
ATTACH;FMTTYPE=image/jpeg:https://golatindance.com/wp-content/uploads/2025/01/532545558_10161134596707553_8176822819478455485_n.jpg
END:VEVENT
BEGIN:VEVENT
DTSTART;TZID=Australia/Sydney:20250611T193000
DTEND;TZID=Australia/Sydney:20250611T193000
DTSTAMP:20260423T073321
CREATED:20250126T201924Z
LAST-MODIFIED:20260220T212014Z
UID:10332492-1749670200-1749670200@golatindance.com
SUMMARY:Latin Central Wednesdays
DESCRIPTION:Come and join Team Latin Central at The Rawson. Come join us for a dance . With Kizomba and Bachata upstairs. And the main room with awesome salsa beats.
URL:https://golatindance.com/event/salsa-bachata-kizomba-wednesdays/2025-06-11/
LOCATION:The Rawson\, Bar 100 George Street\, Sydney\, Australia
CATEGORIES:Sydney
ATTACH;FMTTYPE=image/jpeg:https://golatindance.com/wp-content/uploads/2025/01/532545558_10161134596707553_8176822819478455485_n.jpg
END:VEVENT
BEGIN:VEVENT
DTSTART;TZID=Australia/Sydney:20250604T193000
DTEND;TZID=Australia/Sydney:20250604T193000
DTSTAMP:20260423T073321
CREATED:20250126T201924Z
LAST-MODIFIED:20260220T212014Z
UID:10332491-1749065400-1749065400@golatindance.com
SUMMARY:Latin Central Wednesdays
DESCRIPTION:Come and join Team Latin Central at The Rawson. Come join us for a dance . With Kizomba and Bachata upstairs. And the main room with awesome salsa beats.
URL:https://golatindance.com/event/salsa-bachata-kizomba-wednesdays/2025-06-04/
LOCATION:The Rawson\, Bar 100 George Street\, Sydney\, Australia
CATEGORIES:Sydney
ATTACH;FMTTYPE=image/jpeg:https://golatindance.com/wp-content/uploads/2025/01/532545558_10161134596707553_8176822819478455485_n.jpg
END:VEVENT
BEGIN:VEVENT
DTSTART;TZID=Australia/Sydney:20250528T193000
DTEND;TZID=Australia/Sydney:20250528T193000
DTSTAMP:20260423T073321
CREATED:20250126T201924Z
LAST-MODIFIED:20260220T212014Z
UID:10332490-1748460600-1748460600@golatindance.com
SUMMARY:Latin Central Wednesdays
DESCRIPTION:Come and join Team Latin Central at The Rawson. Come join us for a dance . With Kizomba and Bachata upstairs. And the main room with awesome salsa beats.
URL:https://golatindance.com/event/salsa-bachata-kizomba-wednesdays/2025-05-28/
LOCATION:The Rawson\, Bar 100 George Street\, Sydney\, Australia
CATEGORIES:Sydney
ATTACH;FMTTYPE=image/jpeg:https://golatindance.com/wp-content/uploads/2025/01/532545558_10161134596707553_8176822819478455485_n.jpg
END:VEVENT
BEGIN:VEVENT
DTSTART;TZID=Australia/Sydney:20250521T193000
DTEND;TZID=Australia/Sydney:20250521T193000
DTSTAMP:20260423T073321
CREATED:20250126T201924Z
LAST-MODIFIED:20260220T212014Z
UID:10332489-1747855800-1747855800@golatindance.com
SUMMARY:Latin Central Wednesdays
DESCRIPTION:Come and join Team Latin Central at The Rawson. Come join us for a dance . With Kizomba and Bachata upstairs. And the main room with awesome salsa beats.
URL:https://golatindance.com/event/salsa-bachata-kizomba-wednesdays/2025-05-21/
LOCATION:The Rawson\, Bar 100 George Street\, Sydney\, Australia
CATEGORIES:Sydney
ATTACH;FMTTYPE=image/jpeg:https://golatindance.com/wp-content/uploads/2025/01/532545558_10161134596707553_8176822819478455485_n.jpg
END:VEVENT
END:VCALENDAR