BEGIN:VCALENDAR
VERSION:2.0
PRODID:-//GO Latin Dance - ECPv6.15.18//NONSGML v1.0//EN
CALSCALE:GREGORIAN
METHOD:PUBLISH
X-WR-CALNAME:GO Latin Dance
X-ORIGINAL-URL:https://golatindance.com
X-WR-CALDESC:Events for GO Latin Dance
REFRESH-INTERVAL;VALUE=DURATION:PT1H
X-Robots-Tag:noindex
X-PUBLISHED-TTL:PT1H
BEGIN:VTIMEZONE
TZID:America/New_York
BEGIN:DAYLIGHT
TZOFFSETFROM:-0500
TZOFFSETTO:-0400
TZNAME:EDT
DTSTART:20250309T070000
END:DAYLIGHT
BEGIN:STANDARD
TZOFFSETFROM:-0400
TZOFFSETTO:-0500
TZNAME:EST
DTSTART:20251102T060000
END:STANDARD
BEGIN:DAYLIGHT
TZOFFSETFROM:-0500
TZOFFSETTO:-0400
TZNAME:EDT
DTSTART:20260308T070000
END:DAYLIGHT
BEGIN:STANDARD
TZOFFSETFROM:-0400
TZOFFSETTO:-0500
TZNAME:EST
DTSTART:20261101T060000
END:STANDARD
BEGIN:DAYLIGHT
TZOFFSETFROM:-0500
TZOFFSETTO:-0400
TZNAME:EDT
DTSTART:20270314T070000
END:DAYLIGHT
BEGIN:STANDARD
TZOFFSETFROM:-0400
TZOFFSETTO:-0500
TZNAME:EST
DTSTART:20271107T060000
END:STANDARD
END:VTIMEZONE
BEGIN:VEVENT
DTSTART;TZID=America/New_York:20260205T200000
DTEND;TZID=America/New_York:20260205T230000
DTSTAMP:20260421T153438
CREATED:20260107T154157Z
LAST-MODIFIED:20260107T154157Z
UID:10430171-1770321600-1770332400@golatindance.com
SUMMARY:Live Salsa at the Rose Gaming Resort
DESCRIPTION:Wednesday nights at The Playbook Sports Bar + Grill are getting spicy! 💃 Join us from 8PM – 11PM for Rhythm & Rose Salsa Nights with live music from Grupo Quimbao latín band\, dance lessons and food & drink specials.
URL:https://golatindance.com/event/live-salsa-at-the-rose-gaming-resort-2-2/2026-02-05/
LOCATION:The Rose Gaming Resort\, 17680 Colonial Street\, Dumfries\, VA\, 22026\, United States
CATEGORIES:Washington DC-Baltimore
ATTACH;FMTTYPE=image/jpeg:https://golatindance.com/wp-content/uploads/2025/10/612204859_25874782055497753_585263275877237438_n.jpg
END:VEVENT
BEGIN:VEVENT
DTSTART;TZID=America/New_York:20260129T200000
DTEND;TZID=America/New_York:20260129T230000
DTSTAMP:20260421T153438
CREATED:20260107T154157Z
LAST-MODIFIED:20260107T154157Z
UID:10430170-1769716800-1769727600@golatindance.com
SUMMARY:Live Salsa at the Rose Gaming Resort
DESCRIPTION:Wednesday nights at The Playbook Sports Bar + Grill are getting spicy! 💃 Join us from 8PM – 11PM for Rhythm & Rose Salsa Nights with live music from Grupo Quimbao latín band\, dance lessons and food & drink specials.
URL:https://golatindance.com/event/live-salsa-at-the-rose-gaming-resort-2-2/2026-01-29/
LOCATION:The Rose Gaming Resort\, 17680 Colonial Street\, Dumfries\, VA\, 22026\, United States
CATEGORIES:Washington DC-Baltimore
ATTACH;FMTTYPE=image/jpeg:https://golatindance.com/wp-content/uploads/2025/10/612204859_25874782055497753_585263275877237438_n.jpg
END:VEVENT
BEGIN:VEVENT
DTSTART;TZID=America/New_York:20260122T200000
DTEND;TZID=America/New_York:20260122T230000
DTSTAMP:20260421T153438
CREATED:20260107T154157Z
LAST-MODIFIED:20260107T154157Z
UID:10430169-1769112000-1769122800@golatindance.com
SUMMARY:Live Salsa at the Rose Gaming Resort
DESCRIPTION:Wednesday nights at The Playbook Sports Bar + Grill are getting spicy! 💃 Join us from 8PM – 11PM for Rhythm & Rose Salsa Nights with live music from Grupo Quimbao latín band\, dance lessons and food & drink specials.
URL:https://golatindance.com/event/live-salsa-at-the-rose-gaming-resort-2-2/2026-01-22/
LOCATION:The Rose Gaming Resort\, 17680 Colonial Street\, Dumfries\, VA\, 22026\, United States
CATEGORIES:Washington DC-Baltimore
ATTACH;FMTTYPE=image/jpeg:https://golatindance.com/wp-content/uploads/2025/10/612204859_25874782055497753_585263275877237438_n.jpg
END:VEVENT
BEGIN:VEVENT
DTSTART;TZID=America/New_York:20260115T200000
DTEND;TZID=America/New_York:20260115T230000
DTSTAMP:20260421T153438
CREATED:20260107T154157Z
LAST-MODIFIED:20260107T154157Z
UID:10410112-1768507200-1768518000@golatindance.com
SUMMARY:Live Salsa at the Rose Gaming Resort
DESCRIPTION:Wednesday nights at The Playbook Sports Bar + Grill are getting spicy! 💃 Join us from 8PM – 11PM for Rhythm & Rose Salsa Nights with live music from Grupo Quimbao latín band\, dance lessons and food & drink specials.
URL:https://golatindance.com/event/live-salsa-at-the-rose-gaming-resort-2-2/2026-01-15/
LOCATION:The Rose Gaming Resort\, 17680 Colonial Street\, Dumfries\, VA\, 22026\, United States
CATEGORIES:Washington DC-Baltimore
ATTACH;FMTTYPE=image/jpeg:https://golatindance.com/wp-content/uploads/2025/10/612204859_25874782055497753_585263275877237438_n.jpg
END:VEVENT
BEGIN:VEVENT
DTSTART;TZID=America/New_York:20260108T200000
DTEND;TZID=America/New_York:20260108T230000
DTSTAMP:20260421T153438
CREATED:20260107T160958Z
LAST-MODIFIED:20260107T160958Z
UID:10410111-1767902400-1767913200@golatindance.com
SUMMARY:Live Salsa at the Rose Gaming Resort
DESCRIPTION:Thursday nights at The Playbook Sports Bar + Grill are getting spicy! 💃 Join us from 8PM – 11PM for Rhythm & Rose Salsa Nights with live music from Grupo Quimbao latín band\, dance lessons and food & drink specials.
URL:https://golatindance.com/event/live-salsa-at-the-rose-gaming-resort-2-3/
LOCATION:The Rose Gaming Resort\, 17680 Colonial Street\, Dumfries\, VA\, 22026\, United States
CATEGORIES:Washington DC-Baltimore
ATTACH;FMTTYPE=image/jpeg:https://golatindance.com/wp-content/uploads/2025/10/612204859_25874782055497753_585263275877237438_n.jpg
END:VEVENT
END:VCALENDAR