BEGIN:VCALENDAR
VERSION:2.0
PRODID:-//GO Latin Dance - ECPv6.15.18//NONSGML v1.0//EN
CALSCALE:GREGORIAN
METHOD:PUBLISH
X-ORIGINAL-URL:https://golatindance.com
X-WR-CALDESC:Events for GO Latin Dance
REFRESH-INTERVAL;VALUE=DURATION:PT1H
X-Robots-Tag:noindex
X-PUBLISHED-TTL:PT1H
BEGIN:VTIMEZONE
TZID:America/New_York
BEGIN:DAYLIGHT
TZOFFSETFROM:-0500
TZOFFSETTO:-0400
TZNAME:EDT
DTSTART:20250309T070000
END:DAYLIGHT
BEGIN:STANDARD
TZOFFSETFROM:-0400
TZOFFSETTO:-0500
TZNAME:EST
DTSTART:20251102T060000
END:STANDARD
BEGIN:DAYLIGHT
TZOFFSETFROM:-0500
TZOFFSETTO:-0400
TZNAME:EDT
DTSTART:20260308T070000
END:DAYLIGHT
BEGIN:STANDARD
TZOFFSETFROM:-0400
TZOFFSETTO:-0500
TZNAME:EST
DTSTART:20261101T060000
END:STANDARD
BEGIN:DAYLIGHT
TZOFFSETFROM:-0500
TZOFFSETTO:-0400
TZNAME:EDT
DTSTART:20270314T070000
END:DAYLIGHT
BEGIN:STANDARD
TZOFFSETFROM:-0400
TZOFFSETTO:-0500
TZNAME:EST
DTSTART:20271107T060000
END:STANDARD
BEGIN:DAYLIGHT
TZOFFSETFROM:-0500
TZOFFSETTO:-0400
TZNAME:EDT
DTSTART:20280312T070000
END:DAYLIGHT
BEGIN:STANDARD
TZOFFSETFROM:-0400
TZOFFSETTO:-0500
TZNAME:EST
DTSTART:20281105T060000
END:STANDARD
END:VTIMEZONE
BEGIN:VEVENT
DTSTART;TZID=America/New_York:20260910T200000
DTEND;TZID=America/New_York:20260910T230000
DTSTAMP:20260421T154043
CREATED:20260107T154157Z
LAST-MODIFIED:20260107T154157Z
UID:10430202-1789070400-1789081200@golatindance.com
SUMMARY:Live Salsa at the Rose Gaming Resort
DESCRIPTION:Wednesday nights at The Playbook Sports Bar + Grill are getting spicy! 💃 Join us from 8PM – 11PM for Rhythm & Rose Salsa Nights with live music from Grupo Quimbao latín band\, dance lessons and food & drink specials.
URL:https://golatindance.com/event/live-salsa-at-the-rose-gaming-resort-2-2/2026-09-10/
LOCATION:The Rose Gaming Resort\, 17680 Colonial Street\, Dumfries\, VA\, 22026\, United States
CATEGORIES:Washington DC-Baltimore
ATTACH;FMTTYPE=image/jpeg:https://golatindance.com/wp-content/uploads/2025/10/612204859_25874782055497753_585263275877237438_n.jpg
END:VEVENT
BEGIN:VEVENT
DTSTART;TZID=America/New_York:20260917T200000
DTEND;TZID=America/New_York:20260917T230000
DTSTAMP:20260421T154043
CREATED:20260107T154157Z
LAST-MODIFIED:20260107T154157Z
UID:10430203-1789675200-1789686000@golatindance.com
SUMMARY:Live Salsa at the Rose Gaming Resort
DESCRIPTION:Wednesday nights at The Playbook Sports Bar + Grill are getting spicy! 💃 Join us from 8PM – 11PM for Rhythm & Rose Salsa Nights with live music from Grupo Quimbao latín band\, dance lessons and food & drink specials.
URL:https://golatindance.com/event/live-salsa-at-the-rose-gaming-resort-2-2/2026-09-17/
LOCATION:The Rose Gaming Resort\, 17680 Colonial Street\, Dumfries\, VA\, 22026\, United States
CATEGORIES:Washington DC-Baltimore
ATTACH;FMTTYPE=image/jpeg:https://golatindance.com/wp-content/uploads/2025/10/612204859_25874782055497753_585263275877237438_n.jpg
END:VEVENT
BEGIN:VEVENT
DTSTART;TZID=America/New_York:20260924T200000
DTEND;TZID=America/New_York:20260924T230000
DTSTAMP:20260421T154043
CREATED:20260107T154157Z
LAST-MODIFIED:20260107T154157Z
UID:10430204-1790280000-1790290800@golatindance.com
SUMMARY:Live Salsa at the Rose Gaming Resort
DESCRIPTION:Wednesday nights at The Playbook Sports Bar + Grill are getting spicy! 💃 Join us from 8PM – 11PM for Rhythm & Rose Salsa Nights with live music from Grupo Quimbao latín band\, dance lessons and food & drink specials.
URL:https://golatindance.com/event/live-salsa-at-the-rose-gaming-resort-2-2/2026-09-24/
LOCATION:The Rose Gaming Resort\, 17680 Colonial Street\, Dumfries\, VA\, 22026\, United States
CATEGORIES:Washington DC-Baltimore
ATTACH;FMTTYPE=image/jpeg:https://golatindance.com/wp-content/uploads/2025/10/612204859_25874782055497753_585263275877237438_n.jpg
END:VEVENT
BEGIN:VEVENT
DTSTART;TZID=America/New_York:20261001T200000
DTEND;TZID=America/New_York:20261001T230000
DTSTAMP:20260421T154043
CREATED:20260107T154157Z
LAST-MODIFIED:20260107T154157Z
UID:10430205-1790884800-1790895600@golatindance.com
SUMMARY:Live Salsa at the Rose Gaming Resort
DESCRIPTION:Wednesday nights at The Playbook Sports Bar + Grill are getting spicy! 💃 Join us from 8PM – 11PM for Rhythm & Rose Salsa Nights with live music from Grupo Quimbao latín band\, dance lessons and food & drink specials.
URL:https://golatindance.com/event/live-salsa-at-the-rose-gaming-resort-2-2/2026-10-01/
LOCATION:The Rose Gaming Resort\, 17680 Colonial Street\, Dumfries\, VA\, 22026\, United States
CATEGORIES:Washington DC-Baltimore
ATTACH;FMTTYPE=image/jpeg:https://golatindance.com/wp-content/uploads/2025/10/612204859_25874782055497753_585263275877237438_n.jpg
END:VEVENT
BEGIN:VEVENT
DTSTART;TZID=America/New_York:20261008T200000
DTEND;TZID=America/New_York:20261008T230000
DTSTAMP:20260421T154043
CREATED:20260107T154157Z
LAST-MODIFIED:20260107T154157Z
UID:10430206-1791489600-1791500400@golatindance.com
SUMMARY:Live Salsa at the Rose Gaming Resort
DESCRIPTION:Wednesday nights at The Playbook Sports Bar + Grill are getting spicy! 💃 Join us from 8PM – 11PM for Rhythm & Rose Salsa Nights with live music from Grupo Quimbao latín band\, dance lessons and food & drink specials.
URL:https://golatindance.com/event/live-salsa-at-the-rose-gaming-resort-2-2/2026-10-08/
LOCATION:The Rose Gaming Resort\, 17680 Colonial Street\, Dumfries\, VA\, 22026\, United States
CATEGORIES:Washington DC-Baltimore
ATTACH;FMTTYPE=image/jpeg:https://golatindance.com/wp-content/uploads/2025/10/612204859_25874782055497753_585263275877237438_n.jpg
END:VEVENT
BEGIN:VEVENT
DTSTART;TZID=America/New_York:20261015T200000
DTEND;TZID=America/New_York:20261015T230000
DTSTAMP:20260421T154043
CREATED:20260107T154157Z
LAST-MODIFIED:20260107T154157Z
UID:10430207-1792094400-1792105200@golatindance.com
SUMMARY:Live Salsa at the Rose Gaming Resort
DESCRIPTION:Wednesday nights at The Playbook Sports Bar + Grill are getting spicy! 💃 Join us from 8PM – 11PM for Rhythm & Rose Salsa Nights with live music from Grupo Quimbao latín band\, dance lessons and food & drink specials.
URL:https://golatindance.com/event/live-salsa-at-the-rose-gaming-resort-2-2/2026-10-15/
LOCATION:The Rose Gaming Resort\, 17680 Colonial Street\, Dumfries\, VA\, 22026\, United States
CATEGORIES:Washington DC-Baltimore
ATTACH;FMTTYPE=image/jpeg:https://golatindance.com/wp-content/uploads/2025/10/612204859_25874782055497753_585263275877237438_n.jpg
END:VEVENT
BEGIN:VEVENT
DTSTART;TZID=America/New_York:20261022T200000
DTEND;TZID=America/New_York:20261022T230000
DTSTAMP:20260421T154043
CREATED:20260107T154157Z
LAST-MODIFIED:20260107T154157Z
UID:10430208-1792699200-1792710000@golatindance.com
SUMMARY:Live Salsa at the Rose Gaming Resort
DESCRIPTION:Wednesday nights at The Playbook Sports Bar + Grill are getting spicy! 💃 Join us from 8PM – 11PM for Rhythm & Rose Salsa Nights with live music from Grupo Quimbao latín band\, dance lessons and food & drink specials.
URL:https://golatindance.com/event/live-salsa-at-the-rose-gaming-resort-2-2/2026-10-22/
LOCATION:The Rose Gaming Resort\, 17680 Colonial Street\, Dumfries\, VA\, 22026\, United States
CATEGORIES:Washington DC-Baltimore
ATTACH;FMTTYPE=image/jpeg:https://golatindance.com/wp-content/uploads/2025/10/612204859_25874782055497753_585263275877237438_n.jpg
END:VEVENT
BEGIN:VEVENT
DTSTART;TZID=America/New_York:20261029T200000
DTEND;TZID=America/New_York:20261029T230000
DTSTAMP:20260421T154043
CREATED:20260107T154157Z
LAST-MODIFIED:20260107T154157Z
UID:10430209-1793304000-1793314800@golatindance.com
SUMMARY:Live Salsa at the Rose Gaming Resort
DESCRIPTION:Wednesday nights at The Playbook Sports Bar + Grill are getting spicy! 💃 Join us from 8PM – 11PM for Rhythm & Rose Salsa Nights with live music from Grupo Quimbao latín band\, dance lessons and food & drink specials.
URL:https://golatindance.com/event/live-salsa-at-the-rose-gaming-resort-2-2/2026-10-29/
LOCATION:The Rose Gaming Resort\, 17680 Colonial Street\, Dumfries\, VA\, 22026\, United States
CATEGORIES:Washington DC-Baltimore
ATTACH;FMTTYPE=image/jpeg:https://golatindance.com/wp-content/uploads/2025/10/612204859_25874782055497753_585263275877237438_n.jpg
END:VEVENT
BEGIN:VEVENT
DTSTART;TZID=America/New_York:20261105T200000
DTEND;TZID=America/New_York:20261105T230000
DTSTAMP:20260421T154043
CREATED:20260107T154157Z
LAST-MODIFIED:20260107T154157Z
UID:10430210-1793908800-1793919600@golatindance.com
SUMMARY:Live Salsa at the Rose Gaming Resort
DESCRIPTION:Wednesday nights at The Playbook Sports Bar + Grill are getting spicy! 💃 Join us from 8PM – 11PM for Rhythm & Rose Salsa Nights with live music from Grupo Quimbao latín band\, dance lessons and food & drink specials.
URL:https://golatindance.com/event/live-salsa-at-the-rose-gaming-resort-2-2/2026-11-05/
LOCATION:The Rose Gaming Resort\, 17680 Colonial Street\, Dumfries\, VA\, 22026\, United States
CATEGORIES:Washington DC-Baltimore
ATTACH;FMTTYPE=image/jpeg:https://golatindance.com/wp-content/uploads/2025/10/612204859_25874782055497753_585263275877237438_n.jpg
END:VEVENT
BEGIN:VEVENT
DTSTART;TZID=America/New_York:20261112T200000
DTEND;TZID=America/New_York:20261112T230000
DTSTAMP:20260421T154043
CREATED:20260107T154157Z
LAST-MODIFIED:20260107T154157Z
UID:10430211-1794513600-1794524400@golatindance.com
SUMMARY:Live Salsa at the Rose Gaming Resort
DESCRIPTION:Wednesday nights at The Playbook Sports Bar + Grill are getting spicy! 💃 Join us from 8PM – 11PM for Rhythm & Rose Salsa Nights with live music from Grupo Quimbao latín band\, dance lessons and food & drink specials.
URL:https://golatindance.com/event/live-salsa-at-the-rose-gaming-resort-2-2/2026-11-12/
LOCATION:The Rose Gaming Resort\, 17680 Colonial Street\, Dumfries\, VA\, 22026\, United States
CATEGORIES:Washington DC-Baltimore
ATTACH;FMTTYPE=image/jpeg:https://golatindance.com/wp-content/uploads/2025/10/612204859_25874782055497753_585263275877237438_n.jpg
END:VEVENT
BEGIN:VEVENT
DTSTART;TZID=America/New_York:20261119T200000
DTEND;TZID=America/New_York:20261119T230000
DTSTAMP:20260421T154043
CREATED:20260107T154157Z
LAST-MODIFIED:20260107T154157Z
UID:10430212-1795118400-1795129200@golatindance.com
SUMMARY:Live Salsa at the Rose Gaming Resort
DESCRIPTION:Wednesday nights at The Playbook Sports Bar + Grill are getting spicy! 💃 Join us from 8PM – 11PM for Rhythm & Rose Salsa Nights with live music from Grupo Quimbao latín band\, dance lessons and food & drink specials.
URL:https://golatindance.com/event/live-salsa-at-the-rose-gaming-resort-2-2/2026-11-19/
LOCATION:The Rose Gaming Resort\, 17680 Colonial Street\, Dumfries\, VA\, 22026\, United States
CATEGORIES:Washington DC-Baltimore
ATTACH;FMTTYPE=image/jpeg:https://golatindance.com/wp-content/uploads/2025/10/612204859_25874782055497753_585263275877237438_n.jpg
END:VEVENT
BEGIN:VEVENT
DTSTART;TZID=America/New_York:20261126T200000
DTEND;TZID=America/New_York:20261126T230000
DTSTAMP:20260421T154043
CREATED:20260107T154157Z
LAST-MODIFIED:20260107T154157Z
UID:10430213-1795723200-1795734000@golatindance.com
SUMMARY:Live Salsa at the Rose Gaming Resort
DESCRIPTION:Wednesday nights at The Playbook Sports Bar + Grill are getting spicy! 💃 Join us from 8PM – 11PM for Rhythm & Rose Salsa Nights with live music from Grupo Quimbao latín band\, dance lessons and food & drink specials.
URL:https://golatindance.com/event/live-salsa-at-the-rose-gaming-resort-2-2/2026-11-26/
LOCATION:The Rose Gaming Resort\, 17680 Colonial Street\, Dumfries\, VA\, 22026\, United States
CATEGORIES:Washington DC-Baltimore
ATTACH;FMTTYPE=image/jpeg:https://golatindance.com/wp-content/uploads/2025/10/612204859_25874782055497753_585263275877237438_n.jpg
END:VEVENT
BEGIN:VEVENT
DTSTART;TZID=America/New_York:20261203T200000
DTEND;TZID=America/New_York:20261203T230000
DTSTAMP:20260421T154043
CREATED:20260107T154157Z
LAST-MODIFIED:20260107T154157Z
UID:10430214-1796328000-1796338800@golatindance.com
SUMMARY:Live Salsa at the Rose Gaming Resort
DESCRIPTION:Wednesday nights at The Playbook Sports Bar + Grill are getting spicy! 💃 Join us from 8PM – 11PM for Rhythm & Rose Salsa Nights with live music from Grupo Quimbao latín band\, dance lessons and food & drink specials.
URL:https://golatindance.com/event/live-salsa-at-the-rose-gaming-resort-2-2/2026-12-03/
LOCATION:The Rose Gaming Resort\, 17680 Colonial Street\, Dumfries\, VA\, 22026\, United States
CATEGORIES:Washington DC-Baltimore
ATTACH;FMTTYPE=image/jpeg:https://golatindance.com/wp-content/uploads/2025/10/612204859_25874782055497753_585263275877237438_n.jpg
END:VEVENT
BEGIN:VEVENT
DTSTART;TZID=America/New_York:20261210T200000
DTEND;TZID=America/New_York:20261210T230000
DTSTAMP:20260421T154043
CREATED:20260107T154157Z
LAST-MODIFIED:20260107T154157Z
UID:10430215-1796932800-1796943600@golatindance.com
SUMMARY:Live Salsa at the Rose Gaming Resort
DESCRIPTION:Wednesday nights at The Playbook Sports Bar + Grill are getting spicy! 💃 Join us from 8PM – 11PM for Rhythm & Rose Salsa Nights with live music from Grupo Quimbao latín band\, dance lessons and food & drink specials.
URL:https://golatindance.com/event/live-salsa-at-the-rose-gaming-resort-2-2/2026-12-10/
LOCATION:The Rose Gaming Resort\, 17680 Colonial Street\, Dumfries\, VA\, 22026\, United States
CATEGORIES:Washington DC-Baltimore
ATTACH;FMTTYPE=image/jpeg:https://golatindance.com/wp-content/uploads/2025/10/612204859_25874782055497753_585263275877237438_n.jpg
END:VEVENT
BEGIN:VEVENT
DTSTART;TZID=America/New_York:20261217T200000
DTEND;TZID=America/New_York:20261217T230000
DTSTAMP:20260421T154043
CREATED:20260107T154157Z
LAST-MODIFIED:20260107T154157Z
UID:10430216-1797537600-1797548400@golatindance.com
SUMMARY:Live Salsa at the Rose Gaming Resort
DESCRIPTION:Wednesday nights at The Playbook Sports Bar + Grill are getting spicy! 💃 Join us from 8PM – 11PM for Rhythm & Rose Salsa Nights with live music from Grupo Quimbao latín band\, dance lessons and food & drink specials.
URL:https://golatindance.com/event/live-salsa-at-the-rose-gaming-resort-2-2/2026-12-17/
LOCATION:The Rose Gaming Resort\, 17680 Colonial Street\, Dumfries\, VA\, 22026\, United States
CATEGORIES:Washington DC-Baltimore
ATTACH;FMTTYPE=image/jpeg:https://golatindance.com/wp-content/uploads/2025/10/612204859_25874782055497753_585263275877237438_n.jpg
END:VEVENT
BEGIN:VEVENT
DTSTART;TZID=America/New_York:20261224T200000
DTEND;TZID=America/New_York:20261224T230000
DTSTAMP:20260421T154043
CREATED:20260107T154157Z
LAST-MODIFIED:20260107T154157Z
UID:10430217-1798142400-1798153200@golatindance.com
SUMMARY:Live Salsa at the Rose Gaming Resort
DESCRIPTION:Wednesday nights at The Playbook Sports Bar + Grill are getting spicy! 💃 Join us from 8PM – 11PM for Rhythm & Rose Salsa Nights with live music from Grupo Quimbao latín band\, dance lessons and food & drink specials.
URL:https://golatindance.com/event/live-salsa-at-the-rose-gaming-resort-2-2/2026-12-24/
LOCATION:The Rose Gaming Resort\, 17680 Colonial Street\, Dumfries\, VA\, 22026\, United States
CATEGORIES:Washington DC-Baltimore
ATTACH;FMTTYPE=image/jpeg:https://golatindance.com/wp-content/uploads/2025/10/612204859_25874782055497753_585263275877237438_n.jpg
END:VEVENT
BEGIN:VEVENT
DTSTART;TZID=America/New_York:20261231T200000
DTEND;TZID=America/New_York:20261231T230000
DTSTAMP:20260421T154043
CREATED:20260107T154157Z
LAST-MODIFIED:20260107T154157Z
UID:10430218-1798747200-1798758000@golatindance.com
SUMMARY:Live Salsa at the Rose Gaming Resort
DESCRIPTION:Wednesday nights at The Playbook Sports Bar + Grill are getting spicy! 💃 Join us from 8PM – 11PM for Rhythm & Rose Salsa Nights with live music from Grupo Quimbao latín band\, dance lessons and food & drink specials.
URL:https://golatindance.com/event/live-salsa-at-the-rose-gaming-resort-2-2/2026-12-31/
LOCATION:The Rose Gaming Resort\, 17680 Colonial Street\, Dumfries\, VA\, 22026\, United States
CATEGORIES:Washington DC-Baltimore
ATTACH;FMTTYPE=image/jpeg:https://golatindance.com/wp-content/uploads/2025/10/612204859_25874782055497753_585263275877237438_n.jpg
END:VEVENT
BEGIN:VEVENT
DTSTART;TZID=America/New_York:20270107T200000
DTEND;TZID=America/New_York:20270107T230000
DTSTAMP:20260421T154043
CREATED:20260107T154157Z
LAST-MODIFIED:20260107T154157Z
UID:10430219-1799352000-1799362800@golatindance.com
SUMMARY:Live Salsa at the Rose Gaming Resort
DESCRIPTION:Wednesday nights at The Playbook Sports Bar + Grill are getting spicy! 💃 Join us from 8PM – 11PM for Rhythm & Rose Salsa Nights with live music from Grupo Quimbao latín band\, dance lessons and food & drink specials.
URL:https://golatindance.com/event/live-salsa-at-the-rose-gaming-resort-2-2/2027-01-07/
LOCATION:The Rose Gaming Resort\, 17680 Colonial Street\, Dumfries\, VA\, 22026\, United States
CATEGORIES:Washington DC-Baltimore
ATTACH;FMTTYPE=image/jpeg:https://golatindance.com/wp-content/uploads/2025/10/612204859_25874782055497753_585263275877237438_n.jpg
END:VEVENT
BEGIN:VEVENT
DTSTART;TZID=America/New_York:20270114T200000
DTEND;TZID=America/New_York:20270114T230000
DTSTAMP:20260421T154043
CREATED:20260107T154157Z
LAST-MODIFIED:20260107T154157Z
UID:10430220-1799956800-1799967600@golatindance.com
SUMMARY:Live Salsa at the Rose Gaming Resort
DESCRIPTION:Wednesday nights at The Playbook Sports Bar + Grill are getting spicy! 💃 Join us from 8PM – 11PM for Rhythm & Rose Salsa Nights with live music from Grupo Quimbao latín band\, dance lessons and food & drink specials.
URL:https://golatindance.com/event/live-salsa-at-the-rose-gaming-resort-2-2/2027-01-14/
LOCATION:The Rose Gaming Resort\, 17680 Colonial Street\, Dumfries\, VA\, 22026\, United States
CATEGORIES:Washington DC-Baltimore
ATTACH;FMTTYPE=image/jpeg:https://golatindance.com/wp-content/uploads/2025/10/612204859_25874782055497753_585263275877237438_n.jpg
END:VEVENT
BEGIN:VEVENT
DTSTART;TZID=America/New_York:20270121T200000
DTEND;TZID=America/New_York:20270121T230000
DTSTAMP:20260421T154043
CREATED:20260107T154157Z
LAST-MODIFIED:20260107T154157Z
UID:10430221-1800561600-1800572400@golatindance.com
SUMMARY:Live Salsa at the Rose Gaming Resort
DESCRIPTION:Wednesday nights at The Playbook Sports Bar + Grill are getting spicy! 💃 Join us from 8PM – 11PM for Rhythm & Rose Salsa Nights with live music from Grupo Quimbao latín band\, dance lessons and food & drink specials.
URL:https://golatindance.com/event/live-salsa-at-the-rose-gaming-resort-2-2/2027-01-21/
LOCATION:The Rose Gaming Resort\, 17680 Colonial Street\, Dumfries\, VA\, 22026\, United States
CATEGORIES:Washington DC-Baltimore
ATTACH;FMTTYPE=image/jpeg:https://golatindance.com/wp-content/uploads/2025/10/612204859_25874782055497753_585263275877237438_n.jpg
END:VEVENT
BEGIN:VEVENT
DTSTART;TZID=America/New_York:20270128T200000
DTEND;TZID=America/New_York:20270128T230000
DTSTAMP:20260421T154043
CREATED:20260107T154157Z
LAST-MODIFIED:20260107T154157Z
UID:10430222-1801166400-1801177200@golatindance.com
SUMMARY:Live Salsa at the Rose Gaming Resort
DESCRIPTION:Wednesday nights at The Playbook Sports Bar + Grill are getting spicy! 💃 Join us from 8PM – 11PM for Rhythm & Rose Salsa Nights with live music from Grupo Quimbao latín band\, dance lessons and food & drink specials.
URL:https://golatindance.com/event/live-salsa-at-the-rose-gaming-resort-2-2/2027-01-28/
LOCATION:The Rose Gaming Resort\, 17680 Colonial Street\, Dumfries\, VA\, 22026\, United States
CATEGORIES:Washington DC-Baltimore
ATTACH;FMTTYPE=image/jpeg:https://golatindance.com/wp-content/uploads/2025/10/612204859_25874782055497753_585263275877237438_n.jpg
END:VEVENT
BEGIN:VEVENT
DTSTART;TZID=America/New_York:20270204T200000
DTEND;TZID=America/New_York:20270204T230000
DTSTAMP:20260421T154043
CREATED:20260107T154157Z
LAST-MODIFIED:20260107T154157Z
UID:10430223-1801771200-1801782000@golatindance.com
SUMMARY:Live Salsa at the Rose Gaming Resort
DESCRIPTION:Wednesday nights at The Playbook Sports Bar + Grill are getting spicy! 💃 Join us from 8PM – 11PM for Rhythm & Rose Salsa Nights with live music from Grupo Quimbao latín band\, dance lessons and food & drink specials.
URL:https://golatindance.com/event/live-salsa-at-the-rose-gaming-resort-2-2/2027-02-04/
LOCATION:The Rose Gaming Resort\, 17680 Colonial Street\, Dumfries\, VA\, 22026\, United States
CATEGORIES:Washington DC-Baltimore
ATTACH;FMTTYPE=image/jpeg:https://golatindance.com/wp-content/uploads/2025/10/612204859_25874782055497753_585263275877237438_n.jpg
END:VEVENT
BEGIN:VEVENT
DTSTART;TZID=America/New_York:20270211T200000
DTEND;TZID=America/New_York:20270211T230000
DTSTAMP:20260421T154043
CREATED:20260107T154157Z
LAST-MODIFIED:20260107T154157Z
UID:10430224-1802376000-1802386800@golatindance.com
SUMMARY:Live Salsa at the Rose Gaming Resort
DESCRIPTION:Wednesday nights at The Playbook Sports Bar + Grill are getting spicy! 💃 Join us from 8PM – 11PM for Rhythm & Rose Salsa Nights with live music from Grupo Quimbao latín band\, dance lessons and food & drink specials.
URL:https://golatindance.com/event/live-salsa-at-the-rose-gaming-resort-2-2/2027-02-11/
LOCATION:The Rose Gaming Resort\, 17680 Colonial Street\, Dumfries\, VA\, 22026\, United States
CATEGORIES:Washington DC-Baltimore
ATTACH;FMTTYPE=image/jpeg:https://golatindance.com/wp-content/uploads/2025/10/612204859_25874782055497753_585263275877237438_n.jpg
END:VEVENT
BEGIN:VEVENT
DTSTART;TZID=America/New_York:20270218T200000
DTEND;TZID=America/New_York:20270218T230000
DTSTAMP:20260421T154043
CREATED:20260107T154157Z
LAST-MODIFIED:20260107T154157Z
UID:10430225-1802980800-1802991600@golatindance.com
SUMMARY:Live Salsa at the Rose Gaming Resort
DESCRIPTION:Wednesday nights at The Playbook Sports Bar + Grill are getting spicy! 💃 Join us from 8PM – 11PM for Rhythm & Rose Salsa Nights with live music from Grupo Quimbao latín band\, dance lessons and food & drink specials.
URL:https://golatindance.com/event/live-salsa-at-the-rose-gaming-resort-2-2/2027-02-18/
LOCATION:The Rose Gaming Resort\, 17680 Colonial Street\, Dumfries\, VA\, 22026\, United States
CATEGORIES:Washington DC-Baltimore
ATTACH;FMTTYPE=image/jpeg:https://golatindance.com/wp-content/uploads/2025/10/612204859_25874782055497753_585263275877237438_n.jpg
END:VEVENT
BEGIN:VEVENT
DTSTART;TZID=America/New_York:20270225T200000
DTEND;TZID=America/New_York:20270225T230000
DTSTAMP:20260421T154043
CREATED:20260107T154157Z
LAST-MODIFIED:20260107T154157Z
UID:10430226-1803585600-1803596400@golatindance.com
SUMMARY:Live Salsa at the Rose Gaming Resort
DESCRIPTION:Wednesday nights at The Playbook Sports Bar + Grill are getting spicy! 💃 Join us from 8PM – 11PM for Rhythm & Rose Salsa Nights with live music from Grupo Quimbao latín band\, dance lessons and food & drink specials.
URL:https://golatindance.com/event/live-salsa-at-the-rose-gaming-resort-2-2/2027-02-25/
LOCATION:The Rose Gaming Resort\, 17680 Colonial Street\, Dumfries\, VA\, 22026\, United States
CATEGORIES:Washington DC-Baltimore
ATTACH;FMTTYPE=image/jpeg:https://golatindance.com/wp-content/uploads/2025/10/612204859_25874782055497753_585263275877237438_n.jpg
END:VEVENT
BEGIN:VEVENT
DTSTART;TZID=America/New_York:20270304T200000
DTEND;TZID=America/New_York:20270304T230000
DTSTAMP:20260421T154043
CREATED:20260107T154157Z
LAST-MODIFIED:20260107T154157Z
UID:10430227-1804190400-1804201200@golatindance.com
SUMMARY:Live Salsa at the Rose Gaming Resort
DESCRIPTION:Wednesday nights at The Playbook Sports Bar + Grill are getting spicy! 💃 Join us from 8PM – 11PM for Rhythm & Rose Salsa Nights with live music from Grupo Quimbao latín band\, dance lessons and food & drink specials.
URL:https://golatindance.com/event/live-salsa-at-the-rose-gaming-resort-2-2/2027-03-04/
LOCATION:The Rose Gaming Resort\, 17680 Colonial Street\, Dumfries\, VA\, 22026\, United States
CATEGORIES:Washington DC-Baltimore
ATTACH;FMTTYPE=image/jpeg:https://golatindance.com/wp-content/uploads/2025/10/612204859_25874782055497753_585263275877237438_n.jpg
END:VEVENT
BEGIN:VEVENT
DTSTART;TZID=America/New_York:20270311T200000
DTEND;TZID=America/New_York:20270311T230000
DTSTAMP:20260421T154043
CREATED:20260107T154157Z
LAST-MODIFIED:20260107T154157Z
UID:10430228-1804795200-1804806000@golatindance.com
SUMMARY:Live Salsa at the Rose Gaming Resort
DESCRIPTION:Wednesday nights at The Playbook Sports Bar + Grill are getting spicy! 💃 Join us from 8PM – 11PM for Rhythm & Rose Salsa Nights with live music from Grupo Quimbao latín band\, dance lessons and food & drink specials.
URL:https://golatindance.com/event/live-salsa-at-the-rose-gaming-resort-2-2/2027-03-11/
LOCATION:The Rose Gaming Resort\, 17680 Colonial Street\, Dumfries\, VA\, 22026\, United States
CATEGORIES:Washington DC-Baltimore
ATTACH;FMTTYPE=image/jpeg:https://golatindance.com/wp-content/uploads/2025/10/612204859_25874782055497753_585263275877237438_n.jpg
END:VEVENT
BEGIN:VEVENT
DTSTART;TZID=America/New_York:20270318T200000
DTEND;TZID=America/New_York:20270318T230000
DTSTAMP:20260421T154043
CREATED:20260107T154157Z
LAST-MODIFIED:20260107T154157Z
UID:10430229-1805400000-1805410800@golatindance.com
SUMMARY:Live Salsa at the Rose Gaming Resort
DESCRIPTION:Wednesday nights at The Playbook Sports Bar + Grill are getting spicy! 💃 Join us from 8PM – 11PM for Rhythm & Rose Salsa Nights with live music from Grupo Quimbao latín band\, dance lessons and food & drink specials.
URL:https://golatindance.com/event/live-salsa-at-the-rose-gaming-resort-2-2/2027-03-18/
LOCATION:The Rose Gaming Resort\, 17680 Colonial Street\, Dumfries\, VA\, 22026\, United States
CATEGORIES:Washington DC-Baltimore
ATTACH;FMTTYPE=image/jpeg:https://golatindance.com/wp-content/uploads/2025/10/612204859_25874782055497753_585263275877237438_n.jpg
END:VEVENT
BEGIN:VEVENT
DTSTART;TZID=America/New_York:20270325T200000
DTEND;TZID=America/New_York:20270325T230000
DTSTAMP:20260421T154043
CREATED:20260107T154157Z
LAST-MODIFIED:20260107T154157Z
UID:10430230-1806004800-1806015600@golatindance.com
SUMMARY:Live Salsa at the Rose Gaming Resort
DESCRIPTION:Wednesday nights at The Playbook Sports Bar + Grill are getting spicy! 💃 Join us from 8PM – 11PM for Rhythm & Rose Salsa Nights with live music from Grupo Quimbao latín band\, dance lessons and food & drink specials.
URL:https://golatindance.com/event/live-salsa-at-the-rose-gaming-resort-2-2/2027-03-25/
LOCATION:The Rose Gaming Resort\, 17680 Colonial Street\, Dumfries\, VA\, 22026\, United States
CATEGORIES:Washington DC-Baltimore
ATTACH;FMTTYPE=image/jpeg:https://golatindance.com/wp-content/uploads/2025/10/612204859_25874782055497753_585263275877237438_n.jpg
END:VEVENT
BEGIN:VEVENT
DTSTART;TZID=America/New_York:20270401T200000
DTEND;TZID=America/New_York:20270401T230000
DTSTAMP:20260421T154043
CREATED:20260107T154157Z
LAST-MODIFIED:20260107T154157Z
UID:10430231-1806609600-1806620400@golatindance.com
SUMMARY:Live Salsa at the Rose Gaming Resort
DESCRIPTION:Wednesday nights at The Playbook Sports Bar + Grill are getting spicy! 💃 Join us from 8PM – 11PM for Rhythm & Rose Salsa Nights with live music from Grupo Quimbao latín band\, dance lessons and food & drink specials.
URL:https://golatindance.com/event/live-salsa-at-the-rose-gaming-resort-2-2/2027-04-01/
LOCATION:The Rose Gaming Resort\, 17680 Colonial Street\, Dumfries\, VA\, 22026\, United States
CATEGORIES:Washington DC-Baltimore
ATTACH;FMTTYPE=image/jpeg:https://golatindance.com/wp-content/uploads/2025/10/612204859_25874782055497753_585263275877237438_n.jpg
END:VEVENT
END:VCALENDAR