BEGIN:VCALENDAR
VERSION:2.0
PRODID:-//GO Latin Dance - ECPv6.15.18//NONSGML v1.0//EN
CALSCALE:GREGORIAN
METHOD:PUBLISH
X-ORIGINAL-URL:https://golatindance.com
X-WR-CALDESC:Events for GO Latin Dance
REFRESH-INTERVAL;VALUE=DURATION:PT1H
X-Robots-Tag:noindex
X-PUBLISHED-TTL:PT1H
BEGIN:VTIMEZONE
TZID:America/Los_Angeles
BEGIN:DAYLIGHT
TZOFFSETFROM:-0800
TZOFFSETTO:-0700
TZNAME:PDT
DTSTART:20240310T100000
END:DAYLIGHT
BEGIN:STANDARD
TZOFFSETFROM:-0700
TZOFFSETTO:-0800
TZNAME:PST
DTSTART:20241103T090000
END:STANDARD
BEGIN:DAYLIGHT
TZOFFSETFROM:-0800
TZOFFSETTO:-0700
TZNAME:PDT
DTSTART:20250309T100000
END:DAYLIGHT
BEGIN:STANDARD
TZOFFSETFROM:-0700
TZOFFSETTO:-0800
TZNAME:PST
DTSTART:20251102T090000
END:STANDARD
BEGIN:DAYLIGHT
TZOFFSETFROM:-0800
TZOFFSETTO:-0700
TZNAME:PDT
DTSTART:20260308T100000
END:DAYLIGHT
BEGIN:STANDARD
TZOFFSETFROM:-0700
TZOFFSETTO:-0800
TZNAME:PST
DTSTART:20261101T090000
END:STANDARD
END:VTIMEZONE
BEGIN:VEVENT
DTSTART;TZID=America/Los_Angeles:20250618T190000
DTEND;TZID=America/Los_Angeles:20250618T220000
DTSTAMP:20260424T170115
CREATED:20250506T164827Z
LAST-MODIFIED:20250506T164928Z
UID:10361644-1750273200-1750284000@golatindance.com
SUMMARY:Salsa and Bachata Wednesdays
DESCRIPTION:Salsa and Bachata Wednesdays. See flyer for details.
URL:https://golatindance.com/event/salsa-and-bachata-wednesdays/2025-06-18/
LOCATION:Tony Pepperoni Pizza\, 1860 University Dr\, Vista\, CA\, 92083\, United States
CATEGORIES:San Diego
ATTACH;FMTTYPE=image/png:https://golatindance.com/wp-content/uploads/2025/05/pizza.png
END:VEVENT
BEGIN:VEVENT
DTSTART;TZID=America/Los_Angeles:20250521T190000
DTEND;TZID=America/Los_Angeles:20250521T220000
DTSTAMP:20260424T170115
CREATED:20250506T164827Z
LAST-MODIFIED:20250506T164928Z
UID:10361643-1747854000-1747864800@golatindance.com
SUMMARY:Salsa and Bachata Wednesdays
DESCRIPTION:Salsa and Bachata Wednesdays. See flyer for details.
URL:https://golatindance.com/event/salsa-and-bachata-wednesdays/2025-05-21/
LOCATION:Tony Pepperoni Pizza\, 1860 University Dr\, Vista\, CA\, 92083\, United States
CATEGORIES:San Diego
ATTACH;FMTTYPE=image/png:https://golatindance.com/wp-content/uploads/2025/05/pizza.png
END:VEVENT
END:VCALENDAR