BEGIN:VCALENDAR
VERSION:2.0
PRODID:-//GO Latin Dance - ECPv6.15.18//NONSGML v1.0//EN
CALSCALE:GREGORIAN
METHOD:PUBLISH
X-WR-CALNAME:GO Latin Dance
X-ORIGINAL-URL:https://golatindance.com
X-WR-CALDESC:Events for GO Latin Dance
REFRESH-INTERVAL;VALUE=DURATION:PT1H
X-Robots-Tag:noindex
X-PUBLISHED-TTL:PT1H
BEGIN:VTIMEZONE
TZID:America/Los_Angeles
BEGIN:DAYLIGHT
TZOFFSETFROM:-0800
TZOFFSETTO:-0700
TZNAME:PDT
DTSTART:20270314T100000
END:DAYLIGHT
BEGIN:STANDARD
TZOFFSETFROM:-0700
TZOFFSETTO:-0800
TZNAME:PST
DTSTART:20271107T090000
END:STANDARD
BEGIN:DAYLIGHT
TZOFFSETFROM:-0800
TZOFFSETTO:-0700
TZNAME:PDT
DTSTART:20280312T100000
END:DAYLIGHT
BEGIN:STANDARD
TZOFFSETFROM:-0700
TZOFFSETTO:-0800
TZNAME:PST
DTSTART:20281105T090000
END:STANDARD
BEGIN:DAYLIGHT
TZOFFSETFROM:-0800
TZOFFSETTO:-0700
TZNAME:PDT
DTSTART:20290311T100000
END:DAYLIGHT
BEGIN:STANDARD
TZOFFSETFROM:-0700
TZOFFSETTO:-0800
TZNAME:PST
DTSTART:20291104T090000
END:STANDARD
BEGIN:DAYLIGHT
TZOFFSETFROM:-0800
TZOFFSETTO:-0700
TZNAME:PDT
DTSTART:20300310T100000
END:DAYLIGHT
BEGIN:STANDARD
TZOFFSETFROM:-0700
TZOFFSETTO:-0800
TZNAME:PST
DTSTART:20301103T090000
END:STANDARD
BEGIN:DAYLIGHT
TZOFFSETFROM:-0800
TZOFFSETTO:-0700
TZNAME:PDT
DTSTART:20310309T100000
END:DAYLIGHT
BEGIN:STANDARD
TZOFFSETFROM:-0700
TZOFFSETTO:-0800
TZNAME:PST
DTSTART:20311102T090000
END:STANDARD
END:VTIMEZONE
BEGIN:VEVENT
DTSTART;TZID=America/Los_Angeles:20281115T190000
DTEND;TZID=America/Los_Angeles:20281115T220000
DTSTAMP:20260424T183749
CREATED:20250506T164827Z
LAST-MODIFIED:20250506T164928Z
UID:10361685-1857927600-1857938400@golatindance.com
SUMMARY:Salsa and Bachata Wednesdays
DESCRIPTION:Salsa and Bachata Wednesdays. See flyer for details.
URL:https://golatindance.com/event/salsa-and-bachata-wednesdays/2028-11-15/
LOCATION:Tony Pepperoni Pizza\, 1860 University Dr\, Vista\, CA\, 92083\, United States
CATEGORIES:San Diego
ATTACH;FMTTYPE=image/png:https://golatindance.com/wp-content/uploads/2025/05/pizza.png
END:VEVENT
BEGIN:VEVENT
DTSTART;TZID=America/Los_Angeles:20281220T190000
DTEND;TZID=America/Los_Angeles:20281220T220000
DTSTAMP:20260424T183749
CREATED:20250506T164827Z
LAST-MODIFIED:20250506T164928Z
UID:10361686-1860951600-1860962400@golatindance.com
SUMMARY:Salsa and Bachata Wednesdays
DESCRIPTION:Salsa and Bachata Wednesdays. See flyer for details.
URL:https://golatindance.com/event/salsa-and-bachata-wednesdays/2028-12-20/
LOCATION:Tony Pepperoni Pizza\, 1860 University Dr\, Vista\, CA\, 92083\, United States
CATEGORIES:San Diego
ATTACH;FMTTYPE=image/png:https://golatindance.com/wp-content/uploads/2025/05/pizza.png
END:VEVENT
BEGIN:VEVENT
DTSTART;TZID=America/Los_Angeles:20290117T190000
DTEND;TZID=America/Los_Angeles:20290117T220000
DTSTAMP:20260424T183749
CREATED:20250506T164827Z
LAST-MODIFIED:20250506T164928Z
UID:10361687-1863370800-1863381600@golatindance.com
SUMMARY:Salsa and Bachata Wednesdays
DESCRIPTION:Salsa and Bachata Wednesdays. See flyer for details.
URL:https://golatindance.com/event/salsa-and-bachata-wednesdays/2029-01-17/
LOCATION:Tony Pepperoni Pizza\, 1860 University Dr\, Vista\, CA\, 92083\, United States
CATEGORIES:San Diego
ATTACH;FMTTYPE=image/png:https://golatindance.com/wp-content/uploads/2025/05/pizza.png
END:VEVENT
BEGIN:VEVENT
DTSTART;TZID=America/Los_Angeles:20290221T190000
DTEND;TZID=America/Los_Angeles:20290221T220000
DTSTAMP:20260424T183749
CREATED:20250506T164827Z
LAST-MODIFIED:20250506T164928Z
UID:10361688-1866394800-1866405600@golatindance.com
SUMMARY:Salsa and Bachata Wednesdays
DESCRIPTION:Salsa and Bachata Wednesdays. See flyer for details.
URL:https://golatindance.com/event/salsa-and-bachata-wednesdays/2029-02-21/
LOCATION:Tony Pepperoni Pizza\, 1860 University Dr\, Vista\, CA\, 92083\, United States
CATEGORIES:San Diego
ATTACH;FMTTYPE=image/png:https://golatindance.com/wp-content/uploads/2025/05/pizza.png
END:VEVENT
BEGIN:VEVENT
DTSTART;TZID=America/Los_Angeles:20290321T190000
DTEND;TZID=America/Los_Angeles:20290321T220000
DTSTAMP:20260424T183749
CREATED:20250506T164827Z
LAST-MODIFIED:20250506T164928Z
UID:10361689-1868814000-1868824800@golatindance.com
SUMMARY:Salsa and Bachata Wednesdays
DESCRIPTION:Salsa and Bachata Wednesdays. See flyer for details.
URL:https://golatindance.com/event/salsa-and-bachata-wednesdays/2029-03-21/
LOCATION:Tony Pepperoni Pizza\, 1860 University Dr\, Vista\, CA\, 92083\, United States
CATEGORIES:San Diego
ATTACH;FMTTYPE=image/png:https://golatindance.com/wp-content/uploads/2025/05/pizza.png
END:VEVENT
BEGIN:VEVENT
DTSTART;TZID=America/Los_Angeles:20290418T190000
DTEND;TZID=America/Los_Angeles:20290418T220000
DTSTAMP:20260424T183749
CREATED:20250506T164827Z
LAST-MODIFIED:20250506T164928Z
UID:10361690-1871233200-1871244000@golatindance.com
SUMMARY:Salsa and Bachata Wednesdays
DESCRIPTION:Salsa and Bachata Wednesdays. See flyer for details.
URL:https://golatindance.com/event/salsa-and-bachata-wednesdays/2029-04-18/
LOCATION:Tony Pepperoni Pizza\, 1860 University Dr\, Vista\, CA\, 92083\, United States
CATEGORIES:San Diego
ATTACH;FMTTYPE=image/png:https://golatindance.com/wp-content/uploads/2025/05/pizza.png
END:VEVENT
BEGIN:VEVENT
DTSTART;TZID=America/Los_Angeles:20290516T190000
DTEND;TZID=America/Los_Angeles:20290516T220000
DTSTAMP:20260424T183749
CREATED:20250506T164827Z
LAST-MODIFIED:20250506T164928Z
UID:10361691-1873652400-1873663200@golatindance.com
SUMMARY:Salsa and Bachata Wednesdays
DESCRIPTION:Salsa and Bachata Wednesdays. See flyer for details.
URL:https://golatindance.com/event/salsa-and-bachata-wednesdays/2029-05-16/
LOCATION:Tony Pepperoni Pizza\, 1860 University Dr\, Vista\, CA\, 92083\, United States
CATEGORIES:San Diego
ATTACH;FMTTYPE=image/png:https://golatindance.com/wp-content/uploads/2025/05/pizza.png
END:VEVENT
BEGIN:VEVENT
DTSTART;TZID=America/Los_Angeles:20290620T190000
DTEND;TZID=America/Los_Angeles:20290620T220000
DTSTAMP:20260424T183749
CREATED:20250506T164827Z
LAST-MODIFIED:20250506T164928Z
UID:10361692-1876676400-1876687200@golatindance.com
SUMMARY:Salsa and Bachata Wednesdays
DESCRIPTION:Salsa and Bachata Wednesdays. See flyer for details.
URL:https://golatindance.com/event/salsa-and-bachata-wednesdays/2029-06-20/
LOCATION:Tony Pepperoni Pizza\, 1860 University Dr\, Vista\, CA\, 92083\, United States
CATEGORIES:San Diego
ATTACH;FMTTYPE=image/png:https://golatindance.com/wp-content/uploads/2025/05/pizza.png
END:VEVENT
BEGIN:VEVENT
DTSTART;TZID=America/Los_Angeles:20290718T190000
DTEND;TZID=America/Los_Angeles:20290718T220000
DTSTAMP:20260424T183749
CREATED:20250506T164827Z
LAST-MODIFIED:20250506T164928Z
UID:10361693-1879095600-1879106400@golatindance.com
SUMMARY:Salsa and Bachata Wednesdays
DESCRIPTION:Salsa and Bachata Wednesdays. See flyer for details.
URL:https://golatindance.com/event/salsa-and-bachata-wednesdays/2029-07-18/
LOCATION:Tony Pepperoni Pizza\, 1860 University Dr\, Vista\, CA\, 92083\, United States
CATEGORIES:San Diego
ATTACH;FMTTYPE=image/png:https://golatindance.com/wp-content/uploads/2025/05/pizza.png
END:VEVENT
BEGIN:VEVENT
DTSTART;TZID=America/Los_Angeles:20290815T190000
DTEND;TZID=America/Los_Angeles:20290815T220000
DTSTAMP:20260424T183749
CREATED:20250506T164827Z
LAST-MODIFIED:20250506T164928Z
UID:10361694-1881514800-1881525600@golatindance.com
SUMMARY:Salsa and Bachata Wednesdays
DESCRIPTION:Salsa and Bachata Wednesdays. See flyer for details.
URL:https://golatindance.com/event/salsa-and-bachata-wednesdays/2029-08-15/
LOCATION:Tony Pepperoni Pizza\, 1860 University Dr\, Vista\, CA\, 92083\, United States
CATEGORIES:San Diego
ATTACH;FMTTYPE=image/png:https://golatindance.com/wp-content/uploads/2025/05/pizza.png
END:VEVENT
BEGIN:VEVENT
DTSTART;TZID=America/Los_Angeles:20290919T190000
DTEND;TZID=America/Los_Angeles:20290919T220000
DTSTAMP:20260424T183749
CREATED:20250506T164827Z
LAST-MODIFIED:20250506T164928Z
UID:10361695-1884538800-1884549600@golatindance.com
SUMMARY:Salsa and Bachata Wednesdays
DESCRIPTION:Salsa and Bachata Wednesdays. See flyer for details.
URL:https://golatindance.com/event/salsa-and-bachata-wednesdays/2029-09-19/
LOCATION:Tony Pepperoni Pizza\, 1860 University Dr\, Vista\, CA\, 92083\, United States
CATEGORIES:San Diego
ATTACH;FMTTYPE=image/png:https://golatindance.com/wp-content/uploads/2025/05/pizza.png
END:VEVENT
BEGIN:VEVENT
DTSTART;TZID=America/Los_Angeles:20291017T190000
DTEND;TZID=America/Los_Angeles:20291017T220000
DTSTAMP:20260424T183749
CREATED:20250506T164827Z
LAST-MODIFIED:20250506T164928Z
UID:10361696-1886958000-1886968800@golatindance.com
SUMMARY:Salsa and Bachata Wednesdays
DESCRIPTION:Salsa and Bachata Wednesdays. See flyer for details.
URL:https://golatindance.com/event/salsa-and-bachata-wednesdays/2029-10-17/
LOCATION:Tony Pepperoni Pizza\, 1860 University Dr\, Vista\, CA\, 92083\, United States
CATEGORIES:San Diego
ATTACH;FMTTYPE=image/png:https://golatindance.com/wp-content/uploads/2025/05/pizza.png
END:VEVENT
BEGIN:VEVENT
DTSTART;TZID=America/Los_Angeles:20291121T190000
DTEND;TZID=America/Los_Angeles:20291121T220000
DTSTAMP:20260424T183749
CREATED:20250506T164827Z
LAST-MODIFIED:20250506T164928Z
UID:10361697-1889982000-1889992800@golatindance.com
SUMMARY:Salsa and Bachata Wednesdays
DESCRIPTION:Salsa and Bachata Wednesdays. See flyer for details.
URL:https://golatindance.com/event/salsa-and-bachata-wednesdays/2029-11-21/
LOCATION:Tony Pepperoni Pizza\, 1860 University Dr\, Vista\, CA\, 92083\, United States
CATEGORIES:San Diego
ATTACH;FMTTYPE=image/png:https://golatindance.com/wp-content/uploads/2025/05/pizza.png
END:VEVENT
BEGIN:VEVENT
DTSTART;TZID=America/Los_Angeles:20291219T190000
DTEND;TZID=America/Los_Angeles:20291219T220000
DTSTAMP:20260424T183749
CREATED:20250506T164827Z
LAST-MODIFIED:20250506T164928Z
UID:10361698-1892401200-1892412000@golatindance.com
SUMMARY:Salsa and Bachata Wednesdays
DESCRIPTION:Salsa and Bachata Wednesdays. See flyer for details.
URL:https://golatindance.com/event/salsa-and-bachata-wednesdays/2029-12-19/
LOCATION:Tony Pepperoni Pizza\, 1860 University Dr\, Vista\, CA\, 92083\, United States
CATEGORIES:San Diego
ATTACH;FMTTYPE=image/png:https://golatindance.com/wp-content/uploads/2025/05/pizza.png
END:VEVENT
BEGIN:VEVENT
DTSTART;TZID=America/Los_Angeles:20300116T190000
DTEND;TZID=America/Los_Angeles:20300116T220000
DTSTAMP:20260424T183749
CREATED:20250506T164827Z
LAST-MODIFIED:20250506T164928Z
UID:10361699-1894820400-1894831200@golatindance.com
SUMMARY:Salsa and Bachata Wednesdays
DESCRIPTION:Salsa and Bachata Wednesdays. See flyer for details.
URL:https://golatindance.com/event/salsa-and-bachata-wednesdays/2030-01-16/
LOCATION:Tony Pepperoni Pizza\, 1860 University Dr\, Vista\, CA\, 92083\, United States
CATEGORIES:San Diego
ATTACH;FMTTYPE=image/png:https://golatindance.com/wp-content/uploads/2025/05/pizza.png
END:VEVENT
BEGIN:VEVENT
DTSTART;TZID=America/Los_Angeles:20300220T190000
DTEND;TZID=America/Los_Angeles:20300220T220000
DTSTAMP:20260424T183749
CREATED:20250506T164827Z
LAST-MODIFIED:20250506T164928Z
UID:10361700-1897844400-1897855200@golatindance.com
SUMMARY:Salsa and Bachata Wednesdays
DESCRIPTION:Salsa and Bachata Wednesdays. See flyer for details.
URL:https://golatindance.com/event/salsa-and-bachata-wednesdays/2030-02-20/
LOCATION:Tony Pepperoni Pizza\, 1860 University Dr\, Vista\, CA\, 92083\, United States
CATEGORIES:San Diego
ATTACH;FMTTYPE=image/png:https://golatindance.com/wp-content/uploads/2025/05/pizza.png
END:VEVENT
BEGIN:VEVENT
DTSTART;TZID=America/Los_Angeles:20300320T190000
DTEND;TZID=America/Los_Angeles:20300320T220000
DTSTAMP:20260424T183749
CREATED:20250506T164827Z
LAST-MODIFIED:20250506T164928Z
UID:10361701-1900263600-1900274400@golatindance.com
SUMMARY:Salsa and Bachata Wednesdays
DESCRIPTION:Salsa and Bachata Wednesdays. See flyer for details.
URL:https://golatindance.com/event/salsa-and-bachata-wednesdays/2030-03-20/
LOCATION:Tony Pepperoni Pizza\, 1860 University Dr\, Vista\, CA\, 92083\, United States
CATEGORIES:San Diego
ATTACH;FMTTYPE=image/png:https://golatindance.com/wp-content/uploads/2025/05/pizza.png
END:VEVENT
BEGIN:VEVENT
DTSTART;TZID=America/Los_Angeles:20300417T190000
DTEND;TZID=America/Los_Angeles:20300417T220000
DTSTAMP:20260424T183749
CREATED:20250506T164827Z
LAST-MODIFIED:20250506T164928Z
UID:10361702-1902682800-1902693600@golatindance.com
SUMMARY:Salsa and Bachata Wednesdays
DESCRIPTION:Salsa and Bachata Wednesdays. See flyer for details.
URL:https://golatindance.com/event/salsa-and-bachata-wednesdays/2030-04-17/
LOCATION:Tony Pepperoni Pizza\, 1860 University Dr\, Vista\, CA\, 92083\, United States
CATEGORIES:San Diego
ATTACH;FMTTYPE=image/png:https://golatindance.com/wp-content/uploads/2025/05/pizza.png
END:VEVENT
END:VCALENDAR