BEGIN:VCALENDAR
VERSION:2.0
PRODID:-//GO Latin Dance - ECPv6.15.18//NONSGML v1.0//EN
CALSCALE:GREGORIAN
METHOD:PUBLISH
X-ORIGINAL-URL:https://golatindance.com
X-WR-CALDESC:Events for GO Latin Dance
REFRESH-INTERVAL;VALUE=DURATION:PT1H
X-Robots-Tag:noindex
X-PUBLISHED-TTL:PT1H
BEGIN:VTIMEZONE
TZID:America/Los_Angeles
BEGIN:DAYLIGHT
TZOFFSETFROM:-0800
TZOFFSETTO:-0700
TZNAME:PDT
DTSTART:20230312T100000
END:DAYLIGHT
BEGIN:STANDARD
TZOFFSETFROM:-0700
TZOFFSETTO:-0800
TZNAME:PST
DTSTART:20231105T090000
END:STANDARD
BEGIN:DAYLIGHT
TZOFFSETFROM:-0800
TZOFFSETTO:-0700
TZNAME:PDT
DTSTART:20240310T100000
END:DAYLIGHT
BEGIN:STANDARD
TZOFFSETFROM:-0700
TZOFFSETTO:-0800
TZNAME:PST
DTSTART:20241103T090000
END:STANDARD
BEGIN:DAYLIGHT
TZOFFSETFROM:-0800
TZOFFSETTO:-0700
TZNAME:PDT
DTSTART:20250309T100000
END:DAYLIGHT
BEGIN:STANDARD
TZOFFSETFROM:-0700
TZOFFSETTO:-0800
TZNAME:PST
DTSTART:20251102T090000
END:STANDARD
BEGIN:DAYLIGHT
TZOFFSETFROM:-0800
TZOFFSETTO:-0700
TZNAME:PDT
DTSTART:20260308T100000
END:DAYLIGHT
BEGIN:STANDARD
TZOFFSETFROM:-0700
TZOFFSETTO:-0800
TZNAME:PST
DTSTART:20261101T090000
END:STANDARD
END:VTIMEZONE
BEGIN:VEVENT
DTSTART;TZID=America/Los_Angeles:20250525T190000
DTEND;TZID=America/Los_Angeles:20250525T233000
DTSTAMP:20260425T062216
CREATED:20240827T160504Z
LAST-MODIFIED:20241231T204520Z
UID:10305440-1748199600-1748215800@golatindance.com
SUMMARY:iHeart Mambo Social
DESCRIPTION:iHeartmambo Salsa Social\, 4th Sunday in the heart of San Francisco! Complimentary Beginner Salsa class at 7-8pm. Social dancing to live DJ from 8-11:30pm at Verdi Club. Entry is $15\, Salsa class at 7pm is included.
URL:https://golatindance.com/event/iheart-mambo-social/2025-05-25/
LOCATION:Verdi Club\, 2424 Mariposa St\, San Francisco\, CA\, 94110-1423\, US
CATEGORIES:San Francisco
END:VEVENT
BEGIN:VEVENT
DTSTART;TZID=America/Los_Angeles:20250427T190000
DTEND;TZID=America/Los_Angeles:20250427T233000
DTSTAMP:20260425T062216
CREATED:20240827T160504Z
LAST-MODIFIED:20241231T204520Z
UID:10305439-1745780400-1745796600@golatindance.com
SUMMARY:iHeart Mambo Social
DESCRIPTION:iHeartmambo Salsa Social\, 4th Sunday in the heart of San Francisco! Complimentary Beginner Salsa class at 7-8pm. Social dancing to live DJ from 8-11:30pm at Verdi Club. Entry is $15\, Salsa class at 7pm is included.
URL:https://golatindance.com/event/iheart-mambo-social/2025-04-27/
LOCATION:Verdi Club\, 2424 Mariposa St\, San Francisco\, CA\, 94110-1423\, US
CATEGORIES:San Francisco
END:VEVENT
BEGIN:VEVENT
DTSTART;TZID=America/Los_Angeles:20250323T190000
DTEND;TZID=America/Los_Angeles:20250323T233000
DTSTAMP:20260425T062216
CREATED:20240827T160504Z
LAST-MODIFIED:20241231T204520Z
UID:10305438-1742756400-1742772600@golatindance.com
SUMMARY:iHeart Mambo Social
DESCRIPTION:iHeartmambo Salsa Social\, 4th Sunday in the heart of San Francisco! Complimentary Beginner Salsa class at 7-8pm. Social dancing to live DJ from 8-11:30pm at Verdi Club. Entry is $15\, Salsa class at 7pm is included.
URL:https://golatindance.com/event/iheart-mambo-social/2025-03-23/
LOCATION:Verdi Club\, 2424 Mariposa St\, San Francisco\, CA\, 94110-1423\, US
CATEGORIES:San Francisco
END:VEVENT
BEGIN:VEVENT
DTSTART;TZID=America/Los_Angeles:20250223T190000
DTEND;TZID=America/Los_Angeles:20250223T233000
DTSTAMP:20260425T062216
CREATED:20240827T160504Z
LAST-MODIFIED:20241231T204520Z
UID:10305437-1740337200-1740353400@golatindance.com
SUMMARY:iHeart Mambo Social
DESCRIPTION:iHeartmambo Salsa Social\, 4th Sunday in the heart of San Francisco! Complimentary Beginner Salsa class at 7-8pm. Social dancing to live DJ from 8-11:30pm at Verdi Club. Entry is $15\, Salsa class at 7pm is included.
URL:https://golatindance.com/event/iheart-mambo-social/2025-02-23/
LOCATION:Verdi Club\, 2424 Mariposa St\, San Francisco\, CA\, 94110-1423\, US
CATEGORIES:San Francisco
END:VEVENT
BEGIN:VEVENT
DTSTART;TZID=America/Los_Angeles:20241222T190000
DTEND;TZID=America/Los_Angeles:20241222T233000
DTSTAMP:20260425T062216
CREATED:20240827T160504Z
LAST-MODIFIED:20241231T204520Z
UID:10324899-1734894000-1734910200@golatindance.com
SUMMARY:iHeart Mambo Social
DESCRIPTION:iHeartmambo Salsa Social\, 4th Sunday in the heart of San Francisco! Complimentary Beginner Salsa class at 7-8pm. Social dancing to live DJ from 8-11:30pm at Verdi Club. Entry is $15\, Salsa class at 7pm is included.
URL:https://golatindance.com/event/iheart-mambo-social/2024-12-22/
LOCATION:Verdi Club\, 2424 Mariposa St\, San Francisco\, CA\, 94110-1423\, US
CATEGORIES:San Francisco
END:VEVENT
BEGIN:VEVENT
DTSTART;TZID=America/Los_Angeles:20241124T190000
DTEND;TZID=America/Los_Angeles:20241124T233000
DTSTAMP:20260425T062216
CREATED:20240827T160504Z
LAST-MODIFIED:20241231T204520Z
UID:10305434-1732474800-1732491000@golatindance.com
SUMMARY:iHeart Mambo Social
DESCRIPTION:iHeartmambo Salsa Social\, 4th Sunday in the heart of San Francisco! Complimentary Beginner Salsa class at 7-8pm. Social dancing to live DJ from 8-11:30pm at Verdi Club. Entry is $15\, Salsa class at 7pm is included.
URL:https://golatindance.com/event/iheart-mambo-social/2024-11-24/
LOCATION:Verdi Club\, 2424 Mariposa St\, San Francisco\, CA\, 94110-1423\, US
CATEGORIES:San Francisco
END:VEVENT
BEGIN:VEVENT
DTSTART;TZID=America/Los_Angeles:20241027T190000
DTEND;TZID=America/Los_Angeles:20241027T233000
DTSTAMP:20260425T062216
CREATED:20240827T160504Z
LAST-MODIFIED:20241231T204520Z
UID:10305433-1730055600-1730071800@golatindance.com
SUMMARY:iHeart Mambo Social
DESCRIPTION:iHeartmambo Salsa Social\, 4th Sunday in the heart of San Francisco! Complimentary Beginner Salsa class at 7-8pm. Social dancing to live DJ from 8-11:30pm at Verdi Club. Entry is $15\, Salsa class at 7pm is included.
URL:https://golatindance.com/event/iheart-mambo-social/2024-10-27/
LOCATION:Verdi Club\, 2424 Mariposa St\, San Francisco\, CA\, 94110-1423\, US
CATEGORIES:San Francisco
END:VEVENT
END:VCALENDAR