BEGIN:VCALENDAR
VERSION:2.0
PRODID:-//GO Latin Dance - ECPv6.15.18//NONSGML v1.0//EN
CALSCALE:GREGORIAN
METHOD:PUBLISH
X-ORIGINAL-URL:https://golatindance.com
X-WR-CALDESC:Events for GO Latin Dance
REFRESH-INTERVAL;VALUE=DURATION:PT1H
X-Robots-Tag:noindex
X-PUBLISHED-TTL:PT1H
BEGIN:VTIMEZONE
TZID:America/Los_Angeles
BEGIN:DAYLIGHT
TZOFFSETFROM:-0800
TZOFFSETTO:-0700
TZNAME:PDT
DTSTART:20280312T100000
END:DAYLIGHT
BEGIN:STANDARD
TZOFFSETFROM:-0700
TZOFFSETTO:-0800
TZNAME:PST
DTSTART:20281105T090000
END:STANDARD
BEGIN:DAYLIGHT
TZOFFSETFROM:-0800
TZOFFSETTO:-0700
TZNAME:PDT
DTSTART:20290311T100000
END:DAYLIGHT
BEGIN:STANDARD
TZOFFSETFROM:-0700
TZOFFSETTO:-0800
TZNAME:PST
DTSTART:20291104T090000
END:STANDARD
BEGIN:DAYLIGHT
TZOFFSETFROM:-0800
TZOFFSETTO:-0700
TZNAME:PDT
DTSTART:20300310T100000
END:DAYLIGHT
BEGIN:STANDARD
TZOFFSETFROM:-0700
TZOFFSETTO:-0800
TZNAME:PST
DTSTART:20301103T090000
END:STANDARD
END:VTIMEZONE
BEGIN:VEVENT
DTSTART;TZID=America/Los_Angeles:20290826T190000
DTEND;TZID=America/Los_Angeles:20290826T233000
DTSTAMP:20260425T084343
CREATED:20240827T160504Z
LAST-MODIFIED:20241231T204520Z
UID:10305491-1882465200-1882481400@golatindance.com
SUMMARY:iHeart Mambo Social
DESCRIPTION:iHeartmambo Salsa Social\, 4th Sunday in the heart of San Francisco! Complimentary Beginner Salsa class at 7-8pm. Social dancing to live DJ from 8-11:30pm at Verdi Club. Entry is $15\, Salsa class at 7pm is included.
URL:https://golatindance.com/event/iheart-mambo-social/2029-08-26/
LOCATION:Verdi Club\, 2424 Mariposa St\, San Francisco\, CA\, 94110-1423\, US
CATEGORIES:San Francisco
END:VEVENT
BEGIN:VEVENT
DTSTART;TZID=America/Los_Angeles:20290923T190000
DTEND;TZID=America/Los_Angeles:20290923T233000
DTSTAMP:20260425T084343
CREATED:20240827T160504Z
LAST-MODIFIED:20241231T204520Z
UID:10305492-1884884400-1884900600@golatindance.com
SUMMARY:iHeart Mambo Social
DESCRIPTION:iHeartmambo Salsa Social\, 4th Sunday in the heart of San Francisco! Complimentary Beginner Salsa class at 7-8pm. Social dancing to live DJ from 8-11:30pm at Verdi Club. Entry is $15\, Salsa class at 7pm is included.
URL:https://golatindance.com/event/iheart-mambo-social/2029-09-23/
LOCATION:Verdi Club\, 2424 Mariposa St\, San Francisco\, CA\, 94110-1423\, US
CATEGORIES:San Francisco
END:VEVENT
BEGIN:VEVENT
DTSTART;TZID=America/Los_Angeles:20291028T190000
DTEND;TZID=America/Los_Angeles:20291028T233000
DTSTAMP:20260425T084343
CREATED:20240827T160504Z
LAST-MODIFIED:20241231T204520Z
UID:10312088-1887908400-1887924600@golatindance.com
SUMMARY:iHeart Mambo Social
DESCRIPTION:iHeartmambo Salsa Social\, 4th Sunday in the heart of San Francisco! Complimentary Beginner Salsa class at 7-8pm. Social dancing to live DJ from 8-11:30pm at Verdi Club. Entry is $15\, Salsa class at 7pm is included.
URL:https://golatindance.com/event/iheart-mambo-social/2029-10-28/
LOCATION:Verdi Club\, 2424 Mariposa St\, San Francisco\, CA\, 94110-1423\, US
CATEGORIES:San Francisco
END:VEVENT
BEGIN:VEVENT
DTSTART;TZID=America/Los_Angeles:20291125T190000
DTEND;TZID=America/Los_Angeles:20291125T233000
DTSTAMP:20260425T084343
CREATED:20240827T160504Z
LAST-MODIFIED:20241231T204520Z
UID:10318395-1890327600-1890343800@golatindance.com
SUMMARY:iHeart Mambo Social
DESCRIPTION:iHeartmambo Salsa Social\, 4th Sunday in the heart of San Francisco! Complimentary Beginner Salsa class at 7-8pm. Social dancing to live DJ from 8-11:30pm at Verdi Club. Entry is $15\, Salsa class at 7pm is included.
URL:https://golatindance.com/event/iheart-mambo-social/2029-11-25/
LOCATION:Verdi Club\, 2424 Mariposa St\, San Francisco\, CA\, 94110-1423\, US
CATEGORIES:San Francisco
END:VEVENT
BEGIN:VEVENT
DTSTART;TZID=America/Los_Angeles:20291223T190000
DTEND;TZID=America/Los_Angeles:20291223T233000
DTSTAMP:20260425T084343
CREATED:20240827T160504Z
LAST-MODIFIED:20241231T204520Z
UID:10324900-1892746800-1892763000@golatindance.com
SUMMARY:iHeart Mambo Social
DESCRIPTION:iHeartmambo Salsa Social\, 4th Sunday in the heart of San Francisco! Complimentary Beginner Salsa class at 7-8pm. Social dancing to live DJ from 8-11:30pm at Verdi Club. Entry is $15\, Salsa class at 7pm is included.
URL:https://golatindance.com/event/iheart-mambo-social/2029-12-23/
LOCATION:Verdi Club\, 2424 Mariposa St\, San Francisco\, CA\, 94110-1423\, US
CATEGORIES:San Francisco
END:VEVENT
END:VCALENDAR