BEGIN:VCALENDAR
VERSION:2.0
PRODID:-//GO Latin Dance - ECPv6.15.18//NONSGML v1.0//EN
CALSCALE:GREGORIAN
METHOD:PUBLISH
X-ORIGINAL-URL:https://golatindance.com
X-WR-CALDESC:Events for GO Latin Dance
REFRESH-INTERVAL;VALUE=DURATION:PT1H
X-Robots-Tag:noindex
X-PUBLISHED-TTL:PT1H
BEGIN:VTIMEZONE
TZID:America/Los_Angeles
BEGIN:DAYLIGHT
TZOFFSETFROM:-0800
TZOFFSETTO:-0700
TZNAME:PDT
DTSTART:20240310T100000
END:DAYLIGHT
BEGIN:STANDARD
TZOFFSETFROM:-0700
TZOFFSETTO:-0800
TZNAME:PST
DTSTART:20241103T090000
END:STANDARD
BEGIN:DAYLIGHT
TZOFFSETFROM:-0800
TZOFFSETTO:-0700
TZNAME:PDT
DTSTART:20250309T100000
END:DAYLIGHT
BEGIN:STANDARD
TZOFFSETFROM:-0700
TZOFFSETTO:-0800
TZNAME:PST
DTSTART:20251102T090000
END:STANDARD
BEGIN:DAYLIGHT
TZOFFSETFROM:-0800
TZOFFSETTO:-0700
TZNAME:PDT
DTSTART:20260308T100000
END:DAYLIGHT
BEGIN:STANDARD
TZOFFSETFROM:-0700
TZOFFSETTO:-0800
TZNAME:PST
DTSTART:20261101T090000
END:STANDARD
BEGIN:DAYLIGHT
TZOFFSETFROM:-0800
TZOFFSETTO:-0700
TZNAME:PDT
DTSTART:20270314T100000
END:DAYLIGHT
BEGIN:STANDARD
TZOFFSETFROM:-0700
TZOFFSETTO:-0800
TZNAME:PST
DTSTART:20271107T090000
END:STANDARD
END:VTIMEZONE
BEGIN:VEVENT
DTSTART;TZID=America/Los_Angeles:20260205T190000
DTEND;TZID=America/Los_Angeles:20260206T010000
DTSTAMP:20260421T090247
CREATED:20221108T050721Z
LAST-MODIFIED:20241231T210122Z
UID:10262633-1770318000-1770339600@golatindance.com
SUMMARY:Salsa Night at Vinnies
DESCRIPTION:Bachata/Salsa Classes @ 8pm\nParty @ 9pm -1 30 am
URL:https://golatindance.com/event/salsa-night-at-vinnies/2026-02-05/
LOCATION:Vinnie’s Bar And Grill\, 2045 Mount Diablo St\, Concord\, CA\, 94520\, United States
CATEGORIES:San Francisco
ATTACH;FMTTYPE=image/jpeg:https://golatindance.com/wp-content/uploads/2022/11/download.jpg
GEO:37.9778026;-122.0352218
X-APPLE-STRUCTURED-LOCATION;VALUE=URI;X-ADDRESS=Vinnie’s Bar And Grill 2045 Mount Diablo St Concord CA 94520 United States;X-APPLE-RADIUS=500;X-TITLE=2045 Mount Diablo St:geo:-122.0352218,37.9778026
END:VEVENT
BEGIN:VEVENT
DTSTART;TZID=America/Los_Angeles:20260129T190000
DTEND;TZID=America/Los_Angeles:20260130T010000
DTSTAMP:20260421T090247
CREATED:20221108T050721Z
LAST-MODIFIED:20241231T210122Z
UID:10262632-1769713200-1769734800@golatindance.com
SUMMARY:Salsa Night at Vinnies
DESCRIPTION:Bachata/Salsa Classes @ 8pm\nParty @ 9pm -1 30 am
URL:https://golatindance.com/event/salsa-night-at-vinnies/2026-01-29/
LOCATION:Vinnie’s Bar And Grill\, 2045 Mount Diablo St\, Concord\, CA\, 94520\, United States
CATEGORIES:San Francisco
ATTACH;FMTTYPE=image/jpeg:https://golatindance.com/wp-content/uploads/2022/11/download.jpg
GEO:37.9778026;-122.0352218
X-APPLE-STRUCTURED-LOCATION;VALUE=URI;X-ADDRESS=Vinnie’s Bar And Grill 2045 Mount Diablo St Concord CA 94520 United States;X-APPLE-RADIUS=500;X-TITLE=2045 Mount Diablo St:geo:-122.0352218,37.9778026
END:VEVENT
BEGIN:VEVENT
DTSTART;TZID=America/Los_Angeles:20260122T190000
DTEND;TZID=America/Los_Angeles:20260123T010000
DTSTAMP:20260421T090247
CREATED:20221108T050721Z
LAST-MODIFIED:20241231T210122Z
UID:10262631-1769108400-1769130000@golatindance.com
SUMMARY:Salsa Night at Vinnies
DESCRIPTION:Bachata/Salsa Classes @ 8pm\nParty @ 9pm -1 30 am
URL:https://golatindance.com/event/salsa-night-at-vinnies/2026-01-22/
LOCATION:Vinnie’s Bar And Grill\, 2045 Mount Diablo St\, Concord\, CA\, 94520\, United States
CATEGORIES:San Francisco
ATTACH;FMTTYPE=image/jpeg:https://golatindance.com/wp-content/uploads/2022/11/download.jpg
GEO:37.9778026;-122.0352218
X-APPLE-STRUCTURED-LOCATION;VALUE=URI;X-ADDRESS=Vinnie’s Bar And Grill 2045 Mount Diablo St Concord CA 94520 United States;X-APPLE-RADIUS=500;X-TITLE=2045 Mount Diablo St:geo:-122.0352218,37.9778026
END:VEVENT
BEGIN:VEVENT
DTSTART;TZID=America/Los_Angeles:20260115T190000
DTEND;TZID=America/Los_Angeles:20260116T010000
DTSTAMP:20260421T090247
CREATED:20221108T050721Z
LAST-MODIFIED:20241231T210122Z
UID:10262630-1768503600-1768525200@golatindance.com
SUMMARY:Salsa Night at Vinnies
DESCRIPTION:Bachata/Salsa Classes @ 8pm\nParty @ 9pm -1 30 am
URL:https://golatindance.com/event/salsa-night-at-vinnies/2026-01-15/
LOCATION:Vinnie’s Bar And Grill\, 2045 Mount Diablo St\, Concord\, CA\, 94520\, United States
CATEGORIES:San Francisco
ATTACH;FMTTYPE=image/jpeg:https://golatindance.com/wp-content/uploads/2022/11/download.jpg
GEO:37.9778026;-122.0352218
X-APPLE-STRUCTURED-LOCATION;VALUE=URI;X-ADDRESS=Vinnie’s Bar And Grill 2045 Mount Diablo St Concord CA 94520 United States;X-APPLE-RADIUS=500;X-TITLE=2045 Mount Diablo St:geo:-122.0352218,37.9778026
END:VEVENT
BEGIN:VEVENT
DTSTART;TZID=America/Los_Angeles:20260108T190000
DTEND;TZID=America/Los_Angeles:20260109T010000
DTSTAMP:20260421T090247
CREATED:20221108T050721Z
LAST-MODIFIED:20241231T210122Z
UID:10262629-1767898800-1767920400@golatindance.com
SUMMARY:Salsa Night at Vinnies
DESCRIPTION:Bachata/Salsa Classes @ 8pm\nParty @ 9pm -1 30 am
URL:https://golatindance.com/event/salsa-night-at-vinnies/2026-01-08/
LOCATION:Vinnie’s Bar And Grill\, 2045 Mount Diablo St\, Concord\, CA\, 94520\, United States
CATEGORIES:San Francisco
ATTACH;FMTTYPE=image/jpeg:https://golatindance.com/wp-content/uploads/2022/11/download.jpg
GEO:37.9778026;-122.0352218
X-APPLE-STRUCTURED-LOCATION;VALUE=URI;X-ADDRESS=Vinnie’s Bar And Grill 2045 Mount Diablo St Concord CA 94520 United States;X-APPLE-RADIUS=500;X-TITLE=2045 Mount Diablo St:geo:-122.0352218,37.9778026
END:VEVENT
BEGIN:VEVENT
DTSTART;TZID=America/Los_Angeles:20260101T190000
DTEND;TZID=America/Los_Angeles:20260102T010000
DTSTAMP:20260421T090247
CREATED:20221108T050721Z
LAST-MODIFIED:20241231T210122Z
UID:10262628-1767294000-1767315600@golatindance.com
SUMMARY:Salsa Night at Vinnies
DESCRIPTION:Bachata/Salsa Classes @ 8pm\nParty @ 9pm -1 30 am
URL:https://golatindance.com/event/salsa-night-at-vinnies/2026-01-01/
LOCATION:Vinnie’s Bar And Grill\, 2045 Mount Diablo St\, Concord\, CA\, 94520\, United States
CATEGORIES:San Francisco
ATTACH;FMTTYPE=image/jpeg:https://golatindance.com/wp-content/uploads/2022/11/download.jpg
GEO:37.9778026;-122.0352218
X-APPLE-STRUCTURED-LOCATION;VALUE=URI;X-ADDRESS=Vinnie’s Bar And Grill 2045 Mount Diablo St Concord CA 94520 United States;X-APPLE-RADIUS=500;X-TITLE=2045 Mount Diablo St:geo:-122.0352218,37.9778026
END:VEVENT
BEGIN:VEVENT
DTSTART;TZID=America/Los_Angeles:20251225T190000
DTEND;TZID=America/Los_Angeles:20251226T010000
DTSTAMP:20260421T090247
CREATED:20221108T050721Z
LAST-MODIFIED:20241231T210122Z
UID:10262627-1766689200-1766710800@golatindance.com
SUMMARY:Salsa Night at Vinnies
DESCRIPTION:Bachata/Salsa Classes @ 8pm\nParty @ 9pm -1 30 am
URL:https://golatindance.com/event/salsa-night-at-vinnies/2025-12-25/
LOCATION:Vinnie’s Bar And Grill\, 2045 Mount Diablo St\, Concord\, CA\, 94520\, United States
CATEGORIES:San Francisco
ATTACH;FMTTYPE=image/jpeg:https://golatindance.com/wp-content/uploads/2022/11/download.jpg
GEO:37.9778026;-122.0352218
X-APPLE-STRUCTURED-LOCATION;VALUE=URI;X-ADDRESS=Vinnie’s Bar And Grill 2045 Mount Diablo St Concord CA 94520 United States;X-APPLE-RADIUS=500;X-TITLE=2045 Mount Diablo St:geo:-122.0352218,37.9778026
END:VEVENT
BEGIN:VEVENT
DTSTART;TZID=America/Los_Angeles:20251218T190000
DTEND;TZID=America/Los_Angeles:20251219T010000
DTSTAMP:20260421T090247
CREATED:20221108T050721Z
LAST-MODIFIED:20241231T210122Z
UID:10262626-1766084400-1766106000@golatindance.com
SUMMARY:Salsa Night at Vinnies
DESCRIPTION:Bachata/Salsa Classes @ 8pm\nParty @ 9pm -1 30 am
URL:https://golatindance.com/event/salsa-night-at-vinnies/2025-12-18/
LOCATION:Vinnie’s Bar And Grill\, 2045 Mount Diablo St\, Concord\, CA\, 94520\, United States
CATEGORIES:San Francisco
ATTACH;FMTTYPE=image/jpeg:https://golatindance.com/wp-content/uploads/2022/11/download.jpg
GEO:37.9778026;-122.0352218
X-APPLE-STRUCTURED-LOCATION;VALUE=URI;X-ADDRESS=Vinnie’s Bar And Grill 2045 Mount Diablo St Concord CA 94520 United States;X-APPLE-RADIUS=500;X-TITLE=2045 Mount Diablo St:geo:-122.0352218,37.9778026
END:VEVENT
BEGIN:VEVENT
DTSTART;TZID=America/Los_Angeles:20251211T190000
DTEND;TZID=America/Los_Angeles:20251212T010000
DTSTAMP:20260421T090247
CREATED:20221108T050721Z
LAST-MODIFIED:20241231T210122Z
UID:10262625-1765479600-1765501200@golatindance.com
SUMMARY:Salsa Night at Vinnies
DESCRIPTION:Bachata/Salsa Classes @ 8pm\nParty @ 9pm -1 30 am
URL:https://golatindance.com/event/salsa-night-at-vinnies/2025-12-11/
LOCATION:Vinnie’s Bar And Grill\, 2045 Mount Diablo St\, Concord\, CA\, 94520\, United States
CATEGORIES:San Francisco
ATTACH;FMTTYPE=image/jpeg:https://golatindance.com/wp-content/uploads/2022/11/download.jpg
GEO:37.9778026;-122.0352218
X-APPLE-STRUCTURED-LOCATION;VALUE=URI;X-ADDRESS=Vinnie’s Bar And Grill 2045 Mount Diablo St Concord CA 94520 United States;X-APPLE-RADIUS=500;X-TITLE=2045 Mount Diablo St:geo:-122.0352218,37.9778026
END:VEVENT
BEGIN:VEVENT
DTSTART;TZID=America/Los_Angeles:20251204T190000
DTEND;TZID=America/Los_Angeles:20251205T010000
DTSTAMP:20260421T090247
CREATED:20221108T050721Z
LAST-MODIFIED:20241231T210122Z
UID:10262624-1764874800-1764896400@golatindance.com
SUMMARY:Salsa Night at Vinnies
DESCRIPTION:Bachata/Salsa Classes @ 8pm\nParty @ 9pm -1 30 am
URL:https://golatindance.com/event/salsa-night-at-vinnies/2025-12-04/
LOCATION:Vinnie’s Bar And Grill\, 2045 Mount Diablo St\, Concord\, CA\, 94520\, United States
CATEGORIES:San Francisco
ATTACH;FMTTYPE=image/jpeg:https://golatindance.com/wp-content/uploads/2022/11/download.jpg
GEO:37.9778026;-122.0352218
X-APPLE-STRUCTURED-LOCATION;VALUE=URI;X-ADDRESS=Vinnie’s Bar And Grill 2045 Mount Diablo St Concord CA 94520 United States;X-APPLE-RADIUS=500;X-TITLE=2045 Mount Diablo St:geo:-122.0352218,37.9778026
END:VEVENT
BEGIN:VEVENT
DTSTART;TZID=America/Los_Angeles:20251127T190000
DTEND;TZID=America/Los_Angeles:20251128T010000
DTSTAMP:20260421T090247
CREATED:20221108T050721Z
LAST-MODIFIED:20241231T210122Z
UID:10262623-1764270000-1764291600@golatindance.com
SUMMARY:Salsa Night at Vinnies
DESCRIPTION:Bachata/Salsa Classes @ 8pm\nParty @ 9pm -1 30 am
URL:https://golatindance.com/event/salsa-night-at-vinnies/2025-11-27/
LOCATION:Vinnie’s Bar And Grill\, 2045 Mount Diablo St\, Concord\, CA\, 94520\, United States
CATEGORIES:San Francisco
ATTACH;FMTTYPE=image/jpeg:https://golatindance.com/wp-content/uploads/2022/11/download.jpg
GEO:37.9778026;-122.0352218
X-APPLE-STRUCTURED-LOCATION;VALUE=URI;X-ADDRESS=Vinnie’s Bar And Grill 2045 Mount Diablo St Concord CA 94520 United States;X-APPLE-RADIUS=500;X-TITLE=2045 Mount Diablo St:geo:-122.0352218,37.9778026
END:VEVENT
BEGIN:VEVENT
DTSTART;TZID=America/Los_Angeles:20251120T190000
DTEND;TZID=America/Los_Angeles:20251121T010000
DTSTAMP:20260421T090247
CREATED:20221108T050721Z
LAST-MODIFIED:20241231T210122Z
UID:10262622-1763665200-1763686800@golatindance.com
SUMMARY:Salsa Night at Vinnies
DESCRIPTION:Bachata/Salsa Classes @ 8pm\nParty @ 9pm -1 30 am
URL:https://golatindance.com/event/salsa-night-at-vinnies/2025-11-20/
LOCATION:Vinnie’s Bar And Grill\, 2045 Mount Diablo St\, Concord\, CA\, 94520\, United States
CATEGORIES:San Francisco
ATTACH;FMTTYPE=image/jpeg:https://golatindance.com/wp-content/uploads/2022/11/download.jpg
GEO:37.9778026;-122.0352218
X-APPLE-STRUCTURED-LOCATION;VALUE=URI;X-ADDRESS=Vinnie’s Bar And Grill 2045 Mount Diablo St Concord CA 94520 United States;X-APPLE-RADIUS=500;X-TITLE=2045 Mount Diablo St:geo:-122.0352218,37.9778026
END:VEVENT
BEGIN:VEVENT
DTSTART;TZID=America/Los_Angeles:20251113T190000
DTEND;TZID=America/Los_Angeles:20251114T010000
DTSTAMP:20260421T090247
CREATED:20221108T050721Z
LAST-MODIFIED:20241231T210122Z
UID:10262621-1763060400-1763082000@golatindance.com
SUMMARY:Salsa Night at Vinnies
DESCRIPTION:Bachata/Salsa Classes @ 8pm\nParty @ 9pm -1 30 am
URL:https://golatindance.com/event/salsa-night-at-vinnies/2025-11-13/
LOCATION:Vinnie’s Bar And Grill\, 2045 Mount Diablo St\, Concord\, CA\, 94520\, United States
CATEGORIES:San Francisco
ATTACH;FMTTYPE=image/jpeg:https://golatindance.com/wp-content/uploads/2022/11/download.jpg
GEO:37.9778026;-122.0352218
X-APPLE-STRUCTURED-LOCATION;VALUE=URI;X-ADDRESS=Vinnie’s Bar And Grill 2045 Mount Diablo St Concord CA 94520 United States;X-APPLE-RADIUS=500;X-TITLE=2045 Mount Diablo St:geo:-122.0352218,37.9778026
END:VEVENT
BEGIN:VEVENT
DTSTART;TZID=America/Los_Angeles:20251106T190000
DTEND;TZID=America/Los_Angeles:20251107T010000
DTSTAMP:20260421T090247
CREATED:20221108T050721Z
LAST-MODIFIED:20241231T210122Z
UID:10262620-1762455600-1762477200@golatindance.com
SUMMARY:Salsa Night at Vinnies
DESCRIPTION:Bachata/Salsa Classes @ 8pm\nParty @ 9pm -1 30 am
URL:https://golatindance.com/event/salsa-night-at-vinnies/2025-11-06/
LOCATION:Vinnie’s Bar And Grill\, 2045 Mount Diablo St\, Concord\, CA\, 94520\, United States
CATEGORIES:San Francisco
ATTACH;FMTTYPE=image/jpeg:https://golatindance.com/wp-content/uploads/2022/11/download.jpg
GEO:37.9778026;-122.0352218
X-APPLE-STRUCTURED-LOCATION;VALUE=URI;X-ADDRESS=Vinnie’s Bar And Grill 2045 Mount Diablo St Concord CA 94520 United States;X-APPLE-RADIUS=500;X-TITLE=2045 Mount Diablo St:geo:-122.0352218,37.9778026
END:VEVENT
BEGIN:VEVENT
DTSTART;TZID=America/Los_Angeles:20251030T190000
DTEND;TZID=America/Los_Angeles:20251031T010000
DTSTAMP:20260421T090247
CREATED:20221108T050721Z
LAST-MODIFIED:20241231T210122Z
UID:10262619-1761850800-1761872400@golatindance.com
SUMMARY:Salsa Night at Vinnies
DESCRIPTION:Bachata/Salsa Classes @ 8pm\nParty @ 9pm -1 30 am
URL:https://golatindance.com/event/salsa-night-at-vinnies/2025-10-30/
LOCATION:Vinnie’s Bar And Grill\, 2045 Mount Diablo St\, Concord\, CA\, 94520\, United States
CATEGORIES:San Francisco
ATTACH;FMTTYPE=image/jpeg:https://golatindance.com/wp-content/uploads/2022/11/download.jpg
GEO:37.9778026;-122.0352218
X-APPLE-STRUCTURED-LOCATION;VALUE=URI;X-ADDRESS=Vinnie’s Bar And Grill 2045 Mount Diablo St Concord CA 94520 United States;X-APPLE-RADIUS=500;X-TITLE=2045 Mount Diablo St:geo:-122.0352218,37.9778026
END:VEVENT
BEGIN:VEVENT
DTSTART;TZID=America/Los_Angeles:20251023T190000
DTEND;TZID=America/Los_Angeles:20251024T010000
DTSTAMP:20260421T090247
CREATED:20221108T050721Z
LAST-MODIFIED:20241231T210122Z
UID:10262618-1761246000-1761267600@golatindance.com
SUMMARY:Salsa Night at Vinnies
DESCRIPTION:Bachata/Salsa Classes @ 8pm\nParty @ 9pm -1 30 am
URL:https://golatindance.com/event/salsa-night-at-vinnies/2025-10-23/
LOCATION:Vinnie’s Bar And Grill\, 2045 Mount Diablo St\, Concord\, CA\, 94520\, United States
CATEGORIES:San Francisco
ATTACH;FMTTYPE=image/jpeg:https://golatindance.com/wp-content/uploads/2022/11/download.jpg
GEO:37.9778026;-122.0352218
X-APPLE-STRUCTURED-LOCATION;VALUE=URI;X-ADDRESS=Vinnie’s Bar And Grill 2045 Mount Diablo St Concord CA 94520 United States;X-APPLE-RADIUS=500;X-TITLE=2045 Mount Diablo St:geo:-122.0352218,37.9778026
END:VEVENT
BEGIN:VEVENT
DTSTART;TZID=America/Los_Angeles:20251016T190000
DTEND;TZID=America/Los_Angeles:20251017T010000
DTSTAMP:20260421T090247
CREATED:20221108T050721Z
LAST-MODIFIED:20241231T210122Z
UID:10262617-1760641200-1760662800@golatindance.com
SUMMARY:Salsa Night at Vinnies
DESCRIPTION:Bachata/Salsa Classes @ 8pm\nParty @ 9pm -1 30 am
URL:https://golatindance.com/event/salsa-night-at-vinnies/2025-10-16/
LOCATION:Vinnie’s Bar And Grill\, 2045 Mount Diablo St\, Concord\, CA\, 94520\, United States
CATEGORIES:San Francisco
ATTACH;FMTTYPE=image/jpeg:https://golatindance.com/wp-content/uploads/2022/11/download.jpg
GEO:37.9778026;-122.0352218
X-APPLE-STRUCTURED-LOCATION;VALUE=URI;X-ADDRESS=Vinnie’s Bar And Grill 2045 Mount Diablo St Concord CA 94520 United States;X-APPLE-RADIUS=500;X-TITLE=2045 Mount Diablo St:geo:-122.0352218,37.9778026
END:VEVENT
BEGIN:VEVENT
DTSTART;TZID=America/Los_Angeles:20251009T190000
DTEND;TZID=America/Los_Angeles:20251010T010000
DTSTAMP:20260421T090247
CREATED:20221108T050721Z
LAST-MODIFIED:20241231T210122Z
UID:10262616-1760036400-1760058000@golatindance.com
SUMMARY:Salsa Night at Vinnies
DESCRIPTION:Bachata/Salsa Classes @ 8pm\nParty @ 9pm -1 30 am
URL:https://golatindance.com/event/salsa-night-at-vinnies/2025-10-09/
LOCATION:Vinnie’s Bar And Grill\, 2045 Mount Diablo St\, Concord\, CA\, 94520\, United States
CATEGORIES:San Francisco
ATTACH;FMTTYPE=image/jpeg:https://golatindance.com/wp-content/uploads/2022/11/download.jpg
GEO:37.9778026;-122.0352218
X-APPLE-STRUCTURED-LOCATION;VALUE=URI;X-ADDRESS=Vinnie’s Bar And Grill 2045 Mount Diablo St Concord CA 94520 United States;X-APPLE-RADIUS=500;X-TITLE=2045 Mount Diablo St:geo:-122.0352218,37.9778026
END:VEVENT
BEGIN:VEVENT
DTSTART;TZID=America/Los_Angeles:20251002T190000
DTEND;TZID=America/Los_Angeles:20251003T010000
DTSTAMP:20260421T090247
CREATED:20221108T050721Z
LAST-MODIFIED:20241231T210122Z
UID:10262615-1759431600-1759453200@golatindance.com
SUMMARY:Salsa Night at Vinnies
DESCRIPTION:Bachata/Salsa Classes @ 8pm\nParty @ 9pm -1 30 am
URL:https://golatindance.com/event/salsa-night-at-vinnies/2025-10-02/
LOCATION:Vinnie’s Bar And Grill\, 2045 Mount Diablo St\, Concord\, CA\, 94520\, United States
CATEGORIES:San Francisco
ATTACH;FMTTYPE=image/jpeg:https://golatindance.com/wp-content/uploads/2022/11/download.jpg
GEO:37.9778026;-122.0352218
X-APPLE-STRUCTURED-LOCATION;VALUE=URI;X-ADDRESS=Vinnie’s Bar And Grill 2045 Mount Diablo St Concord CA 94520 United States;X-APPLE-RADIUS=500;X-TITLE=2045 Mount Diablo St:geo:-122.0352218,37.9778026
END:VEVENT
BEGIN:VEVENT
DTSTART;TZID=America/Los_Angeles:20250925T190000
DTEND;TZID=America/Los_Angeles:20250926T010000
DTSTAMP:20260421T090247
CREATED:20221108T050721Z
LAST-MODIFIED:20241231T210122Z
UID:10262614-1758826800-1758848400@golatindance.com
SUMMARY:Salsa Night at Vinnies
DESCRIPTION:Bachata/Salsa Classes @ 8pm\nParty @ 9pm -1 30 am
URL:https://golatindance.com/event/salsa-night-at-vinnies/2025-09-25/
LOCATION:Vinnie’s Bar And Grill\, 2045 Mount Diablo St\, Concord\, CA\, 94520\, United States
CATEGORIES:San Francisco
ATTACH;FMTTYPE=image/jpeg:https://golatindance.com/wp-content/uploads/2022/11/download.jpg
GEO:37.9778026;-122.0352218
X-APPLE-STRUCTURED-LOCATION;VALUE=URI;X-ADDRESS=Vinnie’s Bar And Grill 2045 Mount Diablo St Concord CA 94520 United States;X-APPLE-RADIUS=500;X-TITLE=2045 Mount Diablo St:geo:-122.0352218,37.9778026
END:VEVENT
BEGIN:VEVENT
DTSTART;TZID=America/Los_Angeles:20250918T190000
DTEND;TZID=America/Los_Angeles:20250919T010000
DTSTAMP:20260421T090247
CREATED:20221108T050721Z
LAST-MODIFIED:20241231T210122Z
UID:10262613-1758222000-1758243600@golatindance.com
SUMMARY:Salsa Night at Vinnies
DESCRIPTION:Bachata/Salsa Classes @ 8pm\nParty @ 9pm -1 30 am
URL:https://golatindance.com/event/salsa-night-at-vinnies/2025-09-18/
LOCATION:Vinnie’s Bar And Grill\, 2045 Mount Diablo St\, Concord\, CA\, 94520\, United States
CATEGORIES:San Francisco
ATTACH;FMTTYPE=image/jpeg:https://golatindance.com/wp-content/uploads/2022/11/download.jpg
GEO:37.9778026;-122.0352218
X-APPLE-STRUCTURED-LOCATION;VALUE=URI;X-ADDRESS=Vinnie’s Bar And Grill 2045 Mount Diablo St Concord CA 94520 United States;X-APPLE-RADIUS=500;X-TITLE=2045 Mount Diablo St:geo:-122.0352218,37.9778026
END:VEVENT
BEGIN:VEVENT
DTSTART;TZID=America/Los_Angeles:20250911T190000
DTEND;TZID=America/Los_Angeles:20250912T010000
DTSTAMP:20260421T090247
CREATED:20221108T050721Z
LAST-MODIFIED:20241231T210122Z
UID:10262612-1757617200-1757638800@golatindance.com
SUMMARY:Salsa Night at Vinnies
DESCRIPTION:Bachata/Salsa Classes @ 8pm\nParty @ 9pm -1 30 am
URL:https://golatindance.com/event/salsa-night-at-vinnies/2025-09-11/
LOCATION:Vinnie’s Bar And Grill\, 2045 Mount Diablo St\, Concord\, CA\, 94520\, United States
CATEGORIES:San Francisco
ATTACH;FMTTYPE=image/jpeg:https://golatindance.com/wp-content/uploads/2022/11/download.jpg
GEO:37.9778026;-122.0352218
X-APPLE-STRUCTURED-LOCATION;VALUE=URI;X-ADDRESS=Vinnie’s Bar And Grill 2045 Mount Diablo St Concord CA 94520 United States;X-APPLE-RADIUS=500;X-TITLE=2045 Mount Diablo St:geo:-122.0352218,37.9778026
END:VEVENT
BEGIN:VEVENT
DTSTART;TZID=America/Los_Angeles:20250904T190000
DTEND;TZID=America/Los_Angeles:20250905T010000
DTSTAMP:20260421T090247
CREATED:20221108T050721Z
LAST-MODIFIED:20241231T210122Z
UID:10262611-1757012400-1757034000@golatindance.com
SUMMARY:Salsa Night at Vinnies
DESCRIPTION:Bachata/Salsa Classes @ 8pm\nParty @ 9pm -1 30 am
URL:https://golatindance.com/event/salsa-night-at-vinnies/2025-09-04/
LOCATION:Vinnie’s Bar And Grill\, 2045 Mount Diablo St\, Concord\, CA\, 94520\, United States
CATEGORIES:San Francisco
ATTACH;FMTTYPE=image/jpeg:https://golatindance.com/wp-content/uploads/2022/11/download.jpg
GEO:37.9778026;-122.0352218
X-APPLE-STRUCTURED-LOCATION;VALUE=URI;X-ADDRESS=Vinnie’s Bar And Grill 2045 Mount Diablo St Concord CA 94520 United States;X-APPLE-RADIUS=500;X-TITLE=2045 Mount Diablo St:geo:-122.0352218,37.9778026
END:VEVENT
BEGIN:VEVENT
DTSTART;TZID=America/Los_Angeles:20250828T190000
DTEND;TZID=America/Los_Angeles:20250829T010000
DTSTAMP:20260421T090247
CREATED:20221108T050721Z
LAST-MODIFIED:20241231T210122Z
UID:10262610-1756407600-1756429200@golatindance.com
SUMMARY:Salsa Night at Vinnies
DESCRIPTION:Bachata/Salsa Classes @ 8pm\nParty @ 9pm -1 30 am
URL:https://golatindance.com/event/salsa-night-at-vinnies/2025-08-28/
LOCATION:Vinnie’s Bar And Grill\, 2045 Mount Diablo St\, Concord\, CA\, 94520\, United States
CATEGORIES:San Francisco
ATTACH;FMTTYPE=image/jpeg:https://golatindance.com/wp-content/uploads/2022/11/download.jpg
GEO:37.9778026;-122.0352218
X-APPLE-STRUCTURED-LOCATION;VALUE=URI;X-ADDRESS=Vinnie’s Bar And Grill 2045 Mount Diablo St Concord CA 94520 United States;X-APPLE-RADIUS=500;X-TITLE=2045 Mount Diablo St:geo:-122.0352218,37.9778026
END:VEVENT
BEGIN:VEVENT
DTSTART;TZID=America/Los_Angeles:20250821T190000
DTEND;TZID=America/Los_Angeles:20250822T010000
DTSTAMP:20260421T090247
CREATED:20221108T050721Z
LAST-MODIFIED:20241231T210122Z
UID:10262609-1755802800-1755824400@golatindance.com
SUMMARY:Salsa Night at Vinnies
DESCRIPTION:Bachata/Salsa Classes @ 8pm\nParty @ 9pm -1 30 am
URL:https://golatindance.com/event/salsa-night-at-vinnies/2025-08-21/
LOCATION:Vinnie’s Bar And Grill\, 2045 Mount Diablo St\, Concord\, CA\, 94520\, United States
CATEGORIES:San Francisco
ATTACH;FMTTYPE=image/jpeg:https://golatindance.com/wp-content/uploads/2022/11/download.jpg
GEO:37.9778026;-122.0352218
X-APPLE-STRUCTURED-LOCATION;VALUE=URI;X-ADDRESS=Vinnie’s Bar And Grill 2045 Mount Diablo St Concord CA 94520 United States;X-APPLE-RADIUS=500;X-TITLE=2045 Mount Diablo St:geo:-122.0352218,37.9778026
END:VEVENT
BEGIN:VEVENT
DTSTART;TZID=America/Los_Angeles:20250814T190000
DTEND;TZID=America/Los_Angeles:20250815T010000
DTSTAMP:20260421T090247
CREATED:20221108T050721Z
LAST-MODIFIED:20241231T210122Z
UID:10262608-1755198000-1755219600@golatindance.com
SUMMARY:Salsa Night at Vinnies
DESCRIPTION:Bachata/Salsa Classes @ 8pm\nParty @ 9pm -1 30 am
URL:https://golatindance.com/event/salsa-night-at-vinnies/2025-08-14/
LOCATION:Vinnie’s Bar And Grill\, 2045 Mount Diablo St\, Concord\, CA\, 94520\, United States
CATEGORIES:San Francisco
ATTACH;FMTTYPE=image/jpeg:https://golatindance.com/wp-content/uploads/2022/11/download.jpg
GEO:37.9778026;-122.0352218
X-APPLE-STRUCTURED-LOCATION;VALUE=URI;X-ADDRESS=Vinnie’s Bar And Grill 2045 Mount Diablo St Concord CA 94520 United States;X-APPLE-RADIUS=500;X-TITLE=2045 Mount Diablo St:geo:-122.0352218,37.9778026
END:VEVENT
BEGIN:VEVENT
DTSTART;TZID=America/Los_Angeles:20250807T190000
DTEND;TZID=America/Los_Angeles:20250808T010000
DTSTAMP:20260421T090247
CREATED:20221108T050721Z
LAST-MODIFIED:20241231T210122Z
UID:10262607-1754593200-1754614800@golatindance.com
SUMMARY:Salsa Night at Vinnies
DESCRIPTION:Bachata/Salsa Classes @ 8pm\nParty @ 9pm -1 30 am
URL:https://golatindance.com/event/salsa-night-at-vinnies/2025-08-07/
LOCATION:Vinnie’s Bar And Grill\, 2045 Mount Diablo St\, Concord\, CA\, 94520\, United States
CATEGORIES:San Francisco
ATTACH;FMTTYPE=image/jpeg:https://golatindance.com/wp-content/uploads/2022/11/download.jpg
GEO:37.9778026;-122.0352218
X-APPLE-STRUCTURED-LOCATION;VALUE=URI;X-ADDRESS=Vinnie’s Bar And Grill 2045 Mount Diablo St Concord CA 94520 United States;X-APPLE-RADIUS=500;X-TITLE=2045 Mount Diablo St:geo:-122.0352218,37.9778026
END:VEVENT
BEGIN:VEVENT
DTSTART;TZID=America/Los_Angeles:20250731T190000
DTEND;TZID=America/Los_Angeles:20250801T010000
DTSTAMP:20260421T090247
CREATED:20221108T050721Z
LAST-MODIFIED:20241231T210122Z
UID:10262606-1753988400-1754010000@golatindance.com
SUMMARY:Salsa Night at Vinnies
DESCRIPTION:Bachata/Salsa Classes @ 8pm\nParty @ 9pm -1 30 am
URL:https://golatindance.com/event/salsa-night-at-vinnies/2025-07-31/
LOCATION:Vinnie’s Bar And Grill\, 2045 Mount Diablo St\, Concord\, CA\, 94520\, United States
CATEGORIES:San Francisco
ATTACH;FMTTYPE=image/jpeg:https://golatindance.com/wp-content/uploads/2022/11/download.jpg
GEO:37.9778026;-122.0352218
X-APPLE-STRUCTURED-LOCATION;VALUE=URI;X-ADDRESS=Vinnie’s Bar And Grill 2045 Mount Diablo St Concord CA 94520 United States;X-APPLE-RADIUS=500;X-TITLE=2045 Mount Diablo St:geo:-122.0352218,37.9778026
END:VEVENT
BEGIN:VEVENT
DTSTART;TZID=America/Los_Angeles:20250724T190000
DTEND;TZID=America/Los_Angeles:20250725T010000
DTSTAMP:20260421T090247
CREATED:20221108T050721Z
LAST-MODIFIED:20241231T210122Z
UID:10262605-1753383600-1753405200@golatindance.com
SUMMARY:Salsa Night at Vinnies
DESCRIPTION:Bachata/Salsa Classes @ 8pm\nParty @ 9pm -1 30 am
URL:https://golatindance.com/event/salsa-night-at-vinnies/2025-07-24/
LOCATION:Vinnie’s Bar And Grill\, 2045 Mount Diablo St\, Concord\, CA\, 94520\, United States
CATEGORIES:San Francisco
ATTACH;FMTTYPE=image/jpeg:https://golatindance.com/wp-content/uploads/2022/11/download.jpg
GEO:37.9778026;-122.0352218
X-APPLE-STRUCTURED-LOCATION;VALUE=URI;X-ADDRESS=Vinnie’s Bar And Grill 2045 Mount Diablo St Concord CA 94520 United States;X-APPLE-RADIUS=500;X-TITLE=2045 Mount Diablo St:geo:-122.0352218,37.9778026
END:VEVENT
BEGIN:VEVENT
DTSTART;TZID=America/Los_Angeles:20250717T190000
DTEND;TZID=America/Los_Angeles:20250718T010000
DTSTAMP:20260421T090247
CREATED:20221108T050721Z
LAST-MODIFIED:20241231T210122Z
UID:10262604-1752778800-1752800400@golatindance.com
SUMMARY:Salsa Night at Vinnies
DESCRIPTION:Bachata/Salsa Classes @ 8pm\nParty @ 9pm -1 30 am
URL:https://golatindance.com/event/salsa-night-at-vinnies/2025-07-17/
LOCATION:Vinnie’s Bar And Grill\, 2045 Mount Diablo St\, Concord\, CA\, 94520\, United States
CATEGORIES:San Francisco
ATTACH;FMTTYPE=image/jpeg:https://golatindance.com/wp-content/uploads/2022/11/download.jpg
GEO:37.9778026;-122.0352218
X-APPLE-STRUCTURED-LOCATION;VALUE=URI;X-ADDRESS=Vinnie’s Bar And Grill 2045 Mount Diablo St Concord CA 94520 United States;X-APPLE-RADIUS=500;X-TITLE=2045 Mount Diablo St:geo:-122.0352218,37.9778026
END:VEVENT
END:VCALENDAR